BEGIN:VCALENDAR
VERSION:2.0
PRODID:-//Murrayhill Recreation Association - ECPv6.15.17.1//NONSGML v1.0//EN
CALSCALE:GREGORIAN
METHOD:PUBLISH
X-ORIGINAL-URL:https://www.murrayhillrec.com
X-WR-CALDESC:Events for Murrayhill Recreation Association
REFRESH-INTERVAL;VALUE=DURATION:PT1H
X-Robots-Tag:noindex
X-PUBLISHED-TTL:PT1H
BEGIN:VTIMEZONE
TZID:America/Los_Angeles
BEGIN:DAYLIGHT
TZOFFSETFROM:-0800
TZOFFSETTO:-0700
TZNAME:PDT
DTSTART:20150308T100000
END:DAYLIGHT
BEGIN:STANDARD
TZOFFSETFROM:-0700
TZOFFSETTO:-0800
TZNAME:PST
DTSTART:20151101T090000
END:STANDARD
BEGIN:DAYLIGHT
TZOFFSETFROM:-0800
TZOFFSETTO:-0700
TZNAME:PDT
DTSTART:20160313T100000
END:DAYLIGHT
BEGIN:STANDARD
TZOFFSETFROM:-0700
TZOFFSETTO:-0800
TZNAME:PST
DTSTART:20161106T090000
END:STANDARD
BEGIN:DAYLIGHT
TZOFFSETFROM:-0800
TZOFFSETTO:-0700
TZNAME:PDT
DTSTART:20170312T100000
END:DAYLIGHT
BEGIN:STANDARD
TZOFFSETFROM:-0700
TZOFFSETTO:-0800
TZNAME:PST
DTSTART:20171105T090000
END:STANDARD
END:VTIMEZONE
BEGIN:VEVENT
DTSTART;TZID=America/Los_Angeles:20160121T183000
DTEND;TZID=America/Los_Angeles:20160121T183000
DTSTAMP:20260425T143102
CREATED:20151230T074829Z
LAST-MODIFIED:20160127T171045Z
UID:10000003-1453401000-1453401000@www.murrayhillrec.com
SUMMARY:Board Meeting - January
DESCRIPTION:6:30 refreshments 7:00 Call to order
URL:https://www.murrayhillrec.com/event/board-meeting-1-21-2016/
LOCATION:MRA Office\, 11010 SW Teal Boulevard\, Beaverton\, OR\, 97007\, United States
CATEGORIES:Board
ORGANIZER;CN="Kristin Kebbe":MAILTO:am@murrayhillrec.com
GEO:45.4401283;-122.8365483
X-APPLE-STRUCTURED-LOCATION;VALUE=URI;X-ADDRESS=MRA Office 11010 SW Teal Boulevard Beaverton OR 97007 United States;X-APPLE-RADIUS=500;X-TITLE=11010 SW Teal Boulevard:geo:-122.8365483,45.4401283
END:VEVENT
END:VCALENDAR