BEGIN:VCALENDAR
VERSION:2.0
PRODID:-//Murrayhill Recreation Association - ECPv6.15.17.1//NONSGML v1.0//EN
CALSCALE:GREGORIAN
METHOD:PUBLISH
X-ORIGINAL-URL:https://www.murrayhillrec.com
X-WR-CALDESC:Events for Murrayhill Recreation Association
REFRESH-INTERVAL;VALUE=DURATION:PT1H
X-Robots-Tag:noindex
X-PUBLISHED-TTL:PT1H
BEGIN:VTIMEZONE
TZID:America/Los_Angeles
BEGIN:DAYLIGHT
TZOFFSETFROM:-0800
TZOFFSETTO:-0700
TZNAME:PDT
DTSTART:20210314T100000
END:DAYLIGHT
BEGIN:STANDARD
TZOFFSETFROM:-0700
TZOFFSETTO:-0800
TZNAME:PST
DTSTART:20211107T090000
END:STANDARD
BEGIN:DAYLIGHT
TZOFFSETFROM:-0800
TZOFFSETTO:-0700
TZNAME:PDT
DTSTART:20220313T100000
END:DAYLIGHT
BEGIN:STANDARD
TZOFFSETFROM:-0700
TZOFFSETTO:-0800
TZNAME:PST
DTSTART:20221106T090000
END:STANDARD
BEGIN:DAYLIGHT
TZOFFSETFROM:-0800
TZOFFSETTO:-0700
TZNAME:PDT
DTSTART:20230312T100000
END:DAYLIGHT
BEGIN:STANDARD
TZOFFSETFROM:-0700
TZOFFSETTO:-0800
TZNAME:PST
DTSTART:20231105T090000
END:STANDARD
BEGIN:DAYLIGHT
TZOFFSETFROM:-0800
TZOFFSETTO:-0700
TZNAME:PDT
DTSTART:20240310T100000
END:DAYLIGHT
BEGIN:STANDARD
TZOFFSETFROM:-0700
TZOFFSETTO:-0800
TZNAME:PST
DTSTART:20241103T090000
END:STANDARD
BEGIN:DAYLIGHT
TZOFFSETFROM:-0800
TZOFFSETTO:-0700
TZNAME:PDT
DTSTART:20250309T100000
END:DAYLIGHT
BEGIN:STANDARD
TZOFFSETFROM:-0700
TZOFFSETTO:-0800
TZNAME:PST
DTSTART:20251102T090000
END:STANDARD
BEGIN:DAYLIGHT
TZOFFSETFROM:-0800
TZOFFSETTO:-0700
TZNAME:PDT
DTSTART:20260308T100000
END:DAYLIGHT
BEGIN:STANDARD
TZOFFSETFROM:-0700
TZOFFSETTO:-0800
TZNAME:PST
DTSTART:20261101T090000
END:STANDARD
BEGIN:DAYLIGHT
TZOFFSETFROM:-0800
TZOFFSETTO:-0700
TZNAME:PDT
DTSTART:20270314T100000
END:DAYLIGHT
BEGIN:STANDARD
TZOFFSETFROM:-0700
TZOFFSETTO:-0800
TZNAME:PST
DTSTART:20271107T090000
END:STANDARD
END:VTIMEZONE
BEGIN:VEVENT
DTSTART;TZID=America/Los_Angeles:20260421T183000
DTEND;TZID=America/Los_Angeles:20260421T203000
DTSTAMP:20260425T081626
CREATED:20260415T214434Z
LAST-MODIFIED:20260415T214835Z
UID:10000895-1776796200-1776803400@www.murrayhillrec.com
SUMMARY:Board of Directors Meeting
DESCRIPTION:
URL:https://www.murrayhillrec.com/event/board-of-directors-meeting-3/
LOCATION:Hometown Center\, 11010 SW Teal Blvd\, Beaverton\, OR\, 97007\, United States
CATEGORIES:Board,General
ORGANIZER;CN="Kristin Kebbe":MAILTO:am@murrayhillrec.com
GEO:45.4401283;-122.8365483
X-APPLE-STRUCTURED-LOCATION;VALUE=URI;X-ADDRESS=Hometown Center 11010 SW Teal Blvd Beaverton OR 97007 United States;X-APPLE-RADIUS=500;X-TITLE=11010 SW Teal Blvd:geo:-122.8365483,45.4401283
END:VEVENT
BEGIN:VEVENT
DTSTART;TZID=America/Los_Angeles:20260310T183000
DTEND;TZID=America/Los_Angeles:20260310T190000
DTSTAMP:20260425T081626
CREATED:20260227T224910Z
LAST-MODIFIED:20260227T230546Z
UID:10000884-1773167400-1773169200@www.murrayhillrec.com
SUMMARY:Annual Meeting
DESCRIPTION:Notice to all Owners of Record of the Murrayhill Recreation Association       \nAll Murrayhill Owners are hereby advised that the Annual Meeting of the Murrayhill Recreation Association is called as follows: \nDATE:  Tuesday\, March 10th 2025  \nTIME:   Call to Order at 6:45 P.M. \nPLACE: Murrayhill Hometown Center              \nTwo MRA Directors will be elected to serve a three-year term on the Board. The term of Meghan Rachmady and Susan Decker will be expiring as of the end of the meeting.  Meghan Rachmady and Susan Decker have been nominated for re-election.  \n                                                                 Annual Meeting Agenda   \n\nWelcome and Call to Order\nRoll Call\nProof of Notice of Meeting\nTax Revenue Ruling 70-604\nRead-In Motions\n\n\n2026 Budget\n\n\nOfficer’s Reports\n\nPresidents & Managers Report\nTreasurers Report\n\n\nElection of (2) Directors\nHomeowners Q &A\nAdjournment\n\nThank you for your participation.  \n 
URL:https://www.murrayhillrec.com/event/annual-meeting-4/
LOCATION:OR
CATEGORIES:Board,Hometown Center
ATTACH;FMTTYPE=image/png:https://www.murrayhillrec.com/wp-content/uploads/2024/02/annual-meeting.png
END:VEVENT
BEGIN:VEVENT
DTSTART;TZID=America/Los_Angeles:20260217T183000
DTEND;TZID=America/Los_Angeles:20260217T203000
DTSTAMP:20260425T081626
CREATED:20260212T220743Z
LAST-MODIFIED:20260212T220743Z
UID:10000877-1771353000-1771360200@www.murrayhillrec.com
SUMMARY:Monthly BOD Meeting
DESCRIPTION:
URL:https://www.murrayhillrec.com/event/monthly-bod-meeting-7/
LOCATION:OR
CATEGORIES:Board
END:VEVENT
BEGIN:VEVENT
DTSTART;TZID=America/Los_Angeles:20260116T110000
DTEND;TZID=America/Los_Angeles:20260116T140000
DTSTAMP:20260425T081626
CREATED:20251212T200935Z
LAST-MODIFIED:20251212T200935Z
UID:10000836-1768561200-1768572000@www.murrayhillrec.com
SUMMARY:HTC Reserved - Retirement Party for Pam
DESCRIPTION:
URL:https://www.murrayhillrec.com/event/htc-reserved-retirement-party-for-pam/
LOCATION:OR
CATEGORIES:Board,General,Hometown Center
END:VEVENT
BEGIN:VEVENT
DTSTART;TZID=America/Los_Angeles:20251117T183000
DTEND;TZID=America/Los_Angeles:20251117T200000
DTSTAMP:20260425T081626
CREATED:20251021T202421Z
LAST-MODIFIED:20251021T202421Z
UID:10000810-1763404200-1763409600@www.murrayhillrec.com
SUMMARY:November BOD Meeting
DESCRIPTION:6:30 PM
URL:https://www.murrayhillrec.com/event/november-bod-meeting/
LOCATION:OR
CATEGORIES:Board
END:VEVENT
BEGIN:VEVENT
DTSTART;TZID=America/Los_Angeles:20251014T183000
DTEND;TZID=America/Los_Angeles:20251014T203000
DTSTAMP:20260425T081626
CREATED:20250930T180820Z
LAST-MODIFIED:20251013T195631Z
UID:10000803-1760466600-1760473800@www.murrayhillrec.com
SUMMARY:BOD Monthly Meeting
DESCRIPTION:  \nDate: October 14\, 2025 \nTime:   6:30 pm Public Meeting \nLocation: MRA Office \n 
URL:https://www.murrayhillrec.com/event/bod-monthly-meeting-2/
LOCATION:OR
CATEGORIES:Board,General
END:VEVENT
BEGIN:VEVENT
DTSTART;TZID=America/Los_Angeles:20250916T183000
DTEND;TZID=America/Los_Angeles:20250916T190000
DTSTAMP:20260425T081626
CREATED:20250911T225453Z
LAST-MODIFIED:20250911T225453Z
UID:10000796-1758047400-1758049200@www.murrayhillrec.com
SUMMARY:Monthly BOD Meeting
DESCRIPTION:6:30 pm in the MRA Office
URL:https://www.murrayhillrec.com/event/monthly-bod-meeting-6/
LOCATION:OR
CATEGORIES:Board,General
END:VEVENT
BEGIN:VEVENT
DTSTART;TZID=America/Los_Angeles:20250819T183000
DTEND;TZID=America/Los_Angeles:20250819T190000
DTSTAMP:20260425T081626
CREATED:20250814T221541Z
LAST-MODIFIED:20250814T221541Z
UID:10000783-1755628200-1755630000@www.murrayhillrec.com
SUMMARY:August Board Meeting
DESCRIPTION:6:30 in the Office
URL:https://www.murrayhillrec.com/event/august-board-meeting-2/
LOCATION:Hometown Center\, 11010 SW Teal Blvd\, Beaverton\, OR\, 97007\, United States
CATEGORIES:Board
ORGANIZER;CN="Kristin Kebbe":MAILTO:am@murrayhillrec.com
GEO:45.4401283;-122.8365483
X-APPLE-STRUCTURED-LOCATION;VALUE=URI;X-ADDRESS=Hometown Center 11010 SW Teal Blvd Beaverton OR 97007 United States;X-APPLE-RADIUS=500;X-TITLE=11010 SW Teal Blvd:geo:-122.8365483,45.4401283
END:VEVENT
BEGIN:VEVENT
DTSTART;TZID=America/Los_Angeles:20250415T183000
DTEND;TZID=America/Los_Angeles:20250415T203000
DTSTAMP:20260425T081626
CREATED:20250219T004509Z
LAST-MODIFIED:20250219T004509Z
UID:10000720-1744741800-1744749000@www.murrayhillrec.com
SUMMARY:Monthly Board Meeting
DESCRIPTION:
URL:https://www.murrayhillrec.com/event/monthly-board-meeting-12/
LOCATION:OR
CATEGORIES:Board
END:VEVENT
BEGIN:VEVENT
DTSTART;TZID=America/Los_Angeles:20250326T170000
DTEND;TZID=America/Los_Angeles:20250326T210000
DTSTAMP:20260425T081626
CREATED:20250305T211203Z
LAST-MODIFIED:20250305T211203Z
UID:10000722-1743008400-1743022800@www.murrayhillrec.com
SUMMARY:MCHO Annual Meeting
DESCRIPTION:
URL:https://www.murrayhillrec.com/event/mcho-annual-meeting/
LOCATION:OR
CATEGORIES:Board,Hometown Center
END:VEVENT
BEGIN:VEVENT
DTSTART;TZID=America/Los_Angeles:20250320T180000
DTEND;TZID=America/Los_Angeles:20250320T200000
DTSTAMP:20260425T081626
CREATED:20250114T194500Z
LAST-MODIFIED:20250219T214147Z
UID:10000708-1742493600-1742500800@www.murrayhillrec.com
SUMMARY:Murrayhill Owners Association Annual Meeting
DESCRIPTION:Agenda TBA
URL:https://www.murrayhillrec.com/event/murrayhill-owners-association-annual-meeting/
LOCATION:Hometown Center\, 11010 SW Teal Blvd\, Beaverton\, OR\, 97007\, United States
CATEGORIES:Board,Hometown Center
ORGANIZER;CN="Kristin Kebbe":MAILTO:am@murrayhillrec.com
GEO:45.4401283;-122.8365483
X-APPLE-STRUCTURED-LOCATION;VALUE=URI;X-ADDRESS=Hometown Center 11010 SW Teal Blvd Beaverton OR 97007 United States;X-APPLE-RADIUS=500;X-TITLE=11010 SW Teal Blvd:geo:-122.8365483,45.4401283
END:VEVENT
BEGIN:VEVENT
DTSTART;TZID=America/Los_Angeles:20250318T183000
DTEND;TZID=America/Los_Angeles:20250318T183000
DTSTAMP:20260425T081626
CREATED:20250114T194643Z
LAST-MODIFIED:20250121T233832Z
UID:10000709-1742322600-1742322600@www.murrayhillrec.com
SUMMARY:Murrayhill Recreation Association Annual Meeting
DESCRIPTION:SAVE THE DATE \nMurrayhill Recreation Association – Annual Homeowners Meeting March 18th 6:30 pm in the HTC \n  \nThe MRA Board of Directors invite you to attend the MRA Annual Homeowners Meeting on Tuesday\, March 18\, 2025 at 6:30 pm in the Hometown Center.  The MRA Board of Directors will conduct the annual elections and present a 2024 overview as well as an outlook for 2025. \n  \nThe Board of Directors of the Murrayhill Recreation Association are hereby providing you notice that two (2) Residential Director positions on the Board of Directors will be available. The position of Director Cohen and Director Yoerger are expiring. The MRA board is made up of five Murrayhill homeowners who are elected to three year terms of office. Elections will be held at the Annual Meeting for two Board positions in March 2025. A nominating committee has been appointed by the Board for the purpose of nominating prospective Directors. Prospective Directors may also be nominated by a petition signed by at least 25 MRA Members; petitions must include a biographical statement by the nominee. For more information or to discuss your interest with the nominating committee please email am@murrayhillrec.com. The Board must receive all nominations\, petitions and accompanying materials by February 28th\, 2025. \nOfficial notification of the MRA Annual Meeting including the candidate names and biographical statements will be emailed on or about March 4th\, 2024. \nIf you have any questions\, please contact the MRA Association Manager at (503) 579-0985. \n  \nSincerely\, \nThe MRA Board of Directors \n2025 Murrayhill Recreation Association | 11010 SW Teal Blvd | Beaverton\, OR 97007 | (503) 579-0985 | am@murrayhillrec.com
URL:https://www.murrayhillrec.com/event/murrayhill-recreation-association-annual-meeting/
LOCATION:Hometown Center\, 11010 SW Teal Blvd\, Beaverton\, OR\, 97007\, United States
CATEGORIES:Board,Hometown Center
ORGANIZER;CN="Kristin Kebbe":MAILTO:am@murrayhillrec.com
GEO:45.4401283;-122.8365483
X-APPLE-STRUCTURED-LOCATION;VALUE=URI;X-ADDRESS=Hometown Center 11010 SW Teal Blvd Beaverton OR 97007 United States;X-APPLE-RADIUS=500;X-TITLE=11010 SW Teal Blvd:geo:-122.8365483,45.4401283
END:VEVENT
BEGIN:VEVENT
DTSTART;TZID=America/Los_Angeles:20250218T183000
DTEND;TZID=America/Los_Angeles:20250218T203000
DTSTAMP:20260425T081626
CREATED:20250219T003738Z
LAST-MODIFIED:20250219T003738Z
UID:10000719-1739903400-1739910600@www.murrayhillrec.com
SUMMARY:Board Meeting
DESCRIPTION:Agenda
URL:https://www.murrayhillrec.com/event/board-meeting-7/
LOCATION:OR
CATEGORIES:Board
END:VEVENT
BEGIN:VEVENT
DTSTART;TZID=America/Los_Angeles:20250121T183000
DTEND;TZID=America/Los_Angeles:20250121T203000
DTSTAMP:20260425T081626
CREATED:20250107T230431Z
LAST-MODIFIED:20250107T230432Z
UID:10000705-1737484200-1737491400@www.murrayhillrec.com
SUMMARY:Monthly Board of Directors Meeting
DESCRIPTION:6:30 in the MRA office
URL:https://www.murrayhillrec.com/event/monthly-board-of-directors-meeting-3/
LOCATION:Hometown Center\, 11010 SW Teal Blvd\, Beaverton\, OR\, 97007\, United States
CATEGORIES:Board,General
ATTACH;FMTTYPE=image/jpeg:https://www.murrayhillrec.com/wp-content/uploads/2015/12/boardgavel.jpg
ORGANIZER;CN="Kristin Kebbe":MAILTO:am@murrayhillrec.com
GEO:45.4401283;-122.8365483
X-APPLE-STRUCTURED-LOCATION;VALUE=URI;X-ADDRESS=Hometown Center 11010 SW Teal Blvd Beaverton OR 97007 United States;X-APPLE-RADIUS=500;X-TITLE=11010 SW Teal Blvd:geo:-122.8365483,45.4401283
END:VEVENT
BEGIN:VEVENT
DTSTART;TZID=America/Los_Angeles:20241119T183000
DTEND;TZID=America/Los_Angeles:20241119T203000
DTSTAMP:20260425T081626
CREATED:20241118T214414Z
LAST-MODIFIED:20241118T214438Z
UID:10000675-1732041000-1732048200@www.murrayhillrec.com
SUMMARY:BOD monthly meeting
DESCRIPTION:
URL:https://www.murrayhillrec.com/event/bod-monthly-meeting/
LOCATION:Hometown Center\, 11010 SW Teal Blvd\, Beaverton\, OR\, 97007\, United States
CATEGORIES:Board
ORGANIZER;CN="Kristin Kebbe":MAILTO:am@murrayhillrec.com
GEO:45.4401283;-122.8365483
X-APPLE-STRUCTURED-LOCATION;VALUE=URI;X-ADDRESS=Hometown Center 11010 SW Teal Blvd Beaverton OR 97007 United States;X-APPLE-RADIUS=500;X-TITLE=11010 SW Teal Blvd:geo:-122.8365483,45.4401283
END:VEVENT
BEGIN:VEVENT
DTSTART;TZID=America/Los_Angeles:20241022T180000
DTEND;TZID=America/Los_Angeles:20241022T200000
DTSTAMP:20260425T081626
CREATED:20241022T220357Z
LAST-MODIFIED:20241022T220415Z
UID:10000661-1729620000-1729627200@www.murrayhillrec.com
SUMMARY:Board Meeting
DESCRIPTION:6:00 pm start \nAGENDA
URL:https://www.murrayhillrec.com/event/board-meeting-6/
LOCATION:Hometown Center\, 11010 SW Teal Blvd\, Beaverton\, OR\, 97007\, United States
CATEGORIES:Board
ORGANIZER;CN="Kristin Kebbe":MAILTO:am@murrayhillrec.com
GEO:45.4401283;-122.8365483
X-APPLE-STRUCTURED-LOCATION;VALUE=URI;X-ADDRESS=Hometown Center 11010 SW Teal Blvd Beaverton OR 97007 United States;X-APPLE-RADIUS=500;X-TITLE=11010 SW Teal Blvd:geo:-122.8365483,45.4401283
END:VEVENT
BEGIN:VEVENT
DTSTART;TZID=America/Los_Angeles:20240709T183000
DTEND;TZID=America/Los_Angeles:20240709T203000
DTSTAMP:20260425T081626
CREATED:20240709T211610Z
LAST-MODIFIED:20240709T211610Z
UID:10000629-1720549800-1720557000@www.murrayhillrec.com
SUMMARY:Board meeting
DESCRIPTION:
URL:https://www.murrayhillrec.com/event/board-meeting-5/
LOCATION:Hometown Center\, 11010 SW Teal Blvd\, Beaverton\, OR\, 97007\, United States
CATEGORIES:Board
ORGANIZER;CN="Kristin Kebbe":MAILTO:am@murrayhillrec.com
GEO:45.4401283;-122.8365483
X-APPLE-STRUCTURED-LOCATION;VALUE=URI;X-ADDRESS=Hometown Center 11010 SW Teal Blvd Beaverton OR 97007 United States;X-APPLE-RADIUS=500;X-TITLE=11010 SW Teal Blvd:geo:-122.8365483,45.4401283
END:VEVENT
BEGIN:VEVENT
DTSTART;TZID=America/Los_Angeles:20240416T183000
DTEND;TZID=America/Los_Angeles:20240416T203000
DTSTAMP:20260425T081626
CREATED:20240408T194025Z
LAST-MODIFIED:20240409T194518Z
UID:10000614-1713292200-1713299400@www.murrayhillrec.com
SUMMARY:April Board Meeting
DESCRIPTION:
URL:https://www.murrayhillrec.com/event/april-board-meeting/
LOCATION:Hometown Center\, 11010 SW Teal Blvd\, Beaverton\, OR\, 97007\, United States
CATEGORIES:Board
ORGANIZER;CN="Kristin Kebbe":MAILTO:am@murrayhillrec.com
GEO:45.4401283;-122.8365483
X-APPLE-STRUCTURED-LOCATION;VALUE=URI;X-ADDRESS=Hometown Center 11010 SW Teal Blvd Beaverton OR 97007 United States;X-APPLE-RADIUS=500;X-TITLE=11010 SW Teal Blvd:geo:-122.8365483,45.4401283
END:VEVENT
BEGIN:VEVENT
DTSTART;TZID=America/Los_Angeles:20240314T160000
DTEND;TZID=America/Los_Angeles:20240314T210000
DTSTAMP:20260425T081626
CREATED:20240103T184549Z
LAST-MODIFIED:20240103T184549Z
UID:10000372-1710432000-1710450000@www.murrayhillrec.com
SUMMARY:HTC Reserved - HOA Annual Meeting
DESCRIPTION:Murrayhill Homeowners Association Annual Meeting
URL:https://www.murrayhillrec.com/event/htc-reserved-hoa-annual-meeting/
LOCATION:Hometown Center\, 11010 SW Teal Blvd\, Beaverton\, OR\, 97007\, United States
CATEGORIES:Board,Hometown Center
ORGANIZER;CN="Kristin Kebbe":MAILTO:am@murrayhillrec.com
GEO:45.4401283;-122.8365483
X-APPLE-STRUCTURED-LOCATION;VALUE=URI;X-ADDRESS=Hometown Center 11010 SW Teal Blvd Beaverton OR 97007 United States;X-APPLE-RADIUS=500;X-TITLE=11010 SW Teal Blvd:geo:-122.8365483,45.4401283
END:VEVENT
BEGIN:VEVENT
DTSTART;TZID=America/Los_Angeles:20240313T160000
DTEND;TZID=America/Los_Angeles:20240313T230000
DTSTAMP:20260425T081626
CREATED:20240103T204141Z
LAST-MODIFIED:20240103T204141Z
UID:10000377-1710345600-1710370800@www.murrayhillrec.com
SUMMARY:HTC - Reserved
DESCRIPTION:Courtyard Homes Annual Meeting \nLot 808
URL:https://www.murrayhillrec.com/event/htc-reserved-155/
LOCATION:Hometown Center\, 11010 SW Teal Blvd\, Beaverton\, OR\, 97007\, United States
CATEGORIES:Board,Hometown Center
ORGANIZER;CN="Kristin Kebbe":MAILTO:am@murrayhillrec.com
GEO:45.4401283;-122.8365483
X-APPLE-STRUCTURED-LOCATION;VALUE=URI;X-ADDRESS=Hometown Center 11010 SW Teal Blvd Beaverton OR 97007 United States;X-APPLE-RADIUS=500;X-TITLE=11010 SW Teal Blvd:geo:-122.8365483,45.4401283
END:VEVENT
BEGIN:VEVENT
DTSTART;TZID=America/Los_Angeles:20240312T180000
DTEND;TZID=America/Los_Angeles:20240312T200000
DTSTAMP:20260425T081626
CREATED:20240108T211955Z
LAST-MODIFIED:20240108T211955Z
UID:10000380-1710266400-1710273600@www.murrayhillrec.com
SUMMARY:MRA Annual Homeowners Meeting
DESCRIPTION:
URL:https://www.murrayhillrec.com/event/mra-annual-homeowners-meeting/
LOCATION:Hometown Center\, 11010 SW Teal Blvd\, Beaverton\, OR\, 97007\, United States
CATEGORIES:Board,Hometown Center
ORGANIZER;CN="Kristin Kebbe":MAILTO:am@murrayhillrec.com
GEO:45.4401283;-122.8365483
X-APPLE-STRUCTURED-LOCATION;VALUE=URI;X-ADDRESS=Hometown Center 11010 SW Teal Blvd Beaverton OR 97007 United States;X-APPLE-RADIUS=500;X-TITLE=11010 SW Teal Blvd:geo:-122.8365483,45.4401283
END:VEVENT
BEGIN:VEVENT
DTSTART;TZID=America/Los_Angeles:20240213T183000
DTEND;TZID=America/Los_Angeles:20240213T200000
DTSTAMP:20260425T081626
CREATED:20240213T002304Z
LAST-MODIFIED:20240214T005614Z
UID:10000597-1707849000-1707854400@www.murrayhillrec.com
SUMMARY:Monthly Board Meeting via Zoom
DESCRIPTION:Board of Directors Meeting \nAGENDA \nREGISTER
URL:https://www.murrayhillrec.com/event/monthly-board-meeting-11/
LOCATION:Hometown Center\, 11010 SW Teal Blvd\, Beaverton\, OR\, 97007\, United States
CATEGORIES:Board
ORGANIZER;CN="Kristin Kebbe":MAILTO:am@murrayhillrec.com
GEO:45.4401283;-122.8365483
X-APPLE-STRUCTURED-LOCATION;VALUE=URI;X-ADDRESS=Hometown Center 11010 SW Teal Blvd Beaverton OR 97007 United States;X-APPLE-RADIUS=500;X-TITLE=11010 SW Teal Blvd:geo:-122.8365483,45.4401283
END:VEVENT
BEGIN:VEVENT
DTSTART;TZID=America/Los_Angeles:20230717T183000
DTEND;TZID=America/Los_Angeles:20230717T200000
DTSTAMP:20260425T081626
CREATED:20230714T230225Z
LAST-MODIFIED:20230714T230225Z
UID:10000570-1689618600-1689624000@www.murrayhillrec.com
SUMMARY:BOD meeting
DESCRIPTION:
URL:https://www.murrayhillrec.com/event/bod-meeting-6/
LOCATION:Hometown Center\, 11010 SW Teal Blvd\, Beaverton\, OR\, 97007\, United States
CATEGORIES:Board
ORGANIZER;CN="Kristin Kebbe":MAILTO:am@murrayhillrec.com
GEO:45.4401283;-122.8365483
X-APPLE-STRUCTURED-LOCATION;VALUE=URI;X-ADDRESS=Hometown Center 11010 SW Teal Blvd Beaverton OR 97007 United States;X-APPLE-RADIUS=500;X-TITLE=11010 SW Teal Blvd:geo:-122.8365483,45.4401283
END:VEVENT
BEGIN:VEVENT
DTSTART;TZID=America/Los_Angeles:20230619T180000
DTEND;TZID=America/Los_Angeles:20230619T200000
DTSTAMP:20260425T081626
CREATED:20230616T224510Z
LAST-MODIFIED:20230620T005356Z
UID:10000565-1687197600-1687204800@www.murrayhillrec.com
SUMMARY:Monthly Board Meeting
DESCRIPTION:Agenda.06.19.23
URL:https://www.murrayhillrec.com/event/monthly-board-meeting-10/
LOCATION:Hometown Center\, 11010 SW Teal Blvd\, Beaverton\, OR\, 97007\, United States
CATEGORIES:Board
ORGANIZER;CN="Kristin Kebbe":MAILTO:am@murrayhillrec.com
GEO:45.4401283;-122.8365483
X-APPLE-STRUCTURED-LOCATION;VALUE=URI;X-ADDRESS=Hometown Center 11010 SW Teal Blvd Beaverton OR 97007 United States;X-APPLE-RADIUS=500;X-TITLE=11010 SW Teal Blvd:geo:-122.8365483,45.4401283
END:VEVENT
BEGIN:VEVENT
DTSTART;TZID=America/Los_Angeles:20230424T180000
DTEND;TZID=America/Los_Angeles:20230424T193000
DTSTAMP:20260425T081626
CREATED:20230412T201744Z
LAST-MODIFIED:20230424T203606Z
UID:10000551-1682359200-1682364600@www.murrayhillrec.com
SUMMARY:Monthly BOD meeting
DESCRIPTION:6:00 pm at the MRA office. \nRegister here for the zoom access
URL:https://www.murrayhillrec.com/event/monthly-bod-meeting-5/
LOCATION:Hometown Center\, 11010 SW Teal Blvd\, Beaverton\, OR\, 97007\, United States
CATEGORIES:Board
ORGANIZER;CN="Kristin Kebbe":MAILTO:am@murrayhillrec.com
GEO:45.4401283;-122.8365483
X-APPLE-STRUCTURED-LOCATION;VALUE=URI;X-ADDRESS=Hometown Center 11010 SW Teal Blvd Beaverton OR 97007 United States;X-APPLE-RADIUS=500;X-TITLE=11010 SW Teal Blvd:geo:-122.8365483,45.4401283
END:VEVENT
BEGIN:VEVENT
DTSTART;TZID=America/Los_Angeles:20230307T183000
DTEND;TZID=America/Los_Angeles:20230307T183000
DTSTAMP:20260425T081626
CREATED:20230307T191244Z
LAST-MODIFIED:20230307T191439Z
UID:10000341-1678213800-1678213800@www.murrayhillrec.com
SUMMARY:Annual Meeting
DESCRIPTION:Murrayhill Recreation Association – Annual Homeowners Meeting March 7th 6:30 pm – Zoom \n  \nThe MRA Board of Directors invite you to attend the MRA Annual Homeowners Meeting on Tuesday\, March 7\, 2023 at 6:30 pm via Zoom.  The MRA Board of Directors will conduct the annual elections and present a 2022 overview as well as an outlook for 2023. \n  \nThe Board of Directors of the Murrayhill Recreation Association are hereby providing you notice that two (2) Residential Director positions on the Board of Directors will be available. The position of Stephanie Mirkes & Susan Decker are expiring. The MRA board is made up of five Murrayhill homeowners who are elected to three year terms of office. Elections will be held at the Annual Meeting for two Board positions in March 2023. A nominating committee has been appointed by the Board for the purpose of nominating prospective Directors. Prospective Directors may also be nominated by a petition signed by at least 25 MRA Members; petitions must include a biographical statement by the nominee. For more information or to discuss your interest with the nominating committee please email am@murrayhillrec.com. The Board must receive all nominations\, petitions and accompanying materials by Feb 24th\, 2023. \nOfficial notification of the MRA Annual Meeting including the candidate names and biographical statements will be emailed on or about February 27th\, 2023. \nIf you have any questions\, please contact the MRA Association Manager at (503) 579-0985. \n  \nSincerely\, \nThe MRA Board of Directors \n2023 Murrayhill Recreation Association | 11010 SW Teal Blvd | Beaverton\, OR 97007 | (503) 579-0985 | am@murrayhillrec.com \n  \nMurrayhill Recreation Association \n11010 SW Teal Boulevard \nBeaverton\, OR 97007 \nPreregister Here
URL:https://www.murrayhillrec.com/event/annual-meeting-3/
LOCATION:Hometown Center\, 11010 SW Teal Blvd\, Beaverton\, OR\, 97007\, United States
CATEGORIES:Board
ORGANIZER;CN="Kristin Kebbe":MAILTO:am@murrayhillrec.com
GEO:45.4401283;-122.8365483
X-APPLE-STRUCTURED-LOCATION;VALUE=URI;X-ADDRESS=Hometown Center 11010 SW Teal Blvd Beaverton OR 97007 United States;X-APPLE-RADIUS=500;X-TITLE=11010 SW Teal Blvd:geo:-122.8365483,45.4401283
END:VEVENT
BEGIN:VEVENT
DTSTART;TZID=America/Los_Angeles:20230213T183000
DTEND;TZID=America/Los_Angeles:20230213T200000
DTSTAMP:20260425T081626
CREATED:20230207T204205Z
LAST-MODIFIED:20230213T230524Z
UID:10000547-1676313000-1676318400@www.murrayhillrec.com
SUMMARY:February Board of Directors Monthly Meeting
DESCRIPTION:6:30 pm \nPreregister for the meeting \nhttps://us02web.zoom.us/meeting/register/tZAtc-6spjkqEtAwJBnO9_kLkEy5noZu5_08
URL:https://www.murrayhillrec.com/event/february-board-of-directors-monthly-meeting/
LOCATION:Hometown Center\, 11010 SW Teal Blvd\, Beaverton\, OR\, 97007\, United States
CATEGORIES:Board
ORGANIZER;CN="Kristin Kebbe":MAILTO:am@murrayhillrec.com
GEO:45.4401283;-122.8365483
X-APPLE-STRUCTURED-LOCATION;VALUE=URI;X-ADDRESS=Hometown Center 11010 SW Teal Blvd Beaverton OR 97007 United States;X-APPLE-RADIUS=500;X-TITLE=11010 SW Teal Blvd:geo:-122.8365483,45.4401283
END:VEVENT
BEGIN:VEVENT
DTSTART;TZID=America/Los_Angeles:20220523T180000
DTEND;TZID=America/Los_Angeles:20220523T193000
DTSTAMP:20260425T081626
CREATED:20220519T212001Z
LAST-MODIFIED:20220519T212001Z
UID:10000516-1653328800-1653334200@www.murrayhillrec.com
SUMMARY:BOD Meeting
DESCRIPTION:PRE-REGISTER for the monthly Board of Directors (BOD) meeting on Monday\, May 23rd. \nThe meeting will be via Zoom at 6:00 pm.
URL:https://www.murrayhillrec.com/event/bod-meeting-5/
LOCATION:Hometown Center\, 11010 SW Teal Blvd\, Beaverton\, OR\, 97007\, United States
CATEGORIES:Board
ORGANIZER;CN="Kristin Kebbe":MAILTO:am@murrayhillrec.com
GEO:45.4401283;-122.8365483
X-APPLE-STRUCTURED-LOCATION;VALUE=URI;X-ADDRESS=Hometown Center 11010 SW Teal Blvd Beaverton OR 97007 United States;X-APPLE-RADIUS=500;X-TITLE=11010 SW Teal Blvd:geo:-122.8365483,45.4401283
END:VEVENT
BEGIN:VEVENT
DTSTART;TZID=America/Los_Angeles:20220418T080000
DTEND;TZID=America/Los_Angeles:20220418T170000
DTSTAMP:20260425T081626
CREATED:20220418T214849Z
LAST-MODIFIED:20220418T214850Z
UID:10000508-1650268800-1650301200@www.murrayhillrec.com
SUMMARY:BOD meeting
DESCRIPTION:You are invited to a Zoom meeting. \n  \nWhen: Apr 18\, 2022 06:00 PM Pacific Time (US and Canada) \nRegister in advance for this meeting:\nhttps://us02web.zoom.us/meeting/register/tZArf-CtqzwqG9EfX5PLjcZyRWE7F3-7-Ivh \nAfter registering\, you will receive a confirmation email containing information about joining the meeting. \n  \n 
URL:https://www.murrayhillrec.com/event/bod-meeting-4/
LOCATION:Hometown Center\, 11010 SW Teal Blvd\, Beaverton\, OR\, 97007\, United States
CATEGORIES:Board
ORGANIZER;CN="Kristin Kebbe":MAILTO:am@murrayhillrec.com
GEO:45.4401283;-122.8365483
X-APPLE-STRUCTURED-LOCATION;VALUE=URI;X-ADDRESS=Hometown Center 11010 SW Teal Blvd Beaverton OR 97007 United States;X-APPLE-RADIUS=500;X-TITLE=11010 SW Teal Blvd:geo:-122.8365483,45.4401283
END:VEVENT
BEGIN:VEVENT
DTSTART;TZID=America/Los_Angeles:20220315T180000
DTEND;TZID=America/Los_Angeles:20220315T200000
DTSTAMP:20260425T081626
CREATED:20220222T013030Z
LAST-MODIFIED:20220222T013031Z
UID:10000283-1647367200-1647374400@www.murrayhillrec.com
SUMMARY:Annual Homeowner Meeting
DESCRIPTION:Hi there\, \nYou are invited to a Zoom meeting. \nWhen: Mar 15\, 2022 06:30 PM Pacific Time (US and Canada) \nRegister in advance for this meeting:\nhttps://us02web.zoom.us/meeting/register/tZMpcOmurToiGdA3aeBsicLbJJZVRglGNU4d \nAfter registering\, you will receive a confirmation email containing information about joining the meeting.
URL:https://www.murrayhillrec.com/event/annual-homeowner-meeting/
LOCATION:Hometown Center\, 11010 SW Teal Blvd\, Beaverton\, OR\, 97007\, United States
CATEGORIES:Board
ORGANIZER;CN="Kristin Kebbe":MAILTO:am@murrayhillrec.com
GEO:45.4401283;-122.8365483
X-APPLE-STRUCTURED-LOCATION;VALUE=URI;X-ADDRESS=Hometown Center 11010 SW Teal Blvd Beaverton OR 97007 United States;X-APPLE-RADIUS=500;X-TITLE=11010 SW Teal Blvd:geo:-122.8365483,45.4401283
END:VEVENT
END:VCALENDAR