BEGIN:VCALENDAR
VERSION:2.0
PRODID:-//Murrayhill Recreation Association - ECPv6.15.17.1//NONSGML v1.0//EN
CALSCALE:GREGORIAN
METHOD:PUBLISH
X-ORIGINAL-URL:https://www.murrayhillrec.com
X-WR-CALDESC:Events for Murrayhill Recreation Association
REFRESH-INTERVAL;VALUE=DURATION:PT1H
X-Robots-Tag:noindex
X-PUBLISHED-TTL:PT1H
BEGIN:VTIMEZONE
TZID:America/Los_Angeles
BEGIN:DAYLIGHT
TZOFFSETFROM:-0800
TZOFFSETTO:-0700
TZNAME:PDT
DTSTART:20230312T100000
END:DAYLIGHT
BEGIN:STANDARD
TZOFFSETFROM:-0700
TZOFFSETTO:-0800
TZNAME:PST
DTSTART:20231105T090000
END:STANDARD
BEGIN:DAYLIGHT
TZOFFSETFROM:-0800
TZOFFSETTO:-0700
TZNAME:PDT
DTSTART:20240310T100000
END:DAYLIGHT
BEGIN:STANDARD
TZOFFSETFROM:-0700
TZOFFSETTO:-0800
TZNAME:PST
DTSTART:20241103T090000
END:STANDARD
BEGIN:DAYLIGHT
TZOFFSETFROM:-0800
TZOFFSETTO:-0700
TZNAME:PDT
DTSTART:20250309T100000
END:DAYLIGHT
BEGIN:STANDARD
TZOFFSETFROM:-0700
TZOFFSETTO:-0800
TZNAME:PST
DTSTART:20251102T090000
END:STANDARD
BEGIN:DAYLIGHT
TZOFFSETFROM:-0800
TZOFFSETTO:-0700
TZNAME:PDT
DTSTART:20260308T100000
END:DAYLIGHT
BEGIN:STANDARD
TZOFFSETFROM:-0700
TZOFFSETTO:-0800
TZNAME:PST
DTSTART:20261101T090000
END:STANDARD
END:VTIMEZONE
BEGIN:VEVENT
DTSTART;TZID=America/Los_Angeles:20250916T183000
DTEND;TZID=America/Los_Angeles:20250916T190000
DTSTAMP:20260425T044435
CREATED:20250911T225453Z
LAST-MODIFIED:20250911T225453Z
UID:10000796-1758047400-1758049200@www.murrayhillrec.com
SUMMARY:Monthly BOD Meeting
DESCRIPTION:6:30 pm in the MRA Office
URL:https://www.murrayhillrec.com/event/monthly-bod-meeting-6/
CATEGORIES:Board,General
END:VEVENT
BEGIN:VEVENT
DTSTART;VALUE=DATE:20250907
DTEND;VALUE=DATE:20250908
DTSTAMP:20260425T044435
CREATED:20250826T224325Z
LAST-MODIFIED:20250826T225113Z
UID:10000790-1757203200-1757289599@www.murrayhillrec.com
SUMMARY:HTC Reserved
DESCRIPTION:Last Day Pool Clean Up
URL:https://www.murrayhillrec.com/event/htc-reserved-287/
LOCATION:Hometown Center\, 11010 SW Teal Blvd\, Beaverton\, OR\, 97007\, United States
CATEGORIES:General,Hometown Center
ORGANIZER;CN="Kristin Kebbe":MAILTO:am@murrayhillrec.com
GEO:45.4401283;-122.8365483
X-APPLE-STRUCTURED-LOCATION;VALUE=URI;X-ADDRESS=Hometown Center 11010 SW Teal Blvd Beaverton OR 97007 United States;X-APPLE-RADIUS=500;X-TITLE=11010 SW Teal Blvd:geo:-122.8365483,45.4401283
END:VEVENT
BEGIN:VEVENT
DTSTART;TZID=America/Los_Angeles:20250822T200000
DTEND;TZID=America/Los_Angeles:20250822T220000
DTSTAMP:20260425T044435
CREATED:20250814T222402Z
LAST-MODIFIED:20250814T222402Z
UID:10000784-1755892800-1755900000@www.murrayhillrec.com
SUMMARY:Flix While you Float
DESCRIPTION:
URL:https://www.murrayhillrec.com/event/flix-while-you-float-5/
LOCATION:Hometown Center\, 11010 SW Teal Blvd\, Beaverton\, OR\, 97007\, United States
CATEGORIES:General
ORGANIZER;CN="Kristin Kebbe":MAILTO:am@murrayhillrec.com
GEO:45.4401283;-122.8365483
X-APPLE-STRUCTURED-LOCATION;VALUE=URI;X-ADDRESS=Hometown Center 11010 SW Teal Blvd Beaverton OR 97007 United States;X-APPLE-RADIUS=500;X-TITLE=11010 SW Teal Blvd:geo:-122.8365483,45.4401283
END:VEVENT
BEGIN:VEVENT
DTSTART;TZID=America/Los_Angeles:20250802T080000
DTEND;TZID=America/Los_Angeles:20250802T160000
DTSTAMP:20260425T044435
CREATED:20250606T223719Z
LAST-MODIFIED:20250606T223719Z
UID:10000754-1754121600-1754150400@www.murrayhillrec.com
SUMMARY:Swim Meet
DESCRIPTION:Championship Swim Meet
URL:https://www.murrayhillrec.com/event/swim-meet-2/
LOCATION:Hometown Center\, 11010 SW Teal Blvd\, Beaverton\, OR\, 97007\, United States
CATEGORIES:General,Hometown Center,Swim Team
ORGANIZER;CN="Kristin Kebbe":MAILTO:am@murrayhillrec.com
GEO:45.4401283;-122.8365483
X-APPLE-STRUCTURED-LOCATION;VALUE=URI;X-ADDRESS=Hometown Center 11010 SW Teal Blvd Beaverton OR 97007 United States;X-APPLE-RADIUS=500;X-TITLE=11010 SW Teal Blvd:geo:-122.8365483,45.4401283
END:VEVENT
BEGIN:VEVENT
DTSTART;TZID=America/Los_Angeles:20250801T160000
DTEND;TZID=America/Los_Angeles:20250801T210000
DTSTAMP:20260425T044435
CREATED:20250606T223750Z
LAST-MODIFIED:20250606T223750Z
UID:10000755-1754064000-1754082000@www.murrayhillrec.com
SUMMARY:Swim Meet Prep
DESCRIPTION:
URL:https://www.murrayhillrec.com/event/swim-meet-prep/
LOCATION:Hometown Center\, 11010 SW Teal Blvd\, Beaverton\, OR\, 97007\, United States
CATEGORIES:General,Hometown Center,Swim Team
ORGANIZER;CN="Kristin Kebbe":MAILTO:am@murrayhillrec.com
GEO:45.4401283;-122.8365483
X-APPLE-STRUCTURED-LOCATION;VALUE=URI;X-ADDRESS=Hometown Center 11010 SW Teal Blvd Beaverton OR 97007 United States;X-APPLE-RADIUS=500;X-TITLE=11010 SW Teal Blvd:geo:-122.8365483,45.4401283
END:VEVENT
BEGIN:VEVENT
DTSTART;TZID=America/Los_Angeles:20250725T190000
DTEND;TZID=America/Los_Angeles:20250725T213000
DTSTAMP:20260425T044435
CREATED:20250714T192250Z
LAST-MODIFIED:20250723T213111Z
UID:10000765-1753470000-1753479000@www.murrayhillrec.com
SUMMARY:Flix While You Float
DESCRIPTION:
URL:https://www.murrayhillrec.com/event/flix-while-you-float-4/
LOCATION:Hometown Center\, 11010 SW Teal Blvd\, Beaverton\, OR\, 97007\, United States
CATEGORIES:General
ATTACH;FMTTYPE=image/jpeg:https://www.murrayhillrec.com/wp-content/uploads/2025/07/WallE.jpg
ORGANIZER;CN="Kristin Kebbe":MAILTO:am@murrayhillrec.com
GEO:45.4401283;-122.8365483
X-APPLE-STRUCTURED-LOCATION;VALUE=URI;X-ADDRESS=Hometown Center 11010 SW Teal Blvd Beaverton OR 97007 United States;X-APPLE-RADIUS=500;X-TITLE=11010 SW Teal Blvd:geo:-122.8365483,45.4401283
END:VEVENT
BEGIN:VEVENT
DTSTART;TZID=America/Los_Angeles:20250709T170000
DTEND;TZID=America/Los_Angeles:20250709T180000
DTSTAMP:20260425T044435
CREATED:20250701T203921Z
LAST-MODIFIED:20250701T203921Z
UID:10000762-1752080400-1752084000@www.murrayhillrec.com
SUMMARY:Barre3 Class
DESCRIPTION:5:15pm -6:00 pm Class \n$10 drop in fee
URL:https://www.murrayhillrec.com/event/barre3-class-6/
LOCATION:Hometown Center\, 11010 SW Teal Blvd\, Beaverton\, OR\, 97007\, United States
CATEGORIES:General,Hometown Center
ATTACH;FMTTYPE=image/jpeg:https://www.murrayhillrec.com/wp-content/uploads/2025/04/barre-3.jpg
ORGANIZER;CN="Kristin Kebbe":MAILTO:am@murrayhillrec.com
GEO:45.4401283;-122.8365483
X-APPLE-STRUCTURED-LOCATION;VALUE=URI;X-ADDRESS=Hometown Center 11010 SW Teal Blvd Beaverton OR 97007 United States;X-APPLE-RADIUS=500;X-TITLE=11010 SW Teal Blvd:geo:-122.8365483,45.4401283
END:VEVENT
BEGIN:VEVENT
DTSTART;TZID=America/Los_Angeles:20250703T090000
DTEND;TZID=America/Los_Angeles:20250703T100000
DTSTAMP:20260425T044435
CREATED:20250623T175148Z
LAST-MODIFIED:20250630T221606Z
UID:10000760-1751533200-1751536800@www.murrayhillrec.com
SUMMARY:Barre3 Class- canceled
DESCRIPTION:9:00 – 9:45 am Class \n$10 drop in fee
URL:https://www.murrayhillrec.com/event/barre3-class-2/
LOCATION:Hometown Center\, 11010 SW Teal Blvd\, Beaverton\, OR\, 97007\, United States
CATEGORIES:General,Hometown Center
ATTACH;FMTTYPE=image/jpeg:https://www.murrayhillrec.com/wp-content/uploads/2025/04/barre-3.jpg
ORGANIZER;CN="Kristin Kebbe":MAILTO:am@murrayhillrec.com
GEO:45.4401283;-122.8365483
X-APPLE-STRUCTURED-LOCATION;VALUE=URI;X-ADDRESS=Hometown Center 11010 SW Teal Blvd Beaverton OR 97007 United States;X-APPLE-RADIUS=500;X-TITLE=11010 SW Teal Blvd:geo:-122.8365483,45.4401283
END:VEVENT
BEGIN:VEVENT
DTSTART;TZID=America/Los_Angeles:20250701T090000
DTEND;TZID=America/Los_Angeles:20250701T100000
DTSTAMP:20260425T044435
CREATED:20250623T175108Z
LAST-MODIFIED:20250630T221539Z
UID:10000759-1751360400-1751364000@www.murrayhillrec.com
SUMMARY:Barre3 Class - canceled
DESCRIPTION:9:00 – 9:45 am Class \n$10 drop in fee
URL:https://www.murrayhillrec.com/event/barre3-class/
LOCATION:Hometown Center\, 11010 SW Teal Blvd\, Beaverton\, OR\, 97007\, United States
CATEGORIES:General,Hometown Center
ATTACH;FMTTYPE=image/jpeg:https://www.murrayhillrec.com/wp-content/uploads/2025/04/barre-3.jpg
ORGANIZER;CN="Kristin Kebbe":MAILTO:am@murrayhillrec.com
GEO:45.4401283;-122.8365483
X-APPLE-STRUCTURED-LOCATION;VALUE=URI;X-ADDRESS=Hometown Center 11010 SW Teal Blvd Beaverton OR 97007 United States;X-APPLE-RADIUS=500;X-TITLE=11010 SW Teal Blvd:geo:-122.8365483,45.4401283
END:VEVENT
BEGIN:VEVENT
DTSTART;TZID=America/Los_Angeles:20250627T203000
DTEND;TZID=America/Los_Angeles:20250627T223000
DTSTAMP:20260425T044435
CREATED:20250619T205804Z
LAST-MODIFIED:20250619T213813Z
UID:10000757-1751056200-1751063400@www.murrayhillrec.com
SUMMARY:Flix while you float - Lilo & Stitch 2002
DESCRIPTION:Rated PG
URL:https://www.murrayhillrec.com/event/flix-while-you-float-lilo-stitch-2002/
LOCATION:Hometown Center\, 11010 SW Teal Blvd\, Beaverton\, OR\, 97007\, United States
CATEGORIES:General
ATTACH;FMTTYPE=image/webp:https://www.murrayhillrec.com/wp-content/uploads/2025/06/lilo-and-stitch-scaled.webp
ORGANIZER;CN="Kristin Kebbe":MAILTO:am@murrayhillrec.com
GEO:45.4401283;-122.8365483
X-APPLE-STRUCTURED-LOCATION;VALUE=URI;X-ADDRESS=Hometown Center 11010 SW Teal Blvd Beaverton OR 97007 United States;X-APPLE-RADIUS=500;X-TITLE=11010 SW Teal Blvd:geo:-122.8365483,45.4401283
END:VEVENT
BEGIN:VEVENT
DTSTART;TZID=America/Los_Angeles:20250523T103000
DTEND;TZID=America/Los_Angeles:20250523T113000
DTSTAMP:20260425T044435
CREATED:20250507T200747Z
LAST-MODIFIED:20250507T200747Z
UID:10000744-1747996200-1747999800@www.murrayhillrec.com
SUMMARY:Neighborhood Barre3
DESCRIPTION:
URL:https://www.murrayhillrec.com/event/neighborhood-barre3/
LOCATION:Hometown Center\, 11010 SW Teal Blvd\, Beaverton\, OR\, 97007\, United States
CATEGORIES:General,Hometown Center
ORGANIZER;CN="Kristin Kebbe":MAILTO:am@murrayhillrec.com
GEO:45.4401283;-122.8365483
X-APPLE-STRUCTURED-LOCATION;VALUE=URI;X-ADDRESS=Hometown Center 11010 SW Teal Blvd Beaverton OR 97007 United States;X-APPLE-RADIUS=500;X-TITLE=11010 SW Teal Blvd:geo:-122.8365483,45.4401283
END:VEVENT
BEGIN:VEVENT
DTSTART;VALUE=DATE:20250518
DTEND;VALUE=DATE:20250519
DTSTAMP:20260425T044435
CREATED:20250210T212928Z
LAST-MODIFIED:20250401T204006Z
UID:10000715-1747526400-1747612799@www.murrayhillrec.com
SUMMARY:Staff In Service Training
DESCRIPTION:All Day
URL:https://www.murrayhillrec.com/event/staff-in-service-training-4/
CATEGORIES:General,Hometown Center
END:VEVENT
BEGIN:VEVENT
DTSTART;TZID=America/Los_Angeles:20250517T080000
DTEND;TZID=America/Los_Angeles:20250517T140000
DTSTAMP:20260425T044435
CREATED:20250210T212850Z
LAST-MODIFIED:20250210T212850Z
UID:10000714-1747468800-1747490400@www.murrayhillrec.com
SUMMARY:Staff In Service Training
DESCRIPTION:
URL:https://www.murrayhillrec.com/event/staff-in-service-training-3/
CATEGORIES:General,Hometown Center
END:VEVENT
BEGIN:VEVENT
DTSTART;TZID=America/Los_Angeles:20250512T171500
DTEND;TZID=America/Los_Angeles:20250512T180000
DTSTAMP:20260425T044435
CREATED:20250507T200623Z
LAST-MODIFIED:20250507T200623Z
UID:10000743-1747070100-1747072800@www.murrayhillrec.com
SUMMARY:Neighborhood Barre3 class
DESCRIPTION:
URL:https://www.murrayhillrec.com/event/neighborhood-barre3-class/
LOCATION:Hometown Center\, 11010 SW Teal Blvd\, Beaverton\, OR\, 97007\, United States
CATEGORIES:General,Hometown Center
ATTACH;FMTTYPE=image/png:https://www.murrayhillrec.com/wp-content/uploads/2025/05/Barre3-advertising.png
ORGANIZER;CN="Kristin Kebbe":MAILTO:am@murrayhillrec.com
GEO:45.4401283;-122.8365483
X-APPLE-STRUCTURED-LOCATION;VALUE=URI;X-ADDRESS=Hometown Center 11010 SW Teal Blvd Beaverton OR 97007 United States;X-APPLE-RADIUS=500;X-TITLE=11010 SW Teal Blvd:geo:-122.8365483,45.4401283
END:VEVENT
BEGIN:VEVENT
DTSTART;VALUE=DATE:20250510
DTEND;VALUE=DATE:20250511
DTSTAMP:20260425T044435
CREATED:20250422T235802Z
LAST-MODIFIED:20250422T235802Z
UID:10000738-1746835200-1746921599@www.murrayhillrec.com
SUMMARY:Lifeguard Recertification Class
DESCRIPTION:Staff training
URL:https://www.murrayhillrec.com/event/lifeguard-recertification-class/
LOCATION:Hometown Center\, 11010 SW Teal Blvd\, Beaverton\, OR\, 97007\, United States
CATEGORIES:General,Hometown Center
ORGANIZER;CN="Kristin Kebbe":MAILTO:am@murrayhillrec.com
GEO:45.4401283;-122.8365483
X-APPLE-STRUCTURED-LOCATION;VALUE=URI;X-ADDRESS=Hometown Center 11010 SW Teal Blvd Beaverton OR 97007 United States;X-APPLE-RADIUS=500;X-TITLE=11010 SW Teal Blvd:geo:-122.8365483,45.4401283
END:VEVENT
BEGIN:VEVENT
DTSTART;VALUE=DATE:20250503
DTEND;VALUE=DATE:20250505
DTSTAMP:20260425T044435
CREATED:20250422T235440Z
LAST-MODIFIED:20250423T211850Z
UID:10000737-1746230400-1746403199@www.murrayhillrec.com
SUMMARY:Lifeguard Certification Class
DESCRIPTION:Staff Training
URL:https://www.murrayhillrec.com/event/lifeguard-certification-class/
LOCATION:Hometown Center\, 11010 SW Teal Blvd\, Beaverton\, OR\, 97007\, United States
CATEGORIES:General,Hometown Center
ATTACH;FMTTYPE=image/png:https://www.murrayhillrec.com/wp-content/uploads/2017/05/Lifeguard_Logo_SAJ_2013.png
ORGANIZER;CN="Kristin Kebbe":MAILTO:am@murrayhillrec.com
GEO:45.4401283;-122.8365483
X-APPLE-STRUCTURED-LOCATION;VALUE=URI;X-ADDRESS=Hometown Center 11010 SW Teal Blvd Beaverton OR 97007 United States;X-APPLE-RADIUS=500;X-TITLE=11010 SW Teal Blvd:geo:-122.8365483,45.4401283
END:VEVENT
BEGIN:VEVENT
DTSTART;TZID=America/Los_Angeles:20250426T080000
DTEND;TZID=America/Los_Angeles:20250426T120000
DTSTAMP:20260425T044435
CREATED:20250326T215840Z
LAST-MODIFIED:20250326T215918Z
UID:10000726-1745654400-1745668800@www.murrayhillrec.com
SUMMARY:Dumpster & Recycling Day
DESCRIPTION:
URL:https://www.murrayhillrec.com/event/dumpster-recycling-day/
LOCATION:Hometown Center\, 11010 SW Teal Blvd\, Beaverton\, OR\, 97007\, United States
CATEGORIES:General
ATTACH;FMTTYPE=image/jpeg:https://www.murrayhillrec.com/wp-content/uploads/2025/03/2025-dumpster-day.jpg
ORGANIZER;CN="Kristin Kebbe":MAILTO:am@murrayhillrec.com
GEO:45.4401283;-122.8365483
X-APPLE-STRUCTURED-LOCATION;VALUE=URI;X-ADDRESS=Hometown Center 11010 SW Teal Blvd Beaverton OR 97007 United States;X-APPLE-RADIUS=500;X-TITLE=11010 SW Teal Blvd:geo:-122.8365483,45.4401283
END:VEVENT
BEGIN:VEVENT
DTSTART;TZID=America/Los_Angeles:20250419T093000
DTEND;TZID=America/Los_Angeles:20250419T113000
DTSTAMP:20260425T044435
CREATED:20250115T005017Z
LAST-MODIFIED:20250317T212917Z
UID:10000710-1745055000-1745062200@www.murrayhillrec.com
SUMMARY:Annual Easter Egg Hunt
DESCRIPTION:
URL:https://www.murrayhillrec.com/event/annual-easter-egg-hunt/
LOCATION:Hometown Center\, 11010 SW Teal Blvd\, Beaverton\, OR\, 97007\, United States
CATEGORIES:General
ORGANIZER;CN="Kristin Kebbe":MAILTO:am@murrayhillrec.com
GEO:45.4401283;-122.8365483
X-APPLE-STRUCTURED-LOCATION;VALUE=URI;X-ADDRESS=Hometown Center 11010 SW Teal Blvd Beaverton OR 97007 United States;X-APPLE-RADIUS=500;X-TITLE=11010 SW Teal Blvd:geo:-122.8365483,45.4401283
END:VEVENT
BEGIN:VEVENT
DTSTART;TZID=America/Los_Angeles:20250121T183000
DTEND;TZID=America/Los_Angeles:20250121T203000
DTSTAMP:20260425T044435
CREATED:20250107T230431Z
LAST-MODIFIED:20250107T230432Z
UID:10000705-1737484200-1737491400@www.murrayhillrec.com
SUMMARY:Monthly Board of Directors Meeting
DESCRIPTION:6:30 in the MRA office
URL:https://www.murrayhillrec.com/event/monthly-board-of-directors-meeting-3/
LOCATION:Hometown Center\, 11010 SW Teal Blvd\, Beaverton\, OR\, 97007\, United States
CATEGORIES:Board,General
ATTACH;FMTTYPE=image/jpeg:https://www.murrayhillrec.com/wp-content/uploads/2015/12/boardgavel.jpg
ORGANIZER;CN="Kristin Kebbe":MAILTO:am@murrayhillrec.com
GEO:45.4401283;-122.8365483
X-APPLE-STRUCTURED-LOCATION;VALUE=URI;X-ADDRESS=Hometown Center 11010 SW Teal Blvd Beaverton OR 97007 United States;X-APPLE-RADIUS=500;X-TITLE=11010 SW Teal Blvd:geo:-122.8365483,45.4401283
END:VEVENT
BEGIN:VEVENT
DTSTART;VALUE=DATE:20241128
DTEND;VALUE=DATE:20241130
DTSTAMP:20260425T044435
CREATED:20241126T203303Z
LAST-MODIFIED:20241126T203303Z
UID:10000683-1732752000-1732924799@www.murrayhillrec.com
SUMMARY:Murrayhill Office Closed for the Holiday
DESCRIPTION:
URL:https://www.murrayhillrec.com/event/murrayhill-office-closed-for-the-holiday/
LOCATION:Hometown Center\, 11010 SW Teal Blvd\, Beaverton\, OR\, 97007\, United States
CATEGORIES:General
ORGANIZER;CN="Kristin Kebbe":MAILTO:am@murrayhillrec.com
GEO:45.4401283;-122.8365483
X-APPLE-STRUCTURED-LOCATION;VALUE=URI;X-ADDRESS=Hometown Center 11010 SW Teal Blvd Beaverton OR 97007 United States;X-APPLE-RADIUS=500;X-TITLE=11010 SW Teal Blvd:geo:-122.8365483,45.4401283
END:VEVENT
BEGIN:VEVENT
DTSTART;TZID=America/Los_Angeles:20241016T080000
DTEND;TZID=America/Los_Angeles:20241016T150000
DTSTAMP:20260425T044435
CREATED:20240808T231021Z
LAST-MODIFIED:20241001T232557Z
UID:10000646-1729065600-1729090800@www.murrayhillrec.com
SUMMARY:Red Cross Blood Drive
DESCRIPTION:
URL:https://www.murrayhillrec.com/event/red-cross-blood-drive/
LOCATION:Hometown Center\, 11010 SW Teal Blvd\, Beaverton\, OR\, 97007\, United States
CATEGORIES:General,Hometown Center
ATTACH;FMTTYPE=image/jpeg:https://www.murrayhillrec.com/wp-content/uploads/2024/08/blood-drive.jpg
ORGANIZER;CN="Kristin Kebbe":MAILTO:am@murrayhillrec.com
GEO:45.4401283;-122.8365483
X-APPLE-STRUCTURED-LOCATION;VALUE=URI;X-ADDRESS=Hometown Center 11010 SW Teal Blvd Beaverton OR 97007 United States;X-APPLE-RADIUS=500;X-TITLE=11010 SW Teal Blvd:geo:-122.8365483,45.4401283
END:VEVENT
BEGIN:VEVENT
DTSTART;TZID=America/Los_Angeles:20240806T160000
DTEND;TZID=America/Los_Angeles:20240806T210000
DTSTAMP:20260425T044435
CREATED:20240206T191421Z
LAST-MODIFIED:20240206T191819Z
UID:10000596-1722960000-1722978000@www.murrayhillrec.com
SUMMARY:National Night Out
DESCRIPTION:National neighborhood night out sponsored by Carey Hughes Homes. \nInformation can be found here. More local information to follow.
URL:https://www.murrayhillrec.com/event/national-night-out/
LOCATION:Hometown Center\, 11010 SW Teal Blvd\, Beaverton\, OR\, 97007\, United States
CATEGORIES:General
ATTACH;FMTTYPE=image/jpeg:https://www.murrayhillrec.com/wp-content/uploads/2024/02/National-Night-Out-2024-Logo.jpg
ORGANIZER;CN="Kristin Kebbe":MAILTO:am@murrayhillrec.com
GEO:45.4401283;-122.8365483
X-APPLE-STRUCTURED-LOCATION;VALUE=URI;X-ADDRESS=Hometown Center 11010 SW Teal Blvd Beaverton OR 97007 United States;X-APPLE-RADIUS=500;X-TITLE=11010 SW Teal Blvd:geo:-122.8365483,45.4401283
END:VEVENT
BEGIN:VEVENT
DTSTART;TZID=America/Los_Angeles:20240803T080000
DTEND;TZID=America/Los_Angeles:20240803T140000
DTSTAMP:20260425T044435
CREATED:20240731T191130Z
LAST-MODIFIED:20240731T191155Z
UID:10000635-1722672000-1722693600@www.murrayhillrec.com
SUMMARY:Championship Swim Meet
DESCRIPTION:8am – 2pm \n 
URL:https://www.murrayhillrec.com/event/championship-swim-meet/
LOCATION:Hometown Center\, 11010 SW Teal Blvd\, Beaverton\, OR\, 97007\, United States
CATEGORIES:General,Swim Team
ATTACH;FMTTYPE=image/jpeg:https://www.murrayhillrec.com/wp-content/uploads/2015/12/MurrayHill.jpg
ORGANIZER;CN="Kristin Kebbe":MAILTO:am@murrayhillrec.com
GEO:45.4401283;-122.8365483
X-APPLE-STRUCTURED-LOCATION;VALUE=URI;X-ADDRESS=Hometown Center 11010 SW Teal Blvd Beaverton OR 97007 United States;X-APPLE-RADIUS=500;X-TITLE=11010 SW Teal Blvd:geo:-122.8365483,45.4401283
END:VEVENT
BEGIN:VEVENT
DTSTART;TZID=America/Los_Angeles:20240706T080000
DTEND;TZID=America/Los_Angeles:20240706T120000
DTSTAMP:20260425T044435
CREATED:20240515T222651Z
LAST-MODIFIED:20240515T222651Z
UID:10000624-1720252800-1720267200@www.murrayhillrec.com
SUMMARY:Home Swim Meet
DESCRIPTION:Murrayhill Marlin Swim Meet
URL:https://www.murrayhillrec.com/event/home-swim-meet-4/
LOCATION:Hometown Center\, 11010 SW Teal Blvd\, Beaverton\, OR\, 97007\, United States
CATEGORIES:General,Swim Team
ATTACH;FMTTYPE=image/jpeg:https://www.murrayhillrec.com/wp-content/uploads/2015/12/MurrayHill.jpg
ORGANIZER;CN="Kristin Kebbe":MAILTO:am@murrayhillrec.com
GEO:45.4401283;-122.8365483
X-APPLE-STRUCTURED-LOCATION;VALUE=URI;X-ADDRESS=Hometown Center 11010 SW Teal Blvd Beaverton OR 97007 United States;X-APPLE-RADIUS=500;X-TITLE=11010 SW Teal Blvd:geo:-122.8365483,45.4401283
END:VEVENT
BEGIN:VEVENT
DTSTART;VALUE=DATE:20240607
DTEND;VALUE=DATE:20240608
DTSTAMP:20260425T044435
CREATED:20240129T225059Z
LAST-MODIFIED:20240507T210125Z
UID:10000594-1717718400-1717804799@www.murrayhillrec.com
SUMMARY:Neighborhood Red Cross Blood Drive
DESCRIPTION:
URL:https://www.murrayhillrec.com/event/neighborhood-red-cross-blood-drive/
LOCATION:Hometown Center\, 11010 SW Teal Blvd\, Beaverton\, OR\, 97007\, United States
CATEGORIES:General,Hometown Center
ORGANIZER;CN="Kristin Kebbe":MAILTO:am@murrayhillrec.com
GEO:45.4401283;-122.8365483
X-APPLE-STRUCTURED-LOCATION;VALUE=URI;X-ADDRESS=Hometown Center 11010 SW Teal Blvd Beaverton OR 97007 United States;X-APPLE-RADIUS=500;X-TITLE=11010 SW Teal Blvd:geo:-122.8365483,45.4401283
END:VEVENT
BEGIN:VEVENT
DTSTART;VALUE=DATE:20240524
DTEND;VALUE=DATE:20240525
DTSTAMP:20260425T044435
CREATED:20240103T185229Z
LAST-MODIFIED:20240129T225417Z
UID:10000374-1716508800-1716595199@www.murrayhillrec.com
SUMMARY:Pools Open for 2024 Pre-Season Hours
DESCRIPTION:
URL:https://www.murrayhillrec.com/event/pools-open-for-2024-pre-season-hours/
LOCATION:Hometown Center\, 11010 SW Teal Blvd\, Beaverton\, OR\, 97007\, United States
CATEGORIES:General
ATTACH;FMTTYPE=image/jpeg:https://www.murrayhillrec.com/wp-content/uploads/2024/01/pool-opening.jpg
ORGANIZER;CN="Kristin Kebbe":MAILTO:am@murrayhillrec.com
GEO:45.4401283;-122.8365483
X-APPLE-STRUCTURED-LOCATION;VALUE=URI;X-ADDRESS=Hometown Center 11010 SW Teal Blvd Beaverton OR 97007 United States;X-APPLE-RADIUS=500;X-TITLE=11010 SW Teal Blvd:geo:-122.8365483,45.4401283
END:VEVENT
BEGIN:VEVENT
DTSTART;VALUE=DATE:20240518
DTEND;VALUE=DATE:20240520
DTSTAMP:20260425T044435
CREATED:20240404T204750Z
LAST-MODIFIED:20240404T205603Z
UID:10000610-1715990400-1716163199@www.murrayhillrec.com
SUMMARY:Staff In-Service Training
DESCRIPTION:
URL:https://www.murrayhillrec.com/event/staff-in-service-training-2/
LOCATION:Hometown Center\, 11010 SW Teal Blvd\, Beaverton\, OR\, 97007\, United States
CATEGORIES:General,Hometown Center
ATTACH;FMTTYPE=image/jpeg:https://www.murrayhillrec.com/wp-content/uploads/2024/04/staff-training-1.jpg
ORGANIZER;CN="Kristin Kebbe":MAILTO:am@murrayhillrec.com
GEO:45.4401283;-122.8365483
X-APPLE-STRUCTURED-LOCATION;VALUE=URI;X-ADDRESS=Hometown Center 11010 SW Teal Blvd Beaverton OR 97007 United States;X-APPLE-RADIUS=500;X-TITLE=11010 SW Teal Blvd:geo:-122.8365483,45.4401283
END:VEVENT
BEGIN:VEVENT
DTSTART;TZID=America/Los_Angeles:20240516T183000
DTEND;TZID=America/Los_Angeles:20240516T210000
DTSTAMP:20260425T044435
CREATED:20240423T204502Z
LAST-MODIFIED:20240514T201714Z
UID:10000618-1715884200-1715893200@www.murrayhillrec.com
SUMMARY:Murrayhill Neighborhood Watch Meeting
DESCRIPTION:
URL:https://www.murrayhillrec.com/event/murrayhill-neighborhood-watch-meeting/
LOCATION:Hometown Center\, 11010 SW Teal Blvd\, Beaverton\, OR\, 97007\, United States
CATEGORIES:General,Hometown Center
ORGANIZER;CN="Kristin Kebbe":MAILTO:am@murrayhillrec.com
GEO:45.4401283;-122.8365483
X-APPLE-STRUCTURED-LOCATION;VALUE=URI;X-ADDRESS=Hometown Center 11010 SW Teal Blvd Beaverton OR 97007 United States;X-APPLE-RADIUS=500;X-TITLE=11010 SW Teal Blvd:geo:-122.8365483,45.4401283
END:VEVENT
BEGIN:VEVENT
DTSTART;TZID=America/Los_Angeles:20240512T080000
DTEND;TZID=America/Los_Angeles:20240512T170000
DTSTAMP:20260425T044435
CREATED:20240408T193837Z
LAST-MODIFIED:20240430T220729Z
UID:10000613-1715500800-1715533200@www.murrayhillrec.com
SUMMARY:Staff Lifeguard Certification Class
DESCRIPTION:
URL:https://www.murrayhillrec.com/event/staff-life-guard-certification-class-2/
LOCATION:Hometown Center\, 11010 SW Teal Blvd\, Beaverton\, OR\, 97007\, United States
CATEGORIES:General,Hometown Center
ATTACH;FMTTYPE=image/jpeg:https://www.murrayhillrec.com/wp-content/uploads/2024/04/staff-training-1.jpg
ORGANIZER;CN="Kristin Kebbe":MAILTO:am@murrayhillrec.com
GEO:45.4401283;-122.8365483
X-APPLE-STRUCTURED-LOCATION;VALUE=URI;X-ADDRESS=Hometown Center 11010 SW Teal Blvd Beaverton OR 97007 United States;X-APPLE-RADIUS=500;X-TITLE=11010 SW Teal Blvd:geo:-122.8365483,45.4401283
END:VEVENT
BEGIN:VEVENT
DTSTART;TZID=America/Los_Angeles:20240511T080000
DTEND;TZID=America/Los_Angeles:20240511T150000
DTSTAMP:20260425T044435
CREATED:20240408T193640Z
LAST-MODIFIED:20240430T220710Z
UID:10000611-1715414400-1715439600@www.murrayhillrec.com
SUMMARY:Staff Lifeguard Certification Class
DESCRIPTION:American Red Cross Certification In House Life Guard Class
URL:https://www.murrayhillrec.com/event/staff-life-guard-certification-class/
LOCATION:Hometown Center\, 11010 SW Teal Blvd\, Beaverton\, OR\, 97007\, United States
CATEGORIES:General,Hometown Center
ATTACH;FMTTYPE=image/jpeg:https://www.murrayhillrec.com/wp-content/uploads/2024/04/staff-training-1.jpg
ORGANIZER;CN="Kristin Kebbe":MAILTO:am@murrayhillrec.com
GEO:45.4401283;-122.8365483
X-APPLE-STRUCTURED-LOCATION;VALUE=URI;X-ADDRESS=Hometown Center 11010 SW Teal Blvd Beaverton OR 97007 United States;X-APPLE-RADIUS=500;X-TITLE=11010 SW Teal Blvd:geo:-122.8365483,45.4401283
END:VEVENT
END:VCALENDAR