BEGIN:VCALENDAR
VERSION:2.0
PRODID:-//Murrayhill Recreation Association - ECPv6.15.17.1//NONSGML v1.0//EN
CALSCALE:GREGORIAN
METHOD:PUBLISH
X-WR-CALNAME:Murrayhill Recreation Association
X-ORIGINAL-URL:https://www.murrayhillrec.com
X-WR-CALDESC:Events for Murrayhill Recreation Association
REFRESH-INTERVAL;VALUE=DURATION:PT1H
X-Robots-Tag:noindex
X-PUBLISHED-TTL:PT1H
BEGIN:VTIMEZONE
TZID:America/Los_Angeles
BEGIN:DAYLIGHT
TZOFFSETFROM:-0800
TZOFFSETTO:-0700
TZNAME:PDT
DTSTART:20250309T100000
END:DAYLIGHT
BEGIN:STANDARD
TZOFFSETFROM:-0700
TZOFFSETTO:-0800
TZNAME:PST
DTSTART:20251102T090000
END:STANDARD
BEGIN:DAYLIGHT
TZOFFSETFROM:-0800
TZOFFSETTO:-0700
TZNAME:PDT
DTSTART:20260308T100000
END:DAYLIGHT
BEGIN:STANDARD
TZOFFSETFROM:-0700
TZOFFSETTO:-0800
TZNAME:PST
DTSTART:20261101T090000
END:STANDARD
BEGIN:DAYLIGHT
TZOFFSETFROM:-0800
TZOFFSETTO:-0700
TZNAME:PDT
DTSTART:20270314T100000
END:DAYLIGHT
BEGIN:STANDARD
TZOFFSETFROM:-0700
TZOFFSETTO:-0800
TZNAME:PST
DTSTART:20271107T090000
END:STANDARD
END:VTIMEZONE
BEGIN:VEVENT
DTSTART;TZID=America/Los_Angeles:20260303T160000
DTEND;TZID=America/Los_Angeles:20260303T220000
DTSTAMP:20260423T091819
CREATED:20250724T225116Z
LAST-MODIFIED:20250725T190422Z
UID:10000774-1772553600-1772575200@www.murrayhillrec.com
SUMMARY:HTC Reserved
DESCRIPTION:BWC \n*Self Clean
URL:https://www.murrayhillrec.com/event/htc-reserved-275/
LOCATION:Hometown Center\, 11010 SW Teal Blvd\, Beaverton\, OR\, 97007\, United States
CATEGORIES:Hometown Center
ORGANIZER;CN="Kristin Kebbe":MAILTO:am@murrayhillrec.com
GEO:45.4401283;-122.8365483
X-APPLE-STRUCTURED-LOCATION;VALUE=URI;X-ADDRESS=Hometown Center 11010 SW Teal Blvd Beaverton OR 97007 United States;X-APPLE-RADIUS=500;X-TITLE=11010 SW Teal Blvd:geo:-122.8365483,45.4401283
END:VEVENT
BEGIN:VEVENT
DTSTART;TZID=America/Los_Angeles:20260304T171500
DTEND;TZID=America/Los_Angeles:20260304T183000
DTSTAMP:20260423T091819
CREATED:20260213T190337Z
LAST-MODIFIED:20260213T190520Z
UID:10000879-1772644500-1772649000@www.murrayhillrec.com
SUMMARY:HTC Reserved
DESCRIPTION:Barre3 Community Class
URL:https://www.murrayhillrec.com/event/htc-reserved-346/
LOCATION:OR
CATEGORIES:Hometown Center
END:VEVENT
BEGIN:VEVENT
DTSTART;TZID=America/Los_Angeles:20260307T160000
DTEND;TZID=America/Los_Angeles:20260307T230000
DTSTAMP:20260423T091819
CREATED:20260225T193229Z
LAST-MODIFIED:20260225T193229Z
UID:10000883-1772899200-1772924400@www.murrayhillrec.com
SUMMARY:HTC Reserved
DESCRIPTION:Lot 167
URL:https://www.murrayhillrec.com/event/htc-reserved-345/
LOCATION:OR
CATEGORIES:Hometown Center
END:VEVENT
BEGIN:VEVENT
DTSTART;TZID=America/Los_Angeles:20260310T183000
DTEND;TZID=America/Los_Angeles:20260310T190000
DTSTAMP:20260423T091819
CREATED:20260227T224910Z
LAST-MODIFIED:20260227T230546Z
UID:10000884-1773167400-1773169200@www.murrayhillrec.com
SUMMARY:Annual Meeting
DESCRIPTION:Notice to all Owners of Record of the Murrayhill Recreation Association       \nAll Murrayhill Owners are hereby advised that the Annual Meeting of the Murrayhill Recreation Association is called as follows: \nDATE:  Tuesday\, March 10th 2025  \nTIME:   Call to Order at 6:45 P.M. \nPLACE: Murrayhill Hometown Center              \nTwo MRA Directors will be elected to serve a three-year term on the Board. The term of Meghan Rachmady and Susan Decker will be expiring as of the end of the meeting.  Meghan Rachmady and Susan Decker have been nominated for re-election.  \n                                                                 Annual Meeting Agenda   \n\nWelcome and Call to Order\nRoll Call\nProof of Notice of Meeting\nTax Revenue Ruling 70-604\nRead-In Motions\n\n\n2026 Budget\n\n\nOfficer’s Reports\n\nPresidents & Managers Report\nTreasurers Report\n\n\nElection of (2) Directors\nHomeowners Q &A\nAdjournment\n\nThank you for your participation.  \n 
URL:https://www.murrayhillrec.com/event/annual-meeting-4/
LOCATION:OR
CATEGORIES:Board,Hometown Center
ATTACH;FMTTYPE=image/png:https://www.murrayhillrec.com/wp-content/uploads/2024/02/annual-meeting.png
END:VEVENT
BEGIN:VEVENT
DTSTART;TZID=America/Los_Angeles:20260311T160000
DTEND;TZID=America/Los_Angeles:20260311T230000
DTSTAMP:20260423T091819
CREATED:20251112T211935Z
LAST-MODIFIED:20260310T175535Z
UID:10000823-1773244800-1773270000@www.murrayhillrec.com
SUMMARY:HTC Reserved
DESCRIPTION:Lot 387
URL:https://www.murrayhillrec.com/event/htc-reserved-314/
LOCATION:OR
CATEGORIES:Hometown Center
END:VEVENT
BEGIN:VEVENT
DTSTART;TZID=America/Los_Angeles:20260315T080000
DTEND;TZID=America/Los_Angeles:20260315T140000
DTSTAMP:20260423T091819
CREATED:20260220T210535Z
LAST-MODIFIED:20260220T210535Z
UID:10000881-1773561600-1773583200@www.murrayhillrec.com
SUMMARY:HTC Reserved
DESCRIPTION:Lot 630
URL:https://www.murrayhillrec.com/event/htc-reserved-348/
LOCATION:OR
CATEGORIES:Hometown Center
END:VEVENT
BEGIN:VEVENT
DTSTART;TZID=America/Los_Angeles:20260320T100000
DTEND;TZID=America/Los_Angeles:20260320T160000
DTSTAMP:20260423T091819
CREATED:20260217T194950Z
LAST-MODIFIED:20260310T202023Z
UID:10000880-1774000800-1774022400@www.murrayhillrec.com
SUMMARY:HTC Reserved
DESCRIPTION:lot 391
URL:https://www.murrayhillrec.com/event/htc-reserved-347/
LOCATION:OR
CATEGORIES:Hometown Center
END:VEVENT
BEGIN:VEVENT
DTSTART;TZID=America/Los_Angeles:20260321T150000
DTEND;TZID=America/Los_Angeles:20260321T190000
DTSTAMP:20260423T091819
CREATED:20260310T180234Z
LAST-MODIFIED:20260310T180234Z
UID:10000886-1774105200-1774119600@www.murrayhillrec.com
SUMMARY:HTC Reserved
DESCRIPTION:Johns
URL:https://www.murrayhillrec.com/event/htc-reserved-351/
LOCATION:OR
CATEGORIES:Hometown Center
END:VEVENT
BEGIN:VEVENT
DTSTART;TZID=America/Los_Angeles:20260324T160000
DTEND;TZID=America/Los_Angeles:20260324T230000
DTSTAMP:20260423T091819
CREATED:20260207T000730Z
LAST-MODIFIED:20260207T000730Z
UID:10000860-1774368000-1774393200@www.murrayhillrec.com
SUMMARY:HTC Reserved
DESCRIPTION:Bunco \nself clean
URL:https://www.murrayhillrec.com/event/htc-reserved-333/
LOCATION:OR
CATEGORIES:Hometown Center
END:VEVENT
END:VCALENDAR