BEGIN:VCALENDAR
VERSION:2.0
PRODID:-//Murrayhill Recreation Association - ECPv6.15.17.1//NONSGML v1.0//EN
CALSCALE:GREGORIAN
METHOD:PUBLISH
X-WR-CALNAME:Murrayhill Recreation Association
X-ORIGINAL-URL:https://www.murrayhillrec.com
X-WR-CALDESC:Events for Murrayhill Recreation Association
REFRESH-INTERVAL;VALUE=DURATION:PT1H
X-Robots-Tag:noindex
X-PUBLISHED-TTL:PT1H
BEGIN:VTIMEZONE
TZID:America/Los_Angeles
BEGIN:DAYLIGHT
TZOFFSETFROM:-0800
TZOFFSETTO:-0700
TZNAME:PDT
DTSTART:20150308T100000
END:DAYLIGHT
BEGIN:STANDARD
TZOFFSETFROM:-0700
TZOFFSETTO:-0800
TZNAME:PST
DTSTART:20151101T090000
END:STANDARD
BEGIN:DAYLIGHT
TZOFFSETFROM:-0800
TZOFFSETTO:-0700
TZNAME:PDT
DTSTART:20160313T100000
END:DAYLIGHT
BEGIN:STANDARD
TZOFFSETFROM:-0700
TZOFFSETTO:-0800
TZNAME:PST
DTSTART:20161106T090000
END:STANDARD
BEGIN:DAYLIGHT
TZOFFSETFROM:-0800
TZOFFSETTO:-0700
TZNAME:PDT
DTSTART:20170312T100000
END:DAYLIGHT
BEGIN:STANDARD
TZOFFSETFROM:-0700
TZOFFSETTO:-0800
TZNAME:PST
DTSTART:20171105T090000
END:STANDARD
END:VTIMEZONE
BEGIN:VEVENT
DTSTART;TZID=America/Los_Angeles:20160514T120000
DTEND;TZID=America/Los_Angeles:20160514T150000
DTSTAMP:20260425T043230
CREATED:20160404T203337Z
LAST-MODIFIED:20160404T204958Z
UID:10000040-1463227200-1463238000@www.murrayhillrec.com
SUMMARY:HTC - Rental
DESCRIPTION:12-2
URL:https://www.murrayhillrec.com/event/htc-rental-10/
LOCATION:Hometown Center\, 11010 SW Teal Blvd\, Beaverton\, OR\, 97007\, United States
CATEGORIES:Hometown Center
ORGANIZER;CN="Kristin Kebbe":MAILTO:am@murrayhillrec.com
GEO:45.4401283;-122.8365483
X-APPLE-STRUCTURED-LOCATION;VALUE=URI;X-ADDRESS=Hometown Center 11010 SW Teal Blvd Beaverton OR 97007 United States;X-APPLE-RADIUS=500;X-TITLE=11010 SW Teal Blvd:geo:-122.8365483,45.4401283
END:VEVENT
BEGIN:VEVENT
DTSTART;TZID=America/Los_Angeles:20160515T110000
DTEND;TZID=America/Los_Angeles:20160515T170000
DTSTAMP:20260425T043230
CREATED:20160511T212834Z
LAST-MODIFIED:20160511T212834Z
UID:10000066-1463310000-1463331600@www.murrayhillrec.com
SUMMARY:HTC - Rental
DESCRIPTION:11-5
URL:https://www.murrayhillrec.com/event/htc-rental-6/
LOCATION:Hometown Center\, 11010 SW Teal Blvd\, Beaverton\, OR\, 97007\, United States
CATEGORIES:Hometown Center
ORGANIZER;CN="Kristin Kebbe":MAILTO:am@murrayhillrec.com
GEO:45.4401283;-122.8365483
X-APPLE-STRUCTURED-LOCATION;VALUE=URI;X-ADDRESS=Hometown Center 11010 SW Teal Blvd Beaverton OR 97007 United States;X-APPLE-RADIUS=500;X-TITLE=11010 SW Teal Blvd:geo:-122.8365483,45.4401283
END:VEVENT
BEGIN:VEVENT
DTSTART;TZID=America/Los_Angeles:20160528T090000
DTEND;TZID=America/Los_Angeles:20160528T153000
DTSTAMP:20260425T043230
CREATED:20160511T212943Z
LAST-MODIFIED:20160511T212943Z
UID:10000068-1464426000-1464449400@www.murrayhillrec.com
SUMMARY:HTC - Rental
DESCRIPTION:9-3:30
URL:https://www.murrayhillrec.com/event/htc-rental-16/
LOCATION:Hometown Center\, 11010 SW Teal Blvd\, Beaverton\, OR\, 97007\, United States
CATEGORIES:Hometown Center
ORGANIZER;CN="Kristin Kebbe":MAILTO:am@murrayhillrec.com
GEO:45.4401283;-122.8365483
X-APPLE-STRUCTURED-LOCATION;VALUE=URI;X-ADDRESS=Hometown Center 11010 SW Teal Blvd Beaverton OR 97007 United States;X-APPLE-RADIUS=500;X-TITLE=11010 SW Teal Blvd:geo:-122.8365483,45.4401283
END:VEVENT
BEGIN:VEVENT
DTSTART;TZID=America/Los_Angeles:20160604T110000
DTEND;TZID=America/Los_Angeles:20160604T160000
DTSTAMP:20260425T043230
CREATED:20160406T203340Z
LAST-MODIFIED:20160406T203340Z
UID:10000047-1465038000-1465056000@www.murrayhillrec.com
SUMMARY:HTC- Rental
DESCRIPTION:11-5
URL:https://www.murrayhillrec.com/event/htc-rental-14/
LOCATION:Hometown Center\, 11010 SW Teal Blvd\, Beaverton\, OR\, 97007\, United States
CATEGORIES:Hometown Center
ORGANIZER;CN="Kristin Kebbe":MAILTO:am@murrayhillrec.com
GEO:45.4401283;-122.8365483
X-APPLE-STRUCTURED-LOCATION;VALUE=URI;X-ADDRESS=Hometown Center 11010 SW Teal Blvd Beaverton OR 97007 United States;X-APPLE-RADIUS=500;X-TITLE=11010 SW Teal Blvd:geo:-122.8365483,45.4401283
END:VEVENT
BEGIN:VEVENT
DTSTART;TZID=America/Los_Angeles:20160605T140000
DTEND;TZID=America/Los_Angeles:20160605T200000
DTSTAMP:20260425T043230
CREATED:20160405T182643Z
LAST-MODIFIED:20160601T153652Z
UID:10000043-1465135200-1465156800@www.murrayhillrec.com
SUMMARY:HTC- Rental
DESCRIPTION:2-8
URL:https://www.murrayhillrec.com/event/htc-rental-11/
LOCATION:Hometown Center\, 11010 SW Teal Blvd\, Beaverton\, OR\, 97007\, United States
CATEGORIES:Hometown Center
ORGANIZER;CN="Kristin Kebbe":MAILTO:am@murrayhillrec.com
GEO:45.4401283;-122.8365483
X-APPLE-STRUCTURED-LOCATION;VALUE=URI;X-ADDRESS=Hometown Center 11010 SW Teal Blvd Beaverton OR 97007 United States;X-APPLE-RADIUS=500;X-TITLE=11010 SW Teal Blvd:geo:-122.8365483,45.4401283
END:VEVENT
BEGIN:VEVENT
DTSTART;TZID=America/Los_Angeles:20160609T190000
DTEND;TZID=America/Los_Angeles:20160609T210000
DTSTAMP:20260425T043230
CREATED:20160407T213122Z
LAST-MODIFIED:20160407T213122Z
UID:10000049-1465498800-1465506000@www.murrayhillrec.com
SUMMARY:HTC- Rental
DESCRIPTION:7-9 pm
URL:https://www.murrayhillrec.com/event/htc-rental-15/
LOCATION:Hometown Center\, 11010 SW Teal Blvd\, Beaverton\, OR\, 97007\, United States
CATEGORIES:Hometown Center
ORGANIZER;CN="Kristin Kebbe":MAILTO:am@murrayhillrec.com
GEO:45.4401283;-122.8365483
X-APPLE-STRUCTURED-LOCATION;VALUE=URI;X-ADDRESS=Hometown Center 11010 SW Teal Blvd Beaverton OR 97007 United States;X-APPLE-RADIUS=500;X-TITLE=11010 SW Teal Blvd:geo:-122.8365483,45.4401283
END:VEVENT
BEGIN:VEVENT
DTSTART;TZID=America/Los_Angeles:20160610T130000
DTEND;TZID=America/Los_Angeles:20160610T190000
DTSTAMP:20260425T043230
CREATED:20160405T200119Z
LAST-MODIFIED:20160405T200119Z
UID:10000045-1465563600-1465585200@www.murrayhillrec.com
SUMMARY:HTC - Rental
DESCRIPTION:1-7 pm
URL:https://www.murrayhillrec.com/event/htc-rental-13/
LOCATION:Hometown Center\, 11010 SW Teal Blvd\, Beaverton\, OR\, 97007\, United States
CATEGORIES:Hometown Center
ORGANIZER;CN="Kristin Kebbe":MAILTO:am@murrayhillrec.com
GEO:45.4401283;-122.8365483
X-APPLE-STRUCTURED-LOCATION;VALUE=URI;X-ADDRESS=Hometown Center 11010 SW Teal Blvd Beaverton OR 97007 United States;X-APPLE-RADIUS=500;X-TITLE=11010 SW Teal Blvd:geo:-122.8365483,45.4401283
END:VEVENT
BEGIN:VEVENT
DTSTART;TZID=America/Los_Angeles:20160612T180000
DTEND;TZID=America/Los_Angeles:20160612T230000
DTSTAMP:20260425T043230
CREATED:20160302T203314Z
LAST-MODIFIED:20160302T203314Z
UID:10000033-1465754400-1465772400@www.murrayhillrec.com
SUMMARY:HTC - Rental
DESCRIPTION:6-11pm
URL:https://www.murrayhillrec.com/event/htc-rental-3/
LOCATION:Hometown Center\, 11010 SW Teal Blvd\, Beaverton\, OR\, 97007\, United States
CATEGORIES:Hometown Center
ORGANIZER;CN="Kristin Kebbe":MAILTO:am@murrayhillrec.com
GEO:45.4401283;-122.8365483
X-APPLE-STRUCTURED-LOCATION;VALUE=URI;X-ADDRESS=Hometown Center 11010 SW Teal Blvd Beaverton OR 97007 United States;X-APPLE-RADIUS=500;X-TITLE=11010 SW Teal Blvd:geo:-122.8365483,45.4401283
END:VEVENT
BEGIN:VEVENT
DTSTART;TZID=America/Los_Angeles:20160614T180000
DTEND;TZID=America/Los_Angeles:20160614T200000
DTSTAMP:20260425T043230
CREATED:20160612T171622Z
LAST-MODIFIED:20160612T171702Z
UID:10000073-1465927200-1465934400@www.murrayhillrec.com
SUMMARY:HTC- Rental
DESCRIPTION:6-8 PM
URL:https://www.murrayhillrec.com/event/htc-rental-18/
LOCATION:Hometown Center\, 11010 SW Teal Blvd\, Beaverton\, OR\, 97007\, United States
CATEGORIES:Hometown Center
ORGANIZER;CN="Kristin Kebbe":MAILTO:am@murrayhillrec.com
GEO:45.4401283;-122.8365483
X-APPLE-STRUCTURED-LOCATION;VALUE=URI;X-ADDRESS=Hometown Center 11010 SW Teal Blvd Beaverton OR 97007 United States;X-APPLE-RADIUS=500;X-TITLE=11010 SW Teal Blvd:geo:-122.8365483,45.4401283
END:VEVENT
BEGIN:VEVENT
DTSTART;TZID=America/Los_Angeles:20160615T183000
DTEND;TZID=America/Los_Angeles:20160615T183000
DTSTAMP:20260425T043230
CREATED:20160108T192731Z
LAST-MODIFIED:20160615T185214Z
UID:10000020-1466015400-1466015400@www.murrayhillrec.com
SUMMARY:Board Meeting - June
DESCRIPTION:BOD meeting will be held in the Hometown Center \n7:00 call to order
URL:https://www.murrayhillrec.com/event/board-meeting-june/
LOCATION:Hometown Center\, 11010 SW Teal Blvd\, Beaverton\, OR\, 97007\, United States
CATEGORIES:Board,Hometown Center
ORGANIZER;CN="Kristin Kebbe":MAILTO:am@murrayhillrec.com
GEO:45.4401283;-122.8365483
X-APPLE-STRUCTURED-LOCATION;VALUE=URI;X-ADDRESS=Hometown Center 11010 SW Teal Blvd Beaverton OR 97007 United States;X-APPLE-RADIUS=500;X-TITLE=11010 SW Teal Blvd:geo:-122.8365483,45.4401283
END:VEVENT
BEGIN:VEVENT
DTSTART;TZID=America/Los_Angeles:20160629T090000
DTEND;TZID=America/Los_Angeles:20160629T150000
DTSTAMP:20260425T043230
CREATED:20160615T185045Z
LAST-MODIFIED:20160615T185045Z
UID:10000075-1467190800-1467212400@www.murrayhillrec.com
SUMMARY:HTC - Rental
DESCRIPTION:9:00 am – 3:00 pm
URL:https://www.murrayhillrec.com/event/htc-rental-19/
LOCATION:Hometown Center\, 11010 SW Teal Blvd\, Beaverton\, OR\, 97007\, United States
CATEGORIES:Hometown Center
ORGANIZER;CN="Kristin Kebbe":MAILTO:am@murrayhillrec.com
GEO:45.4401283;-122.8365483
X-APPLE-STRUCTURED-LOCATION;VALUE=URI;X-ADDRESS=Hometown Center 11010 SW Teal Blvd Beaverton OR 97007 United States;X-APPLE-RADIUS=500;X-TITLE=11010 SW Teal Blvd:geo:-122.8365483,45.4401283
END:VEVENT
BEGIN:VEVENT
DTSTART;TZID=America/Los_Angeles:20160722T170000
DTEND;TZID=America/Los_Angeles:20160722T200000
DTSTAMP:20260425T043230
CREATED:20160719T203916Z
LAST-MODIFIED:20160719T203916Z
UID:10000084-1469206800-1469217600@www.murrayhillrec.com
SUMMARY:HTC - Rental
DESCRIPTION:5-8pm
URL:https://www.murrayhillrec.com/event/htc-rental-21/
LOCATION:Hometown Center\, 11010 SW Teal Blvd\, Beaverton\, OR\, 97007\, United States
CATEGORIES:Hometown Center
ORGANIZER;CN="Kristin Kebbe":MAILTO:am@murrayhillrec.com
GEO:45.4401283;-122.8365483
X-APPLE-STRUCTURED-LOCATION;VALUE=URI;X-ADDRESS=Hometown Center 11010 SW Teal Blvd Beaverton OR 97007 United States;X-APPLE-RADIUS=500;X-TITLE=11010 SW Teal Blvd:geo:-122.8365483,45.4401283
END:VEVENT
BEGIN:VEVENT
DTSTART;TZID=America/Los_Angeles:20160727T150000
DTEND;TZID=America/Los_Angeles:20160727T220000
DTSTAMP:20260425T043230
CREATED:20160712T180735Z
LAST-MODIFIED:20160712T180735Z
UID:10000082-1469631600-1469656800@www.murrayhillrec.com
SUMMARY:HTC -Rental
DESCRIPTION:3-10 pm
URL:https://www.murrayhillrec.com/event/htc-rental-12/
LOCATION:Hometown Center\, 11010 SW Teal Blvd\, Beaverton\, OR\, 97007\, United States
CATEGORIES:Hometown Center
ORGANIZER;CN="Kristin Kebbe":MAILTO:am@murrayhillrec.com
GEO:45.4401283;-122.8365483
X-APPLE-STRUCTURED-LOCATION;VALUE=URI;X-ADDRESS=Hometown Center 11010 SW Teal Blvd Beaverton OR 97007 United States;X-APPLE-RADIUS=500;X-TITLE=11010 SW Teal Blvd:geo:-122.8365483,45.4401283
END:VEVENT
BEGIN:VEVENT
DTSTART;TZID=America/Los_Angeles:20160728T080000
DTEND;TZID=America/Los_Angeles:20160728T170000
DTSTAMP:20260425T043230
CREATED:20160511T213125Z
LAST-MODIFIED:20160511T213125Z
UID:10000070-1469692800-1469725200@www.murrayhillrec.com
SUMMARY:HTC - Rental
DESCRIPTION:
URL:https://www.murrayhillrec.com/event/htc-rental-17/
LOCATION:Hometown Center\, 11010 SW Teal Blvd\, Beaverton\, OR\, 97007\, United States
CATEGORIES:Hometown Center
ORGANIZER;CN="Kristin Kebbe":MAILTO:am@murrayhillrec.com
GEO:45.4401283;-122.8365483
X-APPLE-STRUCTURED-LOCATION;VALUE=URI;X-ADDRESS=Hometown Center 11010 SW Teal Blvd Beaverton OR 97007 United States;X-APPLE-RADIUS=500;X-TITLE=11010 SW Teal Blvd:geo:-122.8365483,45.4401283
END:VEVENT
BEGIN:VEVENT
DTSTART;TZID=America/Los_Angeles:20160804T100000
DTEND;TZID=America/Los_Angeles:20160804T170000
DTSTAMP:20260425T043230
CREATED:20160719T204231Z
LAST-MODIFIED:20160719T204231Z
UID:10000085-1470304800-1470330000@www.murrayhillrec.com
SUMMARY:HTC - Rental
DESCRIPTION:10am-5pm
URL:https://www.murrayhillrec.com/event/htc-rental-22/
LOCATION:Hometown Center\, 11010 SW Teal Blvd\, Beaverton\, OR\, 97007\, United States
CATEGORIES:Hometown Center
ORGANIZER;CN="Kristin Kebbe":MAILTO:am@murrayhillrec.com
GEO:45.4401283;-122.8365483
X-APPLE-STRUCTURED-LOCATION;VALUE=URI;X-ADDRESS=Hometown Center 11010 SW Teal Blvd Beaverton OR 97007 United States;X-APPLE-RADIUS=500;X-TITLE=11010 SW Teal Blvd:geo:-122.8365483,45.4401283
END:VEVENT
BEGIN:VEVENT
DTSTART;TZID=America/Los_Angeles:20160813T080000
DTEND;TZID=America/Los_Angeles:20160813T170000
DTSTAMP:20260425T043230
CREATED:20160719T204726Z
LAST-MODIFIED:20160719T204726Z
UID:10000086-1471075200-1471107600@www.murrayhillrec.com
SUMMARY:HTC- Rental
DESCRIPTION:5:30 pm – 11:0 pm
URL:https://www.murrayhillrec.com/event/htc-rental-23/
LOCATION:Hometown Center\, 11010 SW Teal Blvd\, Beaverton\, OR\, 97007\, United States
CATEGORIES:Hometown Center
ORGANIZER;CN="Kristin Kebbe":MAILTO:am@murrayhillrec.com
GEO:45.4401283;-122.8365483
X-APPLE-STRUCTURED-LOCATION;VALUE=URI;X-ADDRESS=Hometown Center 11010 SW Teal Blvd Beaverton OR 97007 United States;X-APPLE-RADIUS=500;X-TITLE=11010 SW Teal Blvd:geo:-122.8365483,45.4401283
END:VEVENT
BEGIN:VEVENT
DTSTART;TZID=America/Los_Angeles:20160821T120000
DTEND;TZID=America/Los_Angeles:20160821T180000
DTSTAMP:20260425T043230
CREATED:20160818T185559Z
LAST-MODIFIED:20160818T185559Z
UID:10000012-1471780800-1471802400@www.murrayhillrec.com
SUMMARY:HTC - Rental
DESCRIPTION:12-6 pm
URL:https://www.murrayhillrec.com/event/htc-rental-27/
LOCATION:Hometown Center\, 11010 SW Teal Blvd\, Beaverton\, OR\, 97007\, United States
CATEGORIES:Hometown Center
ORGANIZER;CN="Kristin Kebbe":MAILTO:am@murrayhillrec.com
GEO:45.4401283;-122.8365483
X-APPLE-STRUCTURED-LOCATION;VALUE=URI;X-ADDRESS=Hometown Center 11010 SW Teal Blvd Beaverton OR 97007 United States;X-APPLE-RADIUS=500;X-TITLE=11010 SW Teal Blvd:geo:-122.8365483,45.4401283
END:VEVENT
BEGIN:VEVENT
DTSTART;TZID=America/Los_Angeles:20160828T100000
DTEND;TZID=America/Los_Angeles:20160828T160000
DTSTAMP:20260425T043230
CREATED:20160712T211314Z
LAST-MODIFIED:20160712T211314Z
UID:10000083-1472378400-1472400000@www.murrayhillrec.com
SUMMARY:HTC -Rental
DESCRIPTION:10-4pm
URL:https://www.murrayhillrec.com/event/htc-rental-20/
LOCATION:Hometown Center\, 11010 SW Teal Blvd\, Beaverton\, OR\, 97007\, United States
CATEGORIES:Hometown Center
ORGANIZER;CN="Kristin Kebbe":MAILTO:am@murrayhillrec.com
GEO:45.4401283;-122.8365483
X-APPLE-STRUCTURED-LOCATION;VALUE=URI;X-ADDRESS=Hometown Center 11010 SW Teal Blvd Beaverton OR 97007 United States;X-APPLE-RADIUS=500;X-TITLE=11010 SW Teal Blvd:geo:-122.8365483,45.4401283
END:VEVENT
BEGIN:VEVENT
DTSTART;TZID=America/Los_Angeles:20160904T140000
DTEND;TZID=America/Los_Angeles:20160904T200000
DTSTAMP:20260425T043230
CREATED:20160829T173712Z
LAST-MODIFIED:20160829T173712Z
UID:10000016-1472997600-1473019200@www.murrayhillrec.com
SUMMARY:HTC - Rental
DESCRIPTION:HTC- Rental \n2:00 pm – 8:00 pm
URL:https://www.murrayhillrec.com/event/htc-rental-30/
LOCATION:Hometown Center\, 11010 SW Teal Blvd\, Beaverton\, OR\, 97007\, United States
CATEGORIES:Hometown Center
ORGANIZER;CN="Kristin Kebbe":MAILTO:am@murrayhillrec.com
GEO:45.4401283;-122.8365483
X-APPLE-STRUCTURED-LOCATION;VALUE=URI;X-ADDRESS=Hometown Center 11010 SW Teal Blvd Beaverton OR 97007 United States;X-APPLE-RADIUS=500;X-TITLE=11010 SW Teal Blvd:geo:-122.8365483,45.4401283
END:VEVENT
BEGIN:VEVENT
DTSTART;TZID=America/Los_Angeles:20160912T160000
DTEND;TZID=America/Los_Angeles:20160912T220000
DTSTAMP:20260425T043230
CREATED:20160901T202235Z
LAST-MODIFIED:20160901T202235Z
UID:10000017-1473696000-1473717600@www.murrayhillrec.com
SUMMARY:HTC - Rental
DESCRIPTION:4-10 pm
URL:https://www.murrayhillrec.com/event/htc-rental-31/
LOCATION:Hometown Center\, 11010 SW Teal Blvd\, Beaverton\, OR\, 97007\, United States
CATEGORIES:Hometown Center
ORGANIZER;CN="Kristin Kebbe":MAILTO:am@murrayhillrec.com
GEO:45.4401283;-122.8365483
X-APPLE-STRUCTURED-LOCATION;VALUE=URI;X-ADDRESS=Hometown Center 11010 SW Teal Blvd Beaverton OR 97007 United States;X-APPLE-RADIUS=500;X-TITLE=11010 SW Teal Blvd:geo:-122.8365483,45.4401283
END:VEVENT
BEGIN:VEVENT
DTSTART;TZID=America/Los_Angeles:20160917T110000
DTEND;TZID=America/Los_Angeles:20160917T170000
DTSTAMP:20260425T043230
CREATED:20160726T184619Z
LAST-MODIFIED:20160726T184619Z
UID:10000087-1474110000-1474131600@www.murrayhillrec.com
SUMMARY:HTC- Rental
DESCRIPTION:11:00 am – 5:00 pm
URL:https://www.murrayhillrec.com/event/htc-rental-24/
LOCATION:Hometown Center\, 11010 SW Teal Blvd\, Beaverton\, OR\, 97007\, United States
CATEGORIES:Hometown Center
ORGANIZER;CN="Kristin Kebbe":MAILTO:am@murrayhillrec.com
GEO:45.4401283;-122.8365483
X-APPLE-STRUCTURED-LOCATION;VALUE=URI;X-ADDRESS=Hometown Center 11010 SW Teal Blvd Beaverton OR 97007 United States;X-APPLE-RADIUS=500;X-TITLE=11010 SW Teal Blvd:geo:-122.8365483,45.4401283
END:VEVENT
BEGIN:VEVENT
DTSTART;TZID=America/Los_Angeles:20160928T170000
DTEND;TZID=America/Los_Angeles:20160928T230000
DTSTAMP:20260425T043230
CREATED:20160927T182549Z
LAST-MODIFIED:20160927T182549Z
UID:10000098-1475082000-1475103600@www.murrayhillrec.com
SUMMARY:HTC - Rental
DESCRIPTION:5-11
URL:https://www.murrayhillrec.com/event/htc-rental-40/
LOCATION:Hometown Center\, 11010 SW Teal Blvd\, Beaverton\, OR\, 97007\, United States
CATEGORIES:Hometown Center
ORGANIZER;CN="Kristin Kebbe":MAILTO:am@murrayhillrec.com
GEO:45.4401283;-122.8365483
X-APPLE-STRUCTURED-LOCATION;VALUE=URI;X-ADDRESS=Hometown Center 11010 SW Teal Blvd Beaverton OR 97007 United States;X-APPLE-RADIUS=500;X-TITLE=11010 SW Teal Blvd:geo:-122.8365483,45.4401283
END:VEVENT
BEGIN:VEVENT
DTSTART;TZID=America/Los_Angeles:20161007T180000
DTEND;TZID=America/Los_Angeles:20161007T230000
DTSTAMP:20260425T043230
CREATED:20160913T175734Z
LAST-MODIFIED:20160913T175734Z
UID:10000025-1475863200-1475881200@www.murrayhillrec.com
SUMMARY:HTC - Rental
DESCRIPTION:6-11
URL:https://www.murrayhillrec.com/event/htc-rental-35/
LOCATION:Hometown Center\, 11010 SW Teal Blvd\, Beaverton\, OR\, 97007\, United States
CATEGORIES:Hometown Center
ORGANIZER;CN="Kristin Kebbe":MAILTO:am@murrayhillrec.com
GEO:45.4401283;-122.8365483
X-APPLE-STRUCTURED-LOCATION;VALUE=URI;X-ADDRESS=Hometown Center 11010 SW Teal Blvd Beaverton OR 97007 United States;X-APPLE-RADIUS=500;X-TITLE=11010 SW Teal Blvd:geo:-122.8365483,45.4401283
END:VEVENT
BEGIN:VEVENT
DTSTART;TZID=America/Los_Angeles:20161008T170000
DTEND;TZID=America/Los_Angeles:20161008T230000
DTSTAMP:20260425T043230
CREATED:20161004T171818Z
LAST-MODIFIED:20161004T171818Z
UID:10000104-1475946000-1475967600@www.murrayhillrec.com
SUMMARY:HTC - Rental
DESCRIPTION:5-11
URL:https://www.murrayhillrec.com/event/htc-rental-41/
LOCATION:Hometown Center\, 11010 SW Teal Blvd\, Beaverton\, OR\, 97007\, United States
CATEGORIES:Hometown Center
ORGANIZER;CN="Kristin Kebbe":MAILTO:am@murrayhillrec.com
GEO:45.4401283;-122.8365483
X-APPLE-STRUCTURED-LOCATION;VALUE=URI;X-ADDRESS=Hometown Center 11010 SW Teal Blvd Beaverton OR 97007 United States;X-APPLE-RADIUS=500;X-TITLE=11010 SW Teal Blvd:geo:-122.8365483,45.4401283
END:VEVENT
BEGIN:VEVENT
DTSTART;TZID=America/Los_Angeles:20161011T080000
DTEND;TZID=America/Los_Angeles:20161011T170000
DTSTAMP:20260425T043230
CREATED:20160916T171049Z
LAST-MODIFIED:20160916T171137Z
UID:10000094-1476172800-1476205200@www.murrayhillrec.com
SUMMARY:HTC- Rental
DESCRIPTION:4-10
URL:https://www.murrayhillrec.com/event/htc-rental-37/
LOCATION:Unnamed Venue\, OR
CATEGORIES:Hometown Center
GEO:40.2968979;-111.6946475
END:VEVENT
BEGIN:VEVENT
DTSTART;TZID=America/Los_Angeles:20161015T130000
DTEND;TZID=America/Los_Angeles:20161015T190000
DTSTAMP:20260425T043230
CREATED:20160912T184820Z
LAST-MODIFIED:20160912T184820Z
UID:10000021-1476536400-1476558000@www.murrayhillrec.com
SUMMARY:HTC- Rental
DESCRIPTION:1-7
URL:https://www.murrayhillrec.com/event/htc-rental-33/
LOCATION:Hometown Center\, 11010 SW Teal Blvd\, Beaverton\, OR\, 97007\, United States
CATEGORIES:Hometown Center
ORGANIZER;CN="Kristin Kebbe":MAILTO:am@murrayhillrec.com
GEO:45.4401283;-122.8365483
X-APPLE-STRUCTURED-LOCATION;VALUE=URI;X-ADDRESS=Hometown Center 11010 SW Teal Blvd Beaverton OR 97007 United States;X-APPLE-RADIUS=500;X-TITLE=11010 SW Teal Blvd:geo:-122.8365483,45.4401283
END:VEVENT
BEGIN:VEVENT
DTSTART;TZID=America/Los_Angeles:20161017T180000
DTEND;TZID=America/Los_Angeles:20161017T210000
DTSTAMP:20260425T043230
CREATED:20161004T171932Z
LAST-MODIFIED:20161004T171932Z
UID:10000105-1476727200-1476738000@www.murrayhillrec.com
SUMMARY:HTC - Rental
DESCRIPTION:6-9
URL:https://www.murrayhillrec.com/event/htc-rental-42/
LOCATION:Hometown Center\, 11010 SW Teal Blvd\, Beaverton\, OR\, 97007\, United States
CATEGORIES:Hometown Center
ORGANIZER;CN="Kristin Kebbe":MAILTO:am@murrayhillrec.com
GEO:45.4401283;-122.8365483
X-APPLE-STRUCTURED-LOCATION;VALUE=URI;X-ADDRESS=Hometown Center 11010 SW Teal Blvd Beaverton OR 97007 United States;X-APPLE-RADIUS=500;X-TITLE=11010 SW Teal Blvd:geo:-122.8365483,45.4401283
END:VEVENT
BEGIN:VEVENT
DTSTART;TZID=America/Los_Angeles:20161022T120000
DTEND;TZID=America/Los_Angeles:20161022T180000
DTSTAMP:20260425T043230
CREATED:20161007T195923Z
LAST-MODIFIED:20161007T195923Z
UID:10000111-1477137600-1477159200@www.murrayhillrec.com
SUMMARY:HTC -Rental
DESCRIPTION:12-6
URL:https://www.murrayhillrec.com/event/htc-rental-48/
LOCATION:Hometown Center\, 11010 SW Teal Blvd\, Beaverton\, OR\, 97007\, United States
CATEGORIES:Hometown Center
ORGANIZER;CN="Kristin Kebbe":MAILTO:am@murrayhillrec.com
GEO:45.4401283;-122.8365483
X-APPLE-STRUCTURED-LOCATION;VALUE=URI;X-ADDRESS=Hometown Center 11010 SW Teal Blvd Beaverton OR 97007 United States;X-APPLE-RADIUS=500;X-TITLE=11010 SW Teal Blvd:geo:-122.8365483,45.4401283
END:VEVENT
BEGIN:VEVENT
DTSTART;TZID=America/Los_Angeles:20161106T160000
DTEND;TZID=America/Los_Angeles:20161106T220000
DTSTAMP:20260425T043230
CREATED:20161004T172835Z
LAST-MODIFIED:20161102T181718Z
UID:10000108-1478448000-1478469600@www.murrayhillrec.com
SUMMARY:HTC - Rental
DESCRIPTION:5-10
URL:https://www.murrayhillrec.com/event/htc-rental-46/
LOCATION:Hometown Center\, 11010 SW Teal Blvd\, Beaverton\, OR\, 97007\, United States
CATEGORIES:Hometown Center
ORGANIZER;CN="Kristin Kebbe":MAILTO:am@murrayhillrec.com
GEO:45.4401283;-122.8365483
X-APPLE-STRUCTURED-LOCATION;VALUE=URI;X-ADDRESS=Hometown Center 11010 SW Teal Blvd Beaverton OR 97007 United States;X-APPLE-RADIUS=500;X-TITLE=11010 SW Teal Blvd:geo:-122.8365483,45.4401283
END:VEVENT
BEGIN:VEVENT
DTSTART;TZID=America/Los_Angeles:20161112T170000
DTEND;TZID=America/Los_Angeles:20161112T230000
DTSTAMP:20260425T043230
CREATED:20160909T171909Z
LAST-MODIFIED:20160909T171909Z
UID:10000019-1478970000-1478991600@www.murrayhillrec.com
SUMMARY:HTC - Rental
DESCRIPTION:5-11
URL:https://www.murrayhillrec.com/event/htc-rental-32/
LOCATION:Hometown Center\, 11010 SW Teal Blvd\, Beaverton\, OR\, 97007\, United States
CATEGORIES:Hometown Center
ORGANIZER;CN="Kristin Kebbe":MAILTO:am@murrayhillrec.com
GEO:45.4401283;-122.8365483
X-APPLE-STRUCTURED-LOCATION;VALUE=URI;X-ADDRESS=Hometown Center 11010 SW Teal Blvd Beaverton OR 97007 United States;X-APPLE-RADIUS=500;X-TITLE=11010 SW Teal Blvd:geo:-122.8365483,45.4401283
END:VEVENT
END:VCALENDAR