BEGIN:VCALENDAR
VERSION:2.0
PRODID:-//Murrayhill Recreation Association - ECPv6.15.17.1//NONSGML v1.0//EN
CALSCALE:GREGORIAN
METHOD:PUBLISH
X-WR-CALNAME:Murrayhill Recreation Association
X-ORIGINAL-URL:https://www.murrayhillrec.com
X-WR-CALDESC:Events for Murrayhill Recreation Association
REFRESH-INTERVAL;VALUE=DURATION:PT1H
X-Robots-Tag:noindex
X-PUBLISHED-TTL:PT1H
BEGIN:VTIMEZONE
TZID:America/Los_Angeles
BEGIN:DAYLIGHT
TZOFFSETFROM:-0800
TZOFFSETTO:-0700
TZNAME:PDT
DTSTART:20150308T100000
END:DAYLIGHT
BEGIN:STANDARD
TZOFFSETFROM:-0700
TZOFFSETTO:-0800
TZNAME:PST
DTSTART:20151101T090000
END:STANDARD
BEGIN:DAYLIGHT
TZOFFSETFROM:-0800
TZOFFSETTO:-0700
TZNAME:PDT
DTSTART:20160313T100000
END:DAYLIGHT
BEGIN:STANDARD
TZOFFSETFROM:-0700
TZOFFSETTO:-0800
TZNAME:PST
DTSTART:20161106T090000
END:STANDARD
BEGIN:DAYLIGHT
TZOFFSETFROM:-0800
TZOFFSETTO:-0700
TZNAME:PDT
DTSTART:20170312T100000
END:DAYLIGHT
BEGIN:STANDARD
TZOFFSETFROM:-0700
TZOFFSETTO:-0800
TZNAME:PST
DTSTART:20171105T090000
END:STANDARD
BEGIN:DAYLIGHT
TZOFFSETFROM:-0800
TZOFFSETTO:-0700
TZNAME:PDT
DTSTART:20180311T100000
END:DAYLIGHT
BEGIN:STANDARD
TZOFFSETFROM:-0700
TZOFFSETTO:-0800
TZNAME:PST
DTSTART:20181104T090000
END:STANDARD
END:VTIMEZONE
BEGIN:VEVENT
DTSTART;TZID=America/Los_Angeles:20161113T110000
DTEND;TZID=America/Los_Angeles:20161113T160000
DTSTAMP:20260425T110936
CREATED:20160912T205047Z
LAST-MODIFIED:20161108T204500Z
UID:10000023-1479034800-1479052800@www.murrayhillrec.com
SUMMARY:HTC - Rental
DESCRIPTION:11-4
URL:https://www.murrayhillrec.com/event/htc-rental-34/
LOCATION:Hometown Center\, 11010 SW Teal Blvd\, Beaverton\, OR\, 97007\, United States
CATEGORIES:Hometown Center
ORGANIZER;CN="Kristin Kebbe":MAILTO:am@murrayhillrec.com
GEO:45.4401283;-122.8365483
X-APPLE-STRUCTURED-LOCATION;VALUE=URI;X-ADDRESS=Hometown Center 11010 SW Teal Blvd Beaverton OR 97007 United States;X-APPLE-RADIUS=500;X-TITLE=11010 SW Teal Blvd:geo:-122.8365483,45.4401283
END:VEVENT
BEGIN:VEVENT
DTSTART;TZID=America/Los_Angeles:20161118T170000
DTEND;TZID=America/Los_Angeles:20161118T230000
DTSTAMP:20260425T110936
CREATED:20161011T182050Z
LAST-MODIFIED:20161011T182050Z
UID:10000112-1479488400-1479510000@www.murrayhillrec.com
SUMMARY:HTC- Rental
DESCRIPTION:5-11
URL:https://www.murrayhillrec.com/event/htc-rental-49/
LOCATION:Hometown Center\, 11010 SW Teal Blvd\, Beaverton\, OR\, 97007\, United States
CATEGORIES:Hometown Center
ORGANIZER;CN="Kristin Kebbe":MAILTO:am@murrayhillrec.com
GEO:45.4401283;-122.8365483
X-APPLE-STRUCTURED-LOCATION;VALUE=URI;X-ADDRESS=Hometown Center 11010 SW Teal Blvd Beaverton OR 97007 United States;X-APPLE-RADIUS=500;X-TITLE=11010 SW Teal Blvd:geo:-122.8365483,45.4401283
END:VEVENT
BEGIN:VEVENT
DTSTART;TZID=America/Los_Angeles:20161119T150000
DTEND;TZID=America/Los_Angeles:20161119T220000
DTSTAMP:20260425T110936
CREATED:20161019T205912Z
LAST-MODIFIED:20161019T205912Z
UID:10000113-1479567600-1479592800@www.murrayhillrec.com
SUMMARY:HTC - Rental
DESCRIPTION:3-10 pm
URL:https://www.murrayhillrec.com/event/htc-rental-51/
LOCATION:Hometown Center\, 11010 SW Teal Blvd\, Beaverton\, OR\, 97007\, United States
CATEGORIES:Hometown Center
ORGANIZER;CN="Kristin Kebbe":MAILTO:am@murrayhillrec.com
GEO:45.4401283;-122.8365483
X-APPLE-STRUCTURED-LOCATION;VALUE=URI;X-ADDRESS=Hometown Center 11010 SW Teal Blvd Beaverton OR 97007 United States;X-APPLE-RADIUS=500;X-TITLE=11010 SW Teal Blvd:geo:-122.8365483,45.4401283
END:VEVENT
BEGIN:VEVENT
DTSTART;TZID=America/Los_Angeles:20161120T040000
DTEND;TZID=America/Los_Angeles:20161120T200000
DTSTAMP:20260425T110936
CREATED:20161004T172508Z
LAST-MODIFIED:20161004T172508Z
UID:10000107-1479614400-1479672000@www.murrayhillrec.com
SUMMARY:HTC - Rental
DESCRIPTION:4-8
URL:https://www.murrayhillrec.com/event/htc-rental-45/
LOCATION:Hometown Center\, 11010 SW Teal Blvd\, Beaverton\, OR\, 97007\, United States
CATEGORIES:Hometown Center
ORGANIZER;CN="Kristin Kebbe":MAILTO:am@murrayhillrec.com
GEO:45.4401283;-122.8365483
X-APPLE-STRUCTURED-LOCATION;VALUE=URI;X-ADDRESS=Hometown Center 11010 SW Teal Blvd Beaverton OR 97007 United States;X-APPLE-RADIUS=500;X-TITLE=11010 SW Teal Blvd:geo:-122.8365483,45.4401283
END:VEVENT
BEGIN:VEVENT
DTSTART;TZID=America/Los_Angeles:20161124T160000
DTEND;TZID=America/Los_Angeles:20161124T220000
DTSTAMP:20260425T110936
CREATED:20161108T203629Z
LAST-MODIFIED:20161108T203629Z
UID:10000127-1480003200-1480024800@www.murrayhillrec.com
SUMMARY:HTC - Rental
DESCRIPTION:4-10
URL:https://www.murrayhillrec.com/event/htc-rental-58/
LOCATION:Hometown Center\, 11010 SW Teal Blvd\, Beaverton\, OR\, 97007\, United States
CATEGORIES:Hometown Center
ORGANIZER;CN="Kristin Kebbe":MAILTO:am@murrayhillrec.com
GEO:45.4401283;-122.8365483
X-APPLE-STRUCTURED-LOCATION;VALUE=URI;X-ADDRESS=Hometown Center 11010 SW Teal Blvd Beaverton OR 97007 United States;X-APPLE-RADIUS=500;X-TITLE=11010 SW Teal Blvd:geo:-122.8365483,45.4401283
END:VEVENT
BEGIN:VEVENT
DTSTART;TZID=America/Los_Angeles:20161203T100000
DTEND;TZID=America/Los_Angeles:20161203T150000
DTSTAMP:20260425T110936
CREATED:20160826T175020Z
LAST-MODIFIED:20161118T202520Z
UID:10000014-1480759200-1480777200@www.murrayhillrec.com
SUMMARY:HTC - Rental
DESCRIPTION:10 am – 3 pm
URL:https://www.murrayhillrec.com/event/htc-rental-29/
LOCATION:Hometown Center\, 11010 SW Teal Blvd\, Beaverton\, OR\, 97007\, United States
CATEGORIES:Hometown Center
ORGANIZER;CN="Kristin Kebbe":MAILTO:am@murrayhillrec.com
GEO:45.4401283;-122.8365483
X-APPLE-STRUCTURED-LOCATION;VALUE=URI;X-ADDRESS=Hometown Center 11010 SW Teal Blvd Beaverton OR 97007 United States;X-APPLE-RADIUS=500;X-TITLE=11010 SW Teal Blvd:geo:-122.8365483,45.4401283
END:VEVENT
BEGIN:VEVENT
DTSTART;TZID=America/Los_Angeles:20161203T163000
DTEND;TZID=America/Los_Angeles:20161203T220000
DTSTAMP:20260425T110936
CREATED:20161118T202836Z
LAST-MODIFIED:20161118T202836Z
UID:10000133-1480782600-1480802400@www.murrayhillrec.com
SUMMARY:HTC - Rental
DESCRIPTION:4:30-10
URL:https://www.murrayhillrec.com/event/htc-rental-43/
LOCATION:Hometown Center\, 11010 SW Teal Blvd\, Beaverton\, OR\, 97007\, United States
CATEGORIES:Hometown Center
ORGANIZER;CN="Kristin Kebbe":MAILTO:am@murrayhillrec.com
GEO:45.4401283;-122.8365483
X-APPLE-STRUCTURED-LOCATION;VALUE=URI;X-ADDRESS=Hometown Center 11010 SW Teal Blvd Beaverton OR 97007 United States;X-APPLE-RADIUS=500;X-TITLE=11010 SW Teal Blvd:geo:-122.8365483,45.4401283
END:VEVENT
BEGIN:VEVENT
DTSTART;TZID=America/Los_Angeles:20161204T110000
DTEND;TZID=America/Los_Angeles:20161204T160000
DTSTAMP:20260425T110936
CREATED:20161004T172329Z
LAST-MODIFIED:20161004T172329Z
UID:10000106-1480849200-1480867200@www.murrayhillrec.com
SUMMARY:HTC - Rental
DESCRIPTION:11-4
URL:https://www.murrayhillrec.com/event/htc-rental-44/
LOCATION:Hometown Center\, 11010 SW Teal Blvd\, Beaverton\, OR\, 97007\, United States
CATEGORIES:Hometown Center
ORGANIZER;CN="Kristin Kebbe":MAILTO:am@murrayhillrec.com
GEO:45.4401283;-122.8365483
X-APPLE-STRUCTURED-LOCATION;VALUE=URI;X-ADDRESS=Hometown Center 11010 SW Teal Blvd Beaverton OR 97007 United States;X-APPLE-RADIUS=500;X-TITLE=11010 SW Teal Blvd:geo:-122.8365483,45.4401283
END:VEVENT
BEGIN:VEVENT
DTSTART;TZID=America/Los_Angeles:20161207T170000
DTEND;TZID=America/Los_Angeles:20161207T220000
DTSTAMP:20260425T110936
CREATED:20161004T182208Z
LAST-MODIFIED:20161004T182208Z
UID:10000110-1481130000-1481148000@www.murrayhillrec.com
SUMMARY:HTC - Rental
DESCRIPTION:5-10
URL:https://www.murrayhillrec.com/event/htc-rental-47/
LOCATION:Hometown Center\, 11010 SW Teal Blvd\, Beaverton\, OR\, 97007\, United States
CATEGORIES:Hometown Center
ORGANIZER;CN="Kristin Kebbe":MAILTO:am@murrayhillrec.com
GEO:45.4401283;-122.8365483
X-APPLE-STRUCTURED-LOCATION;VALUE=URI;X-ADDRESS=Hometown Center 11010 SW Teal Blvd Beaverton OR 97007 United States;X-APPLE-RADIUS=500;X-TITLE=11010 SW Teal Blvd:geo:-122.8365483,45.4401283
END:VEVENT
BEGIN:VEVENT
DTSTART;TZID=America/Los_Angeles:20161209T160000
DTEND;TZID=America/Los_Angeles:20161209T220000
DTSTAMP:20260425T110936
CREATED:20161031T210752Z
LAST-MODIFIED:20161031T210752Z
UID:10000125-1481299200-1481320800@www.murrayhillrec.com
SUMMARY:HTC - Rental
DESCRIPTION:4-10 pm
URL:https://www.murrayhillrec.com/event/htc-rental-57/
LOCATION:Hometown Center\, 11010 SW Teal Blvd\, Beaverton\, OR\, 97007\, United States
CATEGORIES:Hometown Center
ORGANIZER;CN="Kristin Kebbe":MAILTO:am@murrayhillrec.com
GEO:45.4401283;-122.8365483
X-APPLE-STRUCTURED-LOCATION;VALUE=URI;X-ADDRESS=Hometown Center 11010 SW Teal Blvd Beaverton OR 97007 United States;X-APPLE-RADIUS=500;X-TITLE=11010 SW Teal Blvd:geo:-122.8365483,45.4401283
END:VEVENT
BEGIN:VEVENT
DTSTART;TZID=America/Los_Angeles:20161210T160000
DTEND;TZID=America/Los_Angeles:20161210T220000
DTSTAMP:20260425T110936
CREATED:20161209T205801Z
LAST-MODIFIED:20161209T205801Z
UID:10000135-1481385600-1481407200@www.murrayhillrec.com
SUMMARY:HTC Rental
DESCRIPTION:4-10
URL:https://www.murrayhillrec.com/event/htc-rental-28/
LOCATION:Hometown Center\, 11010 SW Teal Blvd\, Beaverton\, OR\, 97007\, United States
CATEGORIES:Hometown Center
ORGANIZER;CN="Kristin Kebbe":MAILTO:am@murrayhillrec.com
GEO:45.4401283;-122.8365483
X-APPLE-STRUCTURED-LOCATION;VALUE=URI;X-ADDRESS=Hometown Center 11010 SW Teal Blvd Beaverton OR 97007 United States;X-APPLE-RADIUS=500;X-TITLE=11010 SW Teal Blvd:geo:-122.8365483,45.4401283
END:VEVENT
BEGIN:VEVENT
DTSTART;TZID=America/Los_Angeles:20161211T130000
DTEND;TZID=America/Los_Angeles:20161211T160000
DTSTAMP:20260425T110936
CREATED:20160914T201344Z
LAST-MODIFIED:20160914T201344Z
UID:10000027-1481461200-1481472000@www.murrayhillrec.com
SUMMARY:HTC - Rental
DESCRIPTION:1-4
URL:https://www.murrayhillrec.com/event/htc-rental-36/
LOCATION:Hometown Center\, 11010 SW Teal Blvd\, Beaverton\, OR\, 97007\, United States
CATEGORIES:Hometown Center
ORGANIZER;CN="Kristin Kebbe":MAILTO:am@murrayhillrec.com
GEO:45.4401283;-122.8365483
X-APPLE-STRUCTURED-LOCATION;VALUE=URI;X-ADDRESS=Hometown Center 11010 SW Teal Blvd Beaverton OR 97007 United States;X-APPLE-RADIUS=500;X-TITLE=11010 SW Teal Blvd:geo:-122.8365483,45.4401283
END:VEVENT
BEGIN:VEVENT
DTSTART;TZID=America/Los_Angeles:20161218T110000
DTEND;TZID=America/Los_Angeles:20161218T170000
DTSTAMP:20260425T110936
CREATED:20161025T172819Z
LAST-MODIFIED:20161108T203505Z
UID:10000120-1482058800-1482080400@www.murrayhillrec.com
SUMMARY:HTC - Rental
DESCRIPTION:11-5 pm
URL:https://www.murrayhillrec.com/event/htc-rental-54/
LOCATION:Hometown Center\, 11010 SW Teal Blvd\, Beaverton\, OR\, 97007\, United States
CATEGORIES:Hometown Center
ORGANIZER;CN="Kristin Kebbe":MAILTO:am@murrayhillrec.com
GEO:45.4401283;-122.8365483
X-APPLE-STRUCTURED-LOCATION;VALUE=URI;X-ADDRESS=Hometown Center 11010 SW Teal Blvd Beaverton OR 97007 United States;X-APPLE-RADIUS=500;X-TITLE=11010 SW Teal Blvd:geo:-122.8365483,45.4401283
END:VEVENT
BEGIN:VEVENT
DTSTART;TZID=America/Los_Angeles:20161219T100000
DTEND;TZID=America/Los_Angeles:20161219T170000
DTSTAMP:20260425T110936
CREATED:20161110T200733Z
LAST-MODIFIED:20161110T200733Z
UID:10000131-1482141600-1482166800@www.murrayhillrec.com
SUMMARY:HTC - Rental
DESCRIPTION:10-5 pm
URL:https://www.murrayhillrec.com/event/htc-rental-60/
LOCATION:Hometown Center\, 11010 SW Teal Blvd\, Beaverton\, OR\, 97007\, United States
CATEGORIES:Hometown Center
ORGANIZER;CN="Kristin Kebbe":MAILTO:am@murrayhillrec.com
GEO:45.4401283;-122.8365483
X-APPLE-STRUCTURED-LOCATION;VALUE=URI;X-ADDRESS=Hometown Center 11010 SW Teal Blvd Beaverton OR 97007 United States;X-APPLE-RADIUS=500;X-TITLE=11010 SW Teal Blvd:geo:-122.8365483,45.4401283
END:VEVENT
BEGIN:VEVENT
DTSTART;TZID=America/Los_Angeles:20161224T160000
DTEND;TZID=America/Los_Angeles:20161224T220000
DTSTAMP:20260425T110936
CREATED:20161108T203824Z
LAST-MODIFIED:20161108T203824Z
UID:10000129-1482595200-1482616800@www.murrayhillrec.com
SUMMARY:HTC - Rental
DESCRIPTION:4-10pm
URL:https://www.murrayhillrec.com/event/htc-rental-59/
LOCATION:Hometown Center\, 11010 SW Teal Blvd\, Beaverton\, OR\, 97007\, United States
CATEGORIES:Hometown Center
ORGANIZER;CN="Kristin Kebbe":MAILTO:am@murrayhillrec.com
GEO:45.4401283;-122.8365483
X-APPLE-STRUCTURED-LOCATION;VALUE=URI;X-ADDRESS=Hometown Center 11010 SW Teal Blvd Beaverton OR 97007 United States;X-APPLE-RADIUS=500;X-TITLE=11010 SW Teal Blvd:geo:-122.8365483,45.4401283
END:VEVENT
BEGIN:VEVENT
DTSTART;TZID=America/Los_Angeles:20161226T140000
DTEND;TZID=America/Los_Angeles:20161226T220000
DTSTAMP:20260425T110936
CREATED:20161129T194310Z
LAST-MODIFIED:20161129T194310Z
UID:10000134-1482760800-1482789600@www.murrayhillrec.com
SUMMARY:HTC - Rental
DESCRIPTION:2-10
URL:https://www.murrayhillrec.com/event/htc-rental-38/
LOCATION:Hometown Center\, 11010 SW Teal Blvd\, Beaverton\, OR\, 97007\, United States
CATEGORIES:Hometown Center
ORGANIZER;CN="Kristin Kebbe":MAILTO:am@murrayhillrec.com
GEO:45.4401283;-122.8365483
X-APPLE-STRUCTURED-LOCATION;VALUE=URI;X-ADDRESS=Hometown Center 11010 SW Teal Blvd Beaverton OR 97007 United States;X-APPLE-RADIUS=500;X-TITLE=11010 SW Teal Blvd:geo:-122.8365483,45.4401283
END:VEVENT
BEGIN:VEVENT
DTSTART;TZID=America/Los_Angeles:20161231T170000
DTEND;TZID=America/Los_Angeles:20170101T010000
DTSTAMP:20260425T110936
CREATED:20161020T174740Z
LAST-MODIFIED:20161020T174740Z
UID:10000118-1483203600-1483232400@www.murrayhillrec.com
SUMMARY:HTC - Rental
DESCRIPTION:5 pm -1 am
URL:https://www.murrayhillrec.com/event/htc-rental-53/
LOCATION:Hometown Center\, 11010 SW Teal Blvd\, Beaverton\, OR\, 97007\, United States
CATEGORIES:Hometown Center
ORGANIZER;CN="Kristin Kebbe":MAILTO:am@murrayhillrec.com
GEO:45.4401283;-122.8365483
X-APPLE-STRUCTURED-LOCATION;VALUE=URI;X-ADDRESS=Hometown Center 11010 SW Teal Blvd Beaverton OR 97007 United States;X-APPLE-RADIUS=500;X-TITLE=11010 SW Teal Blvd:geo:-122.8365483,45.4401283
END:VEVENT
BEGIN:VEVENT
DTSTART;TZID=America/Los_Angeles:20170114T160000
DTEND;TZID=America/Los_Angeles:20170114T220000
DTSTAMP:20260425T110936
CREATED:20170103T192934Z
LAST-MODIFIED:20170103T192934Z
UID:10000136-1484409600-1484431200@www.murrayhillrec.com
SUMMARY:HTC - Rental
DESCRIPTION:4-10 pm
URL:https://www.murrayhillrec.com/event/htc-rental-52/
LOCATION:Hometown Center\, 11010 SW Teal Blvd\, Beaverton\, OR\, 97007\, United States
CATEGORIES:Hometown Center
ORGANIZER;CN="Kristin Kebbe":MAILTO:am@murrayhillrec.com
GEO:45.4401283;-122.8365483
X-APPLE-STRUCTURED-LOCATION;VALUE=URI;X-ADDRESS=Hometown Center 11010 SW Teal Blvd Beaverton OR 97007 United States;X-APPLE-RADIUS=500;X-TITLE=11010 SW Teal Blvd:geo:-122.8365483,45.4401283
END:VEVENT
BEGIN:VEVENT
DTSTART;TZID=America/Los_Angeles:20170115T150000
DTEND;TZID=America/Los_Angeles:20170115T200000
DTSTAMP:20260425T110936
CREATED:20170106T221101Z
LAST-MODIFIED:20170106T221101Z
UID:10000138-1484492400-1484510400@www.murrayhillrec.com
SUMMARY:HTC - Rental
DESCRIPTION:3pm-8pm
URL:https://www.murrayhillrec.com/event/htc-rental-62/
LOCATION:Hometown Center\, 11010 SW Teal Blvd\, Beaverton\, OR\, 97007\, United States
CATEGORIES:Hometown Center
ORGANIZER;CN="Kristin Kebbe":MAILTO:am@murrayhillrec.com
GEO:45.4401283;-122.8365483
X-APPLE-STRUCTURED-LOCATION;VALUE=URI;X-ADDRESS=Hometown Center 11010 SW Teal Blvd Beaverton OR 97007 United States;X-APPLE-RADIUS=500;X-TITLE=11010 SW Teal Blvd:geo:-122.8365483,45.4401283
END:VEVENT
BEGIN:VEVENT
DTSTART;TZID=America/Los_Angeles:20170130T080000
DTEND;TZID=America/Los_Angeles:20170331T170000
DTSTAMP:20260425T110936
CREATED:20170103T202854Z
LAST-MODIFIED:20170228T214308Z
UID:10000137-1485763200-1490979600@www.murrayhillrec.com
SUMMARY:HTC Rentals Unavailable
DESCRIPTION:The Hometown Center is currently under construction. Stay tuned for a new and improved space!
URL:https://www.murrayhillrec.com/event/htc-rentals-unavailable/
LOCATION:Hometown Center\, 11010 SW Teal Blvd\, Beaverton\, OR\, 97007\, United States
CATEGORIES:Hometown Center
ATTACH;FMTTYPE=image/jpeg:https://www.murrayhillrec.com/wp-content/uploads/2017/01/construction.jpeg
ORGANIZER;CN="Kristin Kebbe":MAILTO:am@murrayhillrec.com
GEO:45.4401283;-122.8365483
X-APPLE-STRUCTURED-LOCATION;VALUE=URI;X-ADDRESS=Hometown Center 11010 SW Teal Blvd Beaverton OR 97007 United States;X-APPLE-RADIUS=500;X-TITLE=11010 SW Teal Blvd:geo:-122.8365483,45.4401283
END:VEVENT
BEGIN:VEVENT
DTSTART;TZID=America/Los_Angeles:20170409T080000
DTEND;TZID=America/Los_Angeles:20170409T170000
DTSTAMP:20260425T110936
CREATED:20170206T212435Z
LAST-MODIFIED:20170206T212435Z
UID:10000046-1491724800-1491757200@www.murrayhillrec.com
SUMMARY:HTC- Rental
DESCRIPTION:Non Profit
URL:https://www.murrayhillrec.com/event/htc-rental-63/
LOCATION:Hometown Center\, 11010 SW Teal Blvd\, Beaverton\, OR\, 97007\, United States
CATEGORIES:Hometown Center
ORGANIZER;CN="Kristin Kebbe":MAILTO:am@murrayhillrec.com
GEO:45.4401283;-122.8365483
X-APPLE-STRUCTURED-LOCATION;VALUE=URI;X-ADDRESS=Hometown Center 11010 SW Teal Blvd Beaverton OR 97007 United States;X-APPLE-RADIUS=500;X-TITLE=11010 SW Teal Blvd:geo:-122.8365483,45.4401283
END:VEVENT
BEGIN:VEVENT
DTSTART;TZID=America/Los_Angeles:20170413T180000
DTEND;TZID=America/Los_Angeles:20170413T210000
DTSTAMP:20260425T110936
CREATED:20170328T190106Z
LAST-MODIFIED:20170328T190106Z
UID:10000052-1492106400-1492117200@www.murrayhillrec.com
SUMMARY:HTC - Rental
DESCRIPTION:6-9 pm
URL:https://www.murrayhillrec.com/event/htc-rental-67/
LOCATION:Hometown Center\, 11010 SW Teal Blvd\, Beaverton\, OR\, 97007\, United States
CATEGORIES:Hometown Center
ORGANIZER;CN="Kristin Kebbe":MAILTO:am@murrayhillrec.com
GEO:45.4401283;-122.8365483
X-APPLE-STRUCTURED-LOCATION;VALUE=URI;X-ADDRESS=Hometown Center 11010 SW Teal Blvd Beaverton OR 97007 United States;X-APPLE-RADIUS=500;X-TITLE=11010 SW Teal Blvd:geo:-122.8365483,45.4401283
END:VEVENT
BEGIN:VEVENT
DTSTART;TZID=America/Los_Angeles:20170415T150000
DTEND;TZID=America/Los_Angeles:20170415T230000
DTSTAMP:20260425T110936
CREATED:20170307T203628Z
LAST-MODIFIED:20170307T203628Z
UID:10000050-1492268400-1492297200@www.murrayhillrec.com
SUMMARY:HTC- Rental
DESCRIPTION:3-11
URL:https://www.murrayhillrec.com/event/htc-rental-65/
LOCATION:Hometown Center\, 11010 SW Teal Blvd\, Beaverton\, OR\, 97007\, United States
CATEGORIES:Hometown Center
ORGANIZER;CN="Kristin Kebbe":MAILTO:am@murrayhillrec.com
GEO:45.4401283;-122.8365483
X-APPLE-STRUCTURED-LOCATION;VALUE=URI;X-ADDRESS=Hometown Center 11010 SW Teal Blvd Beaverton OR 97007 United States;X-APPLE-RADIUS=500;X-TITLE=11010 SW Teal Blvd:geo:-122.8365483,45.4401283
END:VEVENT
BEGIN:VEVENT
DTSTART;TZID=America/Los_Angeles:20170416T080000
DTEND;TZID=America/Los_Angeles:20170416T170000
DTSTAMP:20260425T110936
CREATED:20170328T190234Z
LAST-MODIFIED:20170328T190234Z
UID:10000053-1492329600-1492362000@www.murrayhillrec.com
SUMMARY:HTC- Rental
DESCRIPTION:
URL:https://www.murrayhillrec.com/event/htc-rental-68/
LOCATION:Hometown Center\, 11010 SW Teal Blvd\, Beaverton\, OR\, 97007\, United States
CATEGORIES:Hometown Center
ORGANIZER;CN="Kristin Kebbe":MAILTO:am@murrayhillrec.com
GEO:45.4401283;-122.8365483
X-APPLE-STRUCTURED-LOCATION;VALUE=URI;X-ADDRESS=Hometown Center 11010 SW Teal Blvd Beaverton OR 97007 United States;X-APPLE-RADIUS=500;X-TITLE=11010 SW Teal Blvd:geo:-122.8365483,45.4401283
END:VEVENT
BEGIN:VEVENT
DTSTART;TZID=America/Los_Angeles:20170423T160000
DTEND;TZID=America/Los_Angeles:20170423T190000
DTSTAMP:20260425T110936
CREATED:20170404T193703Z
LAST-MODIFIED:20170405T174625Z
UID:10000157-1492963200-1492974000@www.murrayhillrec.com
SUMMARY:Swim Season Planning Meeting
DESCRIPTION:Planning meeting for the upcoming swim season. Open to coaches and management only.
URL:https://www.murrayhillrec.com/event/swim-season-planning-meeting/
LOCATION:Hometown Center\, 11010 SW Teal Blvd\, Beaverton\, OR\, 97007\, United States
CATEGORIES:Hometown Center,Swim Team
ORGANIZER;CN="Kristin Kebbe":MAILTO:am@murrayhillrec.com
GEO:45.4401283;-122.8365483
X-APPLE-STRUCTURED-LOCATION;VALUE=URI;X-ADDRESS=Hometown Center 11010 SW Teal Blvd Beaverton OR 97007 United States;X-APPLE-RADIUS=500;X-TITLE=11010 SW Teal Blvd:geo:-122.8365483,45.4401283
END:VEVENT
BEGIN:VEVENT
DTSTART;TZID=America/Los_Angeles:20170429T080000
DTEND;TZID=America/Los_Angeles:20170429T170000
DTSTAMP:20260425T110936
CREATED:20170328T190611Z
LAST-MODIFIED:20170328T190611Z
UID:10000139-1493452800-1493485200@www.murrayhillrec.com
SUMMARY:HTC -Rental
DESCRIPTION:11-5
URL:https://www.murrayhillrec.com/event/htc-rental-69/
LOCATION:Hometown Center\, 11010 SW Teal Blvd\, Beaverton\, OR\, 97007\, United States
CATEGORIES:Hometown Center
ORGANIZER;CN="Kristin Kebbe":MAILTO:am@murrayhillrec.com
GEO:45.4401283;-122.8365483
X-APPLE-STRUCTURED-LOCATION;VALUE=URI;X-ADDRESS=Hometown Center 11010 SW Teal Blvd Beaverton OR 97007 United States;X-APPLE-RADIUS=500;X-TITLE=11010 SW Teal Blvd:geo:-122.8365483,45.4401283
END:VEVENT
BEGIN:VEVENT
DTSTART;TZID=America/Los_Angeles:20170505T170000
DTEND;TZID=America/Los_Angeles:20170505T230000
DTSTAMP:20260425T110936
CREATED:20170425T202350Z
LAST-MODIFIED:20170426T210847Z
UID:10000160-1494003600-1494025200@www.murrayhillrec.com
SUMMARY:HTC- Rental
DESCRIPTION:5-11pm
URL:https://www.murrayhillrec.com/event/htc-rental-26/
LOCATION:Hometown Center\, 11010 SW Teal Blvd\, Beaverton\, OR\, 97007\, United States
CATEGORIES:Hometown Center
ORGANIZER;CN="Kristin Kebbe":MAILTO:am@murrayhillrec.com
GEO:45.4401283;-122.8365483
X-APPLE-STRUCTURED-LOCATION;VALUE=URI;X-ADDRESS=Hometown Center 11010 SW Teal Blvd Beaverton OR 97007 United States;X-APPLE-RADIUS=500;X-TITLE=11010 SW Teal Blvd:geo:-122.8365483,45.4401283
END:VEVENT
BEGIN:VEVENT
DTSTART;TZID=America/Los_Angeles:20170506T160000
DTEND;TZID=America/Los_Angeles:20170506T230000
DTSTAMP:20260425T110936
CREATED:20170425T175724Z
LAST-MODIFIED:20170425T175724Z
UID:10000159-1494086400-1494111600@www.murrayhillrec.com
SUMMARY:HTC - Rental
DESCRIPTION:4-11
URL:https://www.murrayhillrec.com/event/htc-rental-75/
LOCATION:Hometown Center\, 11010 SW Teal Blvd\, Beaverton\, OR\, 97007\, United States
CATEGORIES:Hometown Center
ORGANIZER;CN="Kristin Kebbe":MAILTO:am@murrayhillrec.com
GEO:45.4401283;-122.8365483
X-APPLE-STRUCTURED-LOCATION;VALUE=URI;X-ADDRESS=Hometown Center 11010 SW Teal Blvd Beaverton OR 97007 United States;X-APPLE-RADIUS=500;X-TITLE=11010 SW Teal Blvd:geo:-122.8365483,45.4401283
END:VEVENT
BEGIN:VEVENT
DTSTART;TZID=America/Los_Angeles:20170509T170000
DTEND;TZID=America/Los_Angeles:20170509T210000
DTSTAMP:20260425T110936
CREATED:20160926T174732Z
LAST-MODIFIED:20160926T174732Z
UID:10000096-1494349200-1494363600@www.murrayhillrec.com
SUMMARY:HTC - Rental
DESCRIPTION:5-9
URL:https://www.murrayhillrec.com/event/htc-rental-39/
LOCATION:Hometown Center\, 11010 SW Teal Blvd\, Beaverton\, OR\, 97007\, United States
CATEGORIES:Hometown Center
ORGANIZER;CN="Kristin Kebbe":MAILTO:am@murrayhillrec.com
GEO:45.4401283;-122.8365483
X-APPLE-STRUCTURED-LOCATION;VALUE=URI;X-ADDRESS=Hometown Center 11010 SW Teal Blvd Beaverton OR 97007 United States;X-APPLE-RADIUS=500;X-TITLE=11010 SW Teal Blvd:geo:-122.8365483,45.4401283
END:VEVENT
BEGIN:VEVENT
DTSTART;TZID=America/Los_Angeles:20170513T080000
DTEND;TZID=America/Los_Angeles:20170513T170000
DTSTAMP:20260425T110936
CREATED:20170201T215158Z
LAST-MODIFIED:20170201T215322Z
UID:10000044-1494662400-1494694800@www.murrayhillrec.com
SUMMARY:HTC -Rental
DESCRIPTION:2-10pm
URL:https://www.murrayhillrec.com/event/htc-rental-61/
LOCATION:Hometown Center\, 11010 SW Teal Blvd\, Beaverton\, OR\, 97007\, United States
CATEGORIES:Hometown Center
ORGANIZER;CN="Kristin Kebbe":MAILTO:am@murrayhillrec.com
GEO:45.4401283;-122.8365483
X-APPLE-STRUCTURED-LOCATION;VALUE=URI;X-ADDRESS=Hometown Center 11010 SW Teal Blvd Beaverton OR 97007 United States;X-APPLE-RADIUS=500;X-TITLE=11010 SW Teal Blvd:geo:-122.8365483,45.4401283
END:VEVENT
END:VCALENDAR