BEGIN:VCALENDAR
VERSION:2.0
PRODID:-//Murrayhill Recreation Association - ECPv6.15.17.1//NONSGML v1.0//EN
CALSCALE:GREGORIAN
METHOD:PUBLISH
X-ORIGINAL-URL:https://www.murrayhillrec.com
X-WR-CALDESC:Events for Murrayhill Recreation Association
REFRESH-INTERVAL;VALUE=DURATION:PT1H
X-Robots-Tag:noindex
X-PUBLISHED-TTL:PT1H
BEGIN:VTIMEZONE
TZID:America/Los_Angeles
BEGIN:DAYLIGHT
TZOFFSETFROM:-0800
TZOFFSETTO:-0700
TZNAME:PDT
DTSTART:20250309T100000
END:DAYLIGHT
BEGIN:STANDARD
TZOFFSETFROM:-0700
TZOFFSETTO:-0800
TZNAME:PST
DTSTART:20251102T090000
END:STANDARD
BEGIN:DAYLIGHT
TZOFFSETFROM:-0800
TZOFFSETTO:-0700
TZNAME:PDT
DTSTART:20260308T100000
END:DAYLIGHT
BEGIN:STANDARD
TZOFFSETFROM:-0700
TZOFFSETTO:-0800
TZNAME:PST
DTSTART:20261101T090000
END:STANDARD
BEGIN:DAYLIGHT
TZOFFSETFROM:-0800
TZOFFSETTO:-0700
TZNAME:PDT
DTSTART:20270314T100000
END:DAYLIGHT
BEGIN:STANDARD
TZOFFSETFROM:-0700
TZOFFSETTO:-0800
TZNAME:PST
DTSTART:20271107T090000
END:STANDARD
END:VTIMEZONE
BEGIN:VEVENT
DTSTART;TZID=America/Los_Angeles:20260515T160000
DTEND;TZID=America/Los_Angeles:20260515T210000
DTSTAMP:20260423T091817
CREATED:20251113T193728Z
LAST-MODIFIED:20251113T193728Z
UID:10000829-1778860800-1778878800@www.murrayhillrec.com
SUMMARY:HTC Reserved
DESCRIPTION:In Service Staff Training
URL:https://www.murrayhillrec.com/event/htc-reserved-316/
LOCATION:OR
CATEGORIES:General,Hometown Center
END:VEVENT
BEGIN:VEVENT
DTSTART;VALUE=DATE:20260516
DTEND;VALUE=DATE:20260518
DTSTAMP:20260423T091817
CREATED:20251113T193811Z
LAST-MODIFIED:20251113T193811Z
UID:10000830-1778889600-1779062399@www.murrayhillrec.com
SUMMARY:HTC Reserved
DESCRIPTION:In Service Staff Training
URL:https://www.murrayhillrec.com/event/htc-reserved-317/
LOCATION:OR
CATEGORIES:General,Hometown Center
END:VEVENT
BEGIN:VEVENT
DTSTART;TZID=America/Los_Angeles:20260526T160000
DTEND;TZID=America/Los_Angeles:20260526T230000
DTSTAMP:20260423T091817
CREATED:20260207T001004Z
LAST-MODIFIED:20260207T001004Z
UID:10000862-1779811200-1779836400@www.murrayhillrec.com
SUMMARY:HTC Reserved
DESCRIPTION:Bunco \nself clean
URL:https://www.murrayhillrec.com/event/htc-reserved-335/
LOCATION:OR
CATEGORIES:Hometown Center
END:VEVENT
BEGIN:VEVENT
DTSTART;TZID=America/Los_Angeles:20260602T160000
DTEND;TZID=America/Los_Angeles:20260602T230000
DTSTAMP:20260423T091817
CREATED:20250724T225340Z
LAST-MODIFIED:20250725T190530Z
UID:10000777-1780416000-1780441200@www.murrayhillrec.com
SUMMARY:HTC Reserved
DESCRIPTION:BWC \n*Self Clean
URL:https://www.murrayhillrec.com/event/htc-reserved-278/
LOCATION:Hometown Center\, 11010 SW Teal Blvd\, Beaverton\, OR\, 97007\, United States
CATEGORIES:Hometown Center
ORGANIZER;CN="Kristin Kebbe":MAILTO:am@murrayhillrec.com
GEO:45.4401283;-122.8365483
X-APPLE-STRUCTURED-LOCATION;VALUE=URI;X-ADDRESS=Hometown Center 11010 SW Teal Blvd Beaverton OR 97007 United States;X-APPLE-RADIUS=500;X-TITLE=11010 SW Teal Blvd:geo:-122.8365483,45.4401283
END:VEVENT
BEGIN:VEVENT
DTSTART;TZID=America/Los_Angeles:20260604T160000
DTEND;TZID=America/Los_Angeles:20260604T230000
DTSTAMP:20260423T091817
CREATED:20251201T205833Z
LAST-MODIFIED:20251201T205833Z
UID:10000834-1780588800-1780614000@www.murrayhillrec.com
SUMMARY:HTC Reserved
DESCRIPTION:Lot 610
URL:https://www.murrayhillrec.com/event/htc-reserved-250/
LOCATION:OR
CATEGORIES:Hometown Center
END:VEVENT
BEGIN:VEVENT
DTSTART;TZID=America/Los_Angeles:20260606T160000
DTEND;TZID=America/Los_Angeles:20260606T230000
DTSTAMP:20260423T091817
CREATED:20260310T205839Z
LAST-MODIFIED:20260310T205839Z
UID:10000887-1780761600-1780786800@www.murrayhillrec.com
SUMMARY:HTC Reserved
DESCRIPTION:lot 488
URL:https://www.murrayhillrec.com/event/htc-reserved-315/
LOCATION:OR
CATEGORIES:Hometown Center
END:VEVENT
BEGIN:VEVENT
DTSTART;TZID=America/Los_Angeles:20260607T160000
DTEND;TZID=America/Los_Angeles:20260607T230000
DTSTAMP:20260423T091817
CREATED:20260224T194310Z
LAST-MODIFIED:20260224T194310Z
UID:10000882-1780848000-1780873200@www.murrayhillrec.com
SUMMARY:HTC Reserved
DESCRIPTION:Lot 482
URL:https://www.murrayhillrec.com/event/htc-reserved-349/
LOCATION:OR
CATEGORIES:Hometown Center
END:VEVENT
BEGIN:VEVENT
DTSTART;TZID=America/Los_Angeles:20260613T080000
DTEND;TZID=America/Los_Angeles:20260613T140000
DTSTAMP:20260423T091817
CREATED:20260421T184453Z
LAST-MODIFIED:20260421T184453Z
UID:10000899-1781337600-1781359200@www.murrayhillrec.com
SUMMARY:HTC Reserved
DESCRIPTION:Lot 570
URL:https://www.murrayhillrec.com/event/htc-reserved-361/
LOCATION:Hometown Center\, 11010 SW Teal Blvd\, Beaverton\, OR\, 97007\, United States
CATEGORIES:Hometown Center
ORGANIZER;CN="Kristin Kebbe":MAILTO:am@murrayhillrec.com
GEO:45.4401283;-122.8365483
X-APPLE-STRUCTURED-LOCATION;VALUE=URI;X-ADDRESS=Hometown Center 11010 SW Teal Blvd Beaverton OR 97007 United States;X-APPLE-RADIUS=500;X-TITLE=11010 SW Teal Blvd:geo:-122.8365483,45.4401283
END:VEVENT
BEGIN:VEVENT
DTSTART;TZID=America/Los_Angeles:20260613T160000
DTEND;TZID=America/Los_Angeles:20260613T230000
DTSTAMP:20260423T091817
CREATED:20260421T191234Z
LAST-MODIFIED:20260421T191234Z
UID:10000900-1781366400-1781391600@www.murrayhillrec.com
SUMMARY:HTC Reserved
DESCRIPTION:Lot 195
URL:https://www.murrayhillrec.com/event/htc-reserved-362/
LOCATION:Hometown Center\, 11010 SW Teal Blvd\, Beaverton\, OR\, 97007\, United States
CATEGORIES:Hometown Center
ORGANIZER;CN="Kristin Kebbe":MAILTO:am@murrayhillrec.com
GEO:45.4401283;-122.8365483
X-APPLE-STRUCTURED-LOCATION;VALUE=URI;X-ADDRESS=Hometown Center 11010 SW Teal Blvd Beaverton OR 97007 United States;X-APPLE-RADIUS=500;X-TITLE=11010 SW Teal Blvd:geo:-122.8365483,45.4401283
END:VEVENT
BEGIN:VEVENT
DTSTART;VALUE=DATE:20260618
DTEND;VALUE=DATE:20260619
DTSTAMP:20260423T091817
CREATED:20260109T211038Z
LAST-MODIFIED:20260109T211038Z
UID:10000849-1781740800-1781827199@www.murrayhillrec.com
SUMMARY:HTC Reserved - Swim Team Event
DESCRIPTION:Swim Team Tie Dye Event
URL:https://www.murrayhillrec.com/event/htc-reserved-swim-team-event/
LOCATION:OR
CATEGORIES:Hometown Center,Swim Team
END:VEVENT
BEGIN:VEVENT
DTSTART;TZID=America/Los_Angeles:20260620T160000
DTEND;TZID=America/Los_Angeles:20260620T230000
DTSTAMP:20260423T091817
CREATED:20260415T192457Z
LAST-MODIFIED:20260415T192457Z
UID:10000893-1781971200-1781996400@www.murrayhillrec.com
SUMMARY:HTC Reserved
DESCRIPTION:Lot 129
URL:https://www.murrayhillrec.com/event/htc-reserved-357/
LOCATION:Hometown Center\, 11010 SW Teal Blvd\, Beaverton\, OR\, 97007\, United States
CATEGORIES:Hometown Center
ORGANIZER;CN="Kristin Kebbe":MAILTO:am@murrayhillrec.com
GEO:45.4401283;-122.8365483
X-APPLE-STRUCTURED-LOCATION;VALUE=URI;X-ADDRESS=Hometown Center 11010 SW Teal Blvd Beaverton OR 97007 United States;X-APPLE-RADIUS=500;X-TITLE=11010 SW Teal Blvd:geo:-122.8365483,45.4401283
END:VEVENT
BEGIN:VEVENT
DTSTART;TZID=America/Los_Angeles:20260623T160000
DTEND;TZID=America/Los_Angeles:20260623T230000
DTSTAMP:20260423T091817
CREATED:20260207T001124Z
LAST-MODIFIED:20260207T001124Z
UID:10000863-1782230400-1782255600@www.murrayhillrec.com
SUMMARY:HTC Reserved
DESCRIPTION:Bunco \nself clean
URL:https://www.murrayhillrec.com/event/htc-reserved-336/
LOCATION:OR
CATEGORIES:Hometown Center
END:VEVENT
BEGIN:VEVENT
DTSTART;TZID=America/Los_Angeles:20260728T160000
DTEND;TZID=America/Los_Angeles:20260728T230000
DTSTAMP:20260423T091817
CREATED:20260207T001307Z
LAST-MODIFIED:20260207T001307Z
UID:10000864-1785254400-1785279600@www.murrayhillrec.com
SUMMARY:HTC Reserved
DESCRIPTION:Bunco \nself clean
URL:https://www.murrayhillrec.com/event/htc-reserved-337/
LOCATION:OR
CATEGORIES:Hometown Center
END:VEVENT
BEGIN:VEVENT
DTSTART;TZID=America/Los_Angeles:20260825T160000
DTEND;TZID=America/Los_Angeles:20260825T230000
DTSTAMP:20260423T091817
CREATED:20260207T001402Z
LAST-MODIFIED:20260207T001402Z
UID:10000865-1787673600-1787698800@www.murrayhillrec.com
SUMMARY:HTC Reserved
DESCRIPTION:Bunco \nself clean
URL:https://www.murrayhillrec.com/event/htc-reserved-338/
LOCATION:OR
CATEGORIES:Hometown Center
END:VEVENT
BEGIN:VEVENT
DTSTART;TZID=America/Los_Angeles:20260922T160000
DTEND;TZID=America/Los_Angeles:20260922T230000
DTSTAMP:20260423T091817
CREATED:20260207T001438Z
LAST-MODIFIED:20260207T001438Z
UID:10000866-1790092800-1790118000@www.murrayhillrec.com
SUMMARY:HTC Reserved
DESCRIPTION:Bunco \nself clean
URL:https://www.murrayhillrec.com/event/htc-reserved-339/
LOCATION:OR
CATEGORIES:Hometown Center
END:VEVENT
BEGIN:VEVENT
DTSTART;TZID=America/Los_Angeles:20261024T160000
DTEND;TZID=America/Los_Angeles:20261024T230000
DTSTAMP:20260423T091817
CREATED:20260210T202755Z
LAST-MODIFIED:20260210T202755Z
UID:10000873-1792857600-1792882800@www.murrayhillrec.com
SUMMARY:HTC Reserved
DESCRIPTION:Lot 309
URL:https://www.murrayhillrec.com/event/htc-reserved-238/
LOCATION:OR
CATEGORIES:Hometown Center
END:VEVENT
BEGIN:VEVENT
DTSTART;TZID=America/Los_Angeles:20261124T160000
DTEND;TZID=America/Los_Angeles:20261124T230000
DTSTAMP:20260423T091817
CREATED:20260207T002528Z
LAST-MODIFIED:20260207T002528Z
UID:10000870-1795536000-1795561200@www.murrayhillrec.com
SUMMARY:HTC Reserved
DESCRIPTION:Bunco \nself clean
URL:https://www.murrayhillrec.com/event/htc-reserved-341/
LOCATION:OR
CATEGORIES:Hometown Center
END:VEVENT
BEGIN:VEVENT
DTSTART;TZID=America/Los_Angeles:20261222T160000
DTEND;TZID=America/Los_Angeles:20261222T230000
DTSTAMP:20260423T091817
CREATED:20260207T002630Z
LAST-MODIFIED:20260207T002630Z
UID:10000871-1797955200-1797980400@www.murrayhillrec.com
SUMMARY:HTC Reserved
DESCRIPTION:Bunco \nself clean
URL:https://www.murrayhillrec.com/event/htc-reserved-342/
LOCATION:OR
CATEGORIES:Hometown Center
END:VEVENT
BEGIN:VEVENT
DTSTART;TZID=America/Los_Angeles:20261230T160000
DTEND;TZID=America/Los_Angeles:20261230T230000
DTSTAMP:20260423T091817
CREATED:20260415T214050Z
LAST-MODIFIED:20260415T214050Z
UID:10000894-1798646400-1798671600@www.murrayhillrec.com
SUMMARY:HTC Reserved
DESCRIPTION:lot 173
URL:https://www.murrayhillrec.com/event/htc-reserved-358/
LOCATION:Hometown Center\, 11010 SW Teal Blvd\, Beaverton\, OR\, 97007\, United States
CATEGORIES:Hometown Center
ORGANIZER;CN="Kristin Kebbe":MAILTO:am@murrayhillrec.com
GEO:45.4401283;-122.8365483
X-APPLE-STRUCTURED-LOCATION;VALUE=URI;X-ADDRESS=Hometown Center 11010 SW Teal Blvd Beaverton OR 97007 United States;X-APPLE-RADIUS=500;X-TITLE=11010 SW Teal Blvd:geo:-122.8365483,45.4401283
END:VEVENT
END:VCALENDAR