BEGIN:VCALENDAR
VERSION:2.0
PRODID:-//Murrayhill Recreation Association - ECPv6.15.17.1//NONSGML v1.0//EN
CALSCALE:GREGORIAN
METHOD:PUBLISH
X-WR-CALNAME:Murrayhill Recreation Association
X-ORIGINAL-URL:https://www.murrayhillrec.com
X-WR-CALDESC:Events for Murrayhill Recreation Association
REFRESH-INTERVAL;VALUE=DURATION:PT1H
X-Robots-Tag:noindex
X-PUBLISHED-TTL:PT1H
BEGIN:VTIMEZONE
TZID:America/Los_Angeles
BEGIN:DAYLIGHT
TZOFFSETFROM:-0800
TZOFFSETTO:-0700
TZNAME:PDT
DTSTART:20250309T100000
END:DAYLIGHT
BEGIN:STANDARD
TZOFFSETFROM:-0700
TZOFFSETTO:-0800
TZNAME:PST
DTSTART:20251102T090000
END:STANDARD
BEGIN:DAYLIGHT
TZOFFSETFROM:-0800
TZOFFSETTO:-0700
TZNAME:PDT
DTSTART:20260308T100000
END:DAYLIGHT
BEGIN:STANDARD
TZOFFSETFROM:-0700
TZOFFSETTO:-0800
TZNAME:PST
DTSTART:20261101T090000
END:STANDARD
BEGIN:DAYLIGHT
TZOFFSETFROM:-0800
TZOFFSETTO:-0700
TZNAME:PDT
DTSTART:20270314T100000
END:DAYLIGHT
BEGIN:STANDARD
TZOFFSETFROM:-0700
TZOFFSETTO:-0800
TZNAME:PST
DTSTART:20271107T090000
END:STANDARD
END:VTIMEZONE
BEGIN:VEVENT
DTSTART;TZID=America/Los_Angeles:20260222T171500
DTEND;TZID=America/Los_Angeles:20260222T183000
DTSTAMP:20260425T081629
CREATED:20260210T223157Z
LAST-MODIFIED:20260210T223157Z
UID:10000875-1771780500-1771785000@www.murrayhillrec.com
SUMMARY:HTC Reserved
DESCRIPTION:Barre3
URL:https://www.murrayhillrec.com/event/htc-reserved-343/
LOCATION:OR
CATEGORIES:Hometown Center
END:VEVENT
BEGIN:VEVENT
DTSTART;TZID=America/Los_Angeles:20260223T171500
DTEND;TZID=America/Los_Angeles:20260223T183000
DTSTAMP:20260425T081629
CREATED:20260206T235851Z
LAST-MODIFIED:20260206T235851Z
UID:10000858-1771866900-1771871400@www.murrayhillrec.com
SUMMARY:HTC Reserved
DESCRIPTION:Barre3 Community Class
URL:https://www.murrayhillrec.com/event/htc-reserved-331/
LOCATION:OR
CATEGORIES:Hometown Center
END:VEVENT
BEGIN:VEVENT
DTSTART;TZID=America/Los_Angeles:20260224T160000
DTEND;TZID=America/Los_Angeles:20260224T230000
DTSTAMP:20260425T081629
CREATED:20260207T000515Z
LAST-MODIFIED:20260207T000515Z
UID:10000859-1771948800-1771974000@www.murrayhillrec.com
SUMMARY:HTC Reserved
DESCRIPTION:Bunco \nself clean
URL:https://www.murrayhillrec.com/event/htc-reserved-332/
LOCATION:OR
CATEGORIES:Hometown Center
END:VEVENT
BEGIN:VEVENT
DTSTART;TZID=America/Los_Angeles:20260225T113000
DTEND;TZID=America/Los_Angeles:20260225T123000
DTSTAMP:20260425T081629
CREATED:20260210T223402Z
LAST-MODIFIED:20260210T223402Z
UID:10000876-1772019000-1772022600@www.murrayhillrec.com
SUMMARY:HTC Reserved
DESCRIPTION:Barre3
URL:https://www.murrayhillrec.com/event/htc-reserved-344/
LOCATION:OR
CATEGORIES:Hometown Center
END:VEVENT
BEGIN:VEVENT
DTSTART;TZID=America/Los_Angeles:20260228T160000
DTEND;TZID=America/Los_Angeles:20260228T230000
DTSTAMP:20260425T081629
CREATED:20260123T212035Z
LAST-MODIFIED:20260123T212035Z
UID:10000854-1772294400-1772319600@www.murrayhillrec.com
SUMMARY:HTC Reserved
DESCRIPTION:Lot 097
URL:https://www.murrayhillrec.com/event/htc-reserved-326/
LOCATION:OR
CATEGORIES:Hometown Center
END:VEVENT
END:VCALENDAR