BEGIN:VCALENDAR
VERSION:2.0
PRODID:-//Murrayhill Recreation Association - ECPv6.15.17.1//NONSGML v1.0//EN
CALSCALE:GREGORIAN
METHOD:PUBLISH
X-ORIGINAL-URL:https://www.murrayhillrec.com
X-WR-CALDESC:Events for Murrayhill Recreation Association
REFRESH-INTERVAL;VALUE=DURATION:PT1H
X-Robots-Tag:noindex
X-PUBLISHED-TTL:PT1H
BEGIN:VTIMEZONE
TZID:America/Los_Angeles
BEGIN:DAYLIGHT
TZOFFSETFROM:-0800
TZOFFSETTO:-0700
TZNAME:PDT
DTSTART:20250309T100000
END:DAYLIGHT
BEGIN:STANDARD
TZOFFSETFROM:-0700
TZOFFSETTO:-0800
TZNAME:PST
DTSTART:20251102T090000
END:STANDARD
BEGIN:DAYLIGHT
TZOFFSETFROM:-0800
TZOFFSETTO:-0700
TZNAME:PDT
DTSTART:20260308T100000
END:DAYLIGHT
BEGIN:STANDARD
TZOFFSETFROM:-0700
TZOFFSETTO:-0800
TZNAME:PST
DTSTART:20261101T090000
END:STANDARD
BEGIN:DAYLIGHT
TZOFFSETFROM:-0800
TZOFFSETTO:-0700
TZNAME:PDT
DTSTART:20270314T100000
END:DAYLIGHT
BEGIN:STANDARD
TZOFFSETFROM:-0700
TZOFFSETTO:-0800
TZNAME:PST
DTSTART:20271107T090000
END:STANDARD
END:VTIMEZONE
BEGIN:VEVENT
DTSTART;VALUE=DATE:20260122
DTEND;VALUE=DATE:20260202
DTSTAMP:20260425T083350
CREATED:20260120T193326Z
LAST-MODIFIED:20260120T193326Z
UID:10000852-1769040000-1769990399@www.murrayhillrec.com
SUMMARY:HTC Closed for Bathroom Renovation
DESCRIPTION:Bathroom renovations
URL:https://www.murrayhillrec.com/event/htc-closed-for-bathroom-renovation/
LOCATION:OR
CATEGORIES:General,Hometown Center
END:VEVENT
BEGIN:VEVENT
DTSTART;TZID=America/Los_Angeles:20260203T160000
DTEND;TZID=America/Los_Angeles:20260203T220000
DTSTAMP:20260425T083350
CREATED:20250724T225024Z
LAST-MODIFIED:20250725T190400Z
UID:10000773-1770134400-1770156000@www.murrayhillrec.com
SUMMARY:HTC Reserved
DESCRIPTION:BWC \n*Self Clean
URL:https://www.murrayhillrec.com/event/htc-reserved-274/
LOCATION:Hometown Center\, 11010 SW Teal Blvd\, Beaverton\, OR\, 97007\, United States
CATEGORIES:Hometown Center
ORGANIZER;CN="Kristin Kebbe":MAILTO:am@murrayhillrec.com
GEO:45.4401283;-122.8365483
X-APPLE-STRUCTURED-LOCATION;VALUE=URI;X-ADDRESS=Hometown Center 11010 SW Teal Blvd Beaverton OR 97007 United States;X-APPLE-RADIUS=500;X-TITLE=11010 SW Teal Blvd:geo:-122.8365483,45.4401283
END:VEVENT
BEGIN:VEVENT
DTSTART;TZID=America/Los_Angeles:20260204T093000
DTEND;TZID=America/Los_Angeles:20260204T113000
DTSTAMP:20260425T083350
CREATED:20260107T235703Z
LAST-MODIFIED:20260114T184611Z
UID:10000845-1770197400-1770204600@www.murrayhillrec.com
SUMMARY:Barre3 Class
DESCRIPTION:Community Class begins at 10:00 am \nJoin us for a 60 minute signature class taught by one of the newly certified Murrayhill instructors!  \nClasses are a combination of strength\, cardio and mindfulness.
URL:https://www.murrayhillrec.com/event/barre3-7/
LOCATION:OR
CATEGORIES:Hometown Center
ATTACH;FMTTYPE=image/png:https://www.murrayhillrec.com/wp-content/uploads/2026/01/2026.png
END:VEVENT
BEGIN:VEVENT
DTSTART;TZID=America/Los_Angeles:20260205T093000
DTEND;TZID=America/Los_Angeles:20260205T113000
DTSTAMP:20260425T083350
CREATED:20260107T235753Z
LAST-MODIFIED:20260114T184722Z
UID:10000846-1770283800-1770291000@www.murrayhillrec.com
SUMMARY:Barre3Class
DESCRIPTION:Community Class begins at 10:00 am \nJoin us for a 60 minute signature class taught by one of the newly certified Murrayhill instructors!  \nClasses are a combination of strength\, cardio and mindfulness.
URL:https://www.murrayhillrec.com/event/barre3-8/
LOCATION:OR
CATEGORIES:Hometown Center
ATTACH;FMTTYPE=image/png:https://www.murrayhillrec.com/wp-content/uploads/2026/01/2026.png
END:VEVENT
BEGIN:VEVENT
DTSTART;TZID=America/Los_Angeles:20260210T160000
DTEND;TZID=America/Los_Angeles:20260210T230000
DTSTAMP:20260425T083350
CREATED:20260114T223327Z
LAST-MODIFIED:20260114T223327Z
UID:10000851-1770739200-1770764400@www.murrayhillrec.com
SUMMARY:HTC Reserved
DESCRIPTION:Lot 448
URL:https://www.murrayhillrec.com/event/htc-reserved-324/
LOCATION:OR
CATEGORIES:Hometown Center
END:VEVENT
BEGIN:VEVENT
DTSTART;TZID=America/Los_Angeles:20260211T160000
DTEND;TZID=America/Los_Angeles:20260211T230000
DTSTAMP:20260425T083350
CREATED:20260114T222820Z
LAST-MODIFIED:20260114T222820Z
UID:10000850-1770825600-1770850800@www.murrayhillrec.com
SUMMARY:HTC Reserved
DESCRIPTION:Lot 448
URL:https://www.murrayhillrec.com/event/htc-reserved-323/
LOCATION:OR
CATEGORIES:Hometown Center
END:VEVENT
BEGIN:VEVENT
DTSTART;TZID=America/Los_Angeles:20260214T093000
DTEND;TZID=America/Los_Angeles:20260214T113000
DTSTAMP:20260425T083350
CREATED:20260107T235844Z
LAST-MODIFIED:20260114T184805Z
UID:10000847-1771061400-1771068600@www.murrayhillrec.com
SUMMARY:Barre3Class
DESCRIPTION:Community Class begins at 10:00 am \nJoin us for a 60 minute signature class taught by one of the newly certified Murrayhill instructors!  \nClasses are a combination of strength\, cardio and mindfulness.
URL:https://www.murrayhillrec.com/event/barre3-9/
LOCATION:OR
CATEGORIES:Hometown Center
ATTACH;FMTTYPE=image/png:https://www.murrayhillrec.com/wp-content/uploads/2026/01/2026.png
END:VEVENT
BEGIN:VEVENT
DTSTART;TZID=America/Los_Angeles:20260217T100000
DTEND;TZID=America/Los_Angeles:20260217T113000
DTSTAMP:20260425T083350
CREATED:20260206T235319Z
LAST-MODIFIED:20260212T210508Z
UID:10000855-1771322400-1771327800@www.murrayhillrec.com
SUMMARY:HTC Reserved
DESCRIPTION:Barre3 Community Class
URL:https://www.murrayhillrec.com/event/htc-reserved-328/
LOCATION:OR
CATEGORIES:Hometown Center
ATTACH;FMTTYPE=image/png:https://www.murrayhillrec.com/wp-content/uploads/2026/02/barre2026.png
END:VEVENT
BEGIN:VEVENT
DTSTART;TZID=America/Los_Angeles:20260217T183000
DTEND;TZID=America/Los_Angeles:20260217T203000
DTSTAMP:20260425T083350
CREATED:20260212T220743Z
LAST-MODIFIED:20260212T220743Z
UID:10000877-1771353000-1771360200@www.murrayhillrec.com
SUMMARY:Monthly BOD Meeting
DESCRIPTION:
URL:https://www.murrayhillrec.com/event/monthly-bod-meeting-7/
LOCATION:OR
CATEGORIES:Board
END:VEVENT
BEGIN:VEVENT
DTSTART;TZID=America/Los_Angeles:20260218T113000
DTEND;TZID=America/Los_Angeles:20260218T120000
DTSTAMP:20260425T083350
CREATED:20260210T221854Z
LAST-MODIFIED:20260210T221854Z
UID:10000874-1771414200-1771416000@www.murrayhillrec.com
SUMMARY:HTC Reserved
DESCRIPTION:Barre3
URL:https://www.murrayhillrec.com/event/htc-reserved-330/
LOCATION:OR
CATEGORIES:Hometown Center
END:VEVENT
BEGIN:VEVENT
DTSTART;TZID=America/Los_Angeles:20260219T100000
DTEND;TZID=America/Los_Angeles:20260219T113000
DTSTAMP:20260425T083350
CREATED:20260206T235510Z
LAST-MODIFIED:20260206T235510Z
UID:10000856-1771495200-1771500600@www.murrayhillrec.com
SUMMARY:HTC Reserved
DESCRIPTION:Barre3 Community Class
URL:https://www.murrayhillrec.com/event/htc-reserved-329/
LOCATION:OR
CATEGORIES:Hometown Center
END:VEVENT
BEGIN:VEVENT
DTSTART;TZID=America/Los_Angeles:20260222T171500
DTEND;TZID=America/Los_Angeles:20260222T183000
DTSTAMP:20260425T083350
CREATED:20260210T223157Z
LAST-MODIFIED:20260210T223157Z
UID:10000875-1771780500-1771785000@www.murrayhillrec.com
SUMMARY:HTC Reserved
DESCRIPTION:Barre3
URL:https://www.murrayhillrec.com/event/htc-reserved-343/
LOCATION:OR
CATEGORIES:Hometown Center
END:VEVENT
BEGIN:VEVENT
DTSTART;TZID=America/Los_Angeles:20260223T171500
DTEND;TZID=America/Los_Angeles:20260223T183000
DTSTAMP:20260425T083350
CREATED:20260206T235851Z
LAST-MODIFIED:20260206T235851Z
UID:10000858-1771866900-1771871400@www.murrayhillrec.com
SUMMARY:HTC Reserved
DESCRIPTION:Barre3 Community Class
URL:https://www.murrayhillrec.com/event/htc-reserved-331/
LOCATION:OR
CATEGORIES:Hometown Center
END:VEVENT
BEGIN:VEVENT
DTSTART;TZID=America/Los_Angeles:20260224T160000
DTEND;TZID=America/Los_Angeles:20260224T230000
DTSTAMP:20260425T083350
CREATED:20260207T000515Z
LAST-MODIFIED:20260207T000515Z
UID:10000859-1771948800-1771974000@www.murrayhillrec.com
SUMMARY:HTC Reserved
DESCRIPTION:Bunco \nself clean
URL:https://www.murrayhillrec.com/event/htc-reserved-332/
LOCATION:OR
CATEGORIES:Hometown Center
END:VEVENT
BEGIN:VEVENT
DTSTART;TZID=America/Los_Angeles:20260225T113000
DTEND;TZID=America/Los_Angeles:20260225T123000
DTSTAMP:20260425T083350
CREATED:20260210T223402Z
LAST-MODIFIED:20260210T223402Z
UID:10000876-1772019000-1772022600@www.murrayhillrec.com
SUMMARY:HTC Reserved
DESCRIPTION:Barre3
URL:https://www.murrayhillrec.com/event/htc-reserved-344/
LOCATION:OR
CATEGORIES:Hometown Center
END:VEVENT
BEGIN:VEVENT
DTSTART;TZID=America/Los_Angeles:20260228T160000
DTEND;TZID=America/Los_Angeles:20260228T230000
DTSTAMP:20260425T083350
CREATED:20260123T212035Z
LAST-MODIFIED:20260123T212035Z
UID:10000854-1772294400-1772319600@www.murrayhillrec.com
SUMMARY:HTC Reserved
DESCRIPTION:Lot 097
URL:https://www.murrayhillrec.com/event/htc-reserved-326/
LOCATION:OR
CATEGORIES:Hometown Center
END:VEVENT
END:VCALENDAR