BEGIN:VCALENDAR
VERSION:2.0
PRODID:-//Murrayhill Recreation Association - ECPv6.15.17.1//NONSGML v1.0//EN
CALSCALE:GREGORIAN
METHOD:PUBLISH
X-ORIGINAL-URL:https://www.murrayhillrec.com
X-WR-CALDESC:Events for Murrayhill Recreation Association
REFRESH-INTERVAL;VALUE=DURATION:PT1H
X-Robots-Tag:noindex
X-PUBLISHED-TTL:PT1H
BEGIN:VTIMEZONE
TZID:America/Los_Angeles
BEGIN:DAYLIGHT
TZOFFSETFROM:-0800
TZOFFSETTO:-0700
TZNAME:PDT
DTSTART:20250309T100000
END:DAYLIGHT
BEGIN:STANDARD
TZOFFSETFROM:-0700
TZOFFSETTO:-0800
TZNAME:PST
DTSTART:20251102T090000
END:STANDARD
BEGIN:DAYLIGHT
TZOFFSETFROM:-0800
TZOFFSETTO:-0700
TZNAME:PDT
DTSTART:20260308T100000
END:DAYLIGHT
BEGIN:STANDARD
TZOFFSETFROM:-0700
TZOFFSETTO:-0800
TZNAME:PST
DTSTART:20261101T090000
END:STANDARD
BEGIN:DAYLIGHT
TZOFFSETFROM:-0800
TZOFFSETTO:-0700
TZNAME:PDT
DTSTART:20270314T100000
END:DAYLIGHT
BEGIN:STANDARD
TZOFFSETFROM:-0700
TZOFFSETTO:-0800
TZNAME:PST
DTSTART:20271107T090000
END:STANDARD
END:VTIMEZONE
BEGIN:VEVENT
DTSTART;TZID=America/Los_Angeles:20260303T160000
DTEND;TZID=America/Los_Angeles:20260303T220000
DTSTAMP:20260425T073856
CREATED:20250724T225116Z
LAST-MODIFIED:20250725T190422Z
UID:10000774-1772553600-1772575200@www.murrayhillrec.com
SUMMARY:HTC Reserved
DESCRIPTION:BWC \n*Self Clean
URL:https://www.murrayhillrec.com/event/htc-reserved-275/
LOCATION:Hometown Center\, 11010 SW Teal Blvd\, Beaverton\, OR\, 97007\, United States
CATEGORIES:Hometown Center
ORGANIZER;CN="Kristin Kebbe":MAILTO:am@murrayhillrec.com
GEO:45.4401283;-122.8365483
X-APPLE-STRUCTURED-LOCATION;VALUE=URI;X-ADDRESS=Hometown Center 11010 SW Teal Blvd Beaverton OR 97007 United States;X-APPLE-RADIUS=500;X-TITLE=11010 SW Teal Blvd:geo:-122.8365483,45.4401283
END:VEVENT
BEGIN:VEVENT
DTSTART;TZID=America/Los_Angeles:20260304T171500
DTEND;TZID=America/Los_Angeles:20260304T183000
DTSTAMP:20260425T073856
CREATED:20260213T190337Z
LAST-MODIFIED:20260213T190520Z
UID:10000879-1772644500-1772649000@www.murrayhillrec.com
SUMMARY:HTC Reserved
DESCRIPTION:Barre3 Community Class
URL:https://www.murrayhillrec.com/event/htc-reserved-346/
LOCATION:OR
CATEGORIES:Hometown Center
END:VEVENT
BEGIN:VEVENT
DTSTART;TZID=America/Los_Angeles:20260307T160000
DTEND;TZID=America/Los_Angeles:20260307T230000
DTSTAMP:20260425T073856
CREATED:20260225T193229Z
LAST-MODIFIED:20260225T193229Z
UID:10000883-1772899200-1772924400@www.murrayhillrec.com
SUMMARY:HTC Reserved
DESCRIPTION:Lot 167
URL:https://www.murrayhillrec.com/event/htc-reserved-345/
LOCATION:OR
CATEGORIES:Hometown Center
END:VEVENT
END:VCALENDAR