BEGIN:VCALENDAR
VERSION:2.0
PRODID:-//Murrayhill Recreation Association - ECPv6.15.17.1//NONSGML v1.0//EN
CALSCALE:GREGORIAN
METHOD:PUBLISH
X-ORIGINAL-URL:https://www.murrayhillrec.com
X-WR-CALDESC:Events for Murrayhill Recreation Association
REFRESH-INTERVAL;VALUE=DURATION:PT1H
X-Robots-Tag:noindex
X-PUBLISHED-TTL:PT1H
BEGIN:VTIMEZONE
TZID:America/Los_Angeles
BEGIN:DAYLIGHT
TZOFFSETFROM:-0800
TZOFFSETTO:-0700
TZNAME:PDT
DTSTART:20240310T100000
END:DAYLIGHT
BEGIN:STANDARD
TZOFFSETFROM:-0700
TZOFFSETTO:-0800
TZNAME:PST
DTSTART:20241103T090000
END:STANDARD
BEGIN:DAYLIGHT
TZOFFSETFROM:-0800
TZOFFSETTO:-0700
TZNAME:PDT
DTSTART:20250309T100000
END:DAYLIGHT
BEGIN:STANDARD
TZOFFSETFROM:-0700
TZOFFSETTO:-0800
TZNAME:PST
DTSTART:20251102T090000
END:STANDARD
BEGIN:DAYLIGHT
TZOFFSETFROM:-0800
TZOFFSETTO:-0700
TZNAME:PDT
DTSTART:20260308T100000
END:DAYLIGHT
BEGIN:STANDARD
TZOFFSETFROM:-0700
TZOFFSETTO:-0800
TZNAME:PST
DTSTART:20261101T090000
END:STANDARD
END:VTIMEZONE
BEGIN:VEVENT
DTSTART;TZID=America/Los_Angeles:20251122T160000
DTEND;TZID=America/Los_Angeles:20251122T230000
DTSTAMP:20260425T112734
CREATED:20250828T195204Z
LAST-MODIFIED:20250828T195204Z
UID:10000791-1763827200-1763852400@www.murrayhillrec.com
SUMMARY:HTC Reserved
DESCRIPTION:Lot 392
URL:https://www.murrayhillrec.com/event/htc-reserved-288/
LOCATION:Hometown Center\, 11010 SW Teal Blvd\, Beaverton\, OR\, 97007\, United States
CATEGORIES:Hometown Center
ORGANIZER;CN="Kristin Kebbe":MAILTO:am@murrayhillrec.com
GEO:45.4401283;-122.8365483
X-APPLE-STRUCTURED-LOCATION;VALUE=URI;X-ADDRESS=Hometown Center 11010 SW Teal Blvd Beaverton OR 97007 United States;X-APPLE-RADIUS=500;X-TITLE=11010 SW Teal Blvd:geo:-122.8365483,45.4401283
END:VEVENT
BEGIN:VEVENT
DTSTART;TZID=America/Los_Angeles:20251116T130000
DTEND;TZID=America/Los_Angeles:20251116T160000
DTSTAMP:20260425T112734
CREATED:20250828T200926Z
LAST-MODIFIED:20250828T200926Z
UID:10000792-1763298000-1763308800@www.murrayhillrec.com
SUMMARY:HTC Reserved
DESCRIPTION:BWC
URL:https://www.murrayhillrec.com/event/htc-reserved-289/
LOCATION:Hometown Center\, 11010 SW Teal Blvd\, Beaverton\, OR\, 97007\, United States
CATEGORIES:Hometown Center
ORGANIZER;CN="Kristin Kebbe":MAILTO:am@murrayhillrec.com
GEO:45.4401283;-122.8365483
X-APPLE-STRUCTURED-LOCATION;VALUE=URI;X-ADDRESS=Hometown Center 11010 SW Teal Blvd Beaverton OR 97007 United States;X-APPLE-RADIUS=500;X-TITLE=11010 SW Teal Blvd:geo:-122.8365483,45.4401283
END:VEVENT
BEGIN:VEVENT
DTSTART;TZID=America/Los_Angeles:20251115T080000
DTEND;TZID=America/Los_Angeles:20251115T140000
DTSTAMP:20260425T112734
CREATED:20250910T222937Z
LAST-MODIFIED:20250910T222937Z
UID:10000795-1763193600-1763215200@www.murrayhillrec.com
SUMMARY:HTC Reserved
DESCRIPTION:Lot 321
URL:https://www.murrayhillrec.com/event/htc-reserved-292/
LOCATION:Hometown Center\, 11010 SW Teal Blvd\, Beaverton\, OR\, 97007\, United States
CATEGORIES:Hometown Center
ORGANIZER;CN="Kristin Kebbe":MAILTO:am@murrayhillrec.com
GEO:45.4401283;-122.8365483
X-APPLE-STRUCTURED-LOCATION;VALUE=URI;X-ADDRESS=Hometown Center 11010 SW Teal Blvd Beaverton OR 97007 United States;X-APPLE-RADIUS=500;X-TITLE=11010 SW Teal Blvd:geo:-122.8365483,45.4401283
END:VEVENT
BEGIN:VEVENT
DTSTART;TZID=America/Los_Angeles:20251104T160000
DTEND;TZID=America/Los_Angeles:20251104T220000
DTSTAMP:20260425T112734
CREATED:20250724T224436Z
LAST-MODIFIED:20250725T190253Z
UID:10000770-1762272000-1762293600@www.murrayhillrec.com
SUMMARY:HTC Reserved
DESCRIPTION:BWC \n*Self Clean
URL:https://www.murrayhillrec.com/event/htc-reserved-271/
LOCATION:Hometown Center\, 11010 SW Teal Blvd\, Beaverton\, OR\, 97007\, United States
CATEGORIES:Hometown Center
ORGANIZER;CN="Kristin Kebbe":MAILTO:am@murrayhillrec.com
GEO:45.4401283;-122.8365483
X-APPLE-STRUCTURED-LOCATION;VALUE=URI;X-ADDRESS=Hometown Center 11010 SW Teal Blvd Beaverton OR 97007 United States;X-APPLE-RADIUS=500;X-TITLE=11010 SW Teal Blvd:geo:-122.8365483,45.4401283
END:VEVENT
BEGIN:VEVENT
DTSTART;TZID=America/Los_Angeles:20251028T160000
DTEND;TZID=America/Los_Angeles:20251028T230000
DTSTAMP:20260425T112734
CREATED:20250106T215632Z
LAST-MODIFIED:20250106T215632Z
UID:10000703-1761667200-1761692400@www.murrayhillrec.com
SUMMARY:HTC Reserved
DESCRIPTION:Bunco – Self Clean
URL:https://www.murrayhillrec.com/event/htc-reserved-237/
LOCATION:Hometown Center\, 11010 SW Teal Blvd\, Beaverton\, OR\, 97007\, United States
CATEGORIES:Hometown Center
ORGANIZER;CN="Kristin Kebbe":MAILTO:am@murrayhillrec.com
GEO:45.4401283;-122.8365483
X-APPLE-STRUCTURED-LOCATION;VALUE=URI;X-ADDRESS=Hometown Center 11010 SW Teal Blvd Beaverton OR 97007 United States;X-APPLE-RADIUS=500;X-TITLE=11010 SW Teal Blvd:geo:-122.8365483,45.4401283
END:VEVENT
BEGIN:VEVENT
DTSTART;TZID=America/Los_Angeles:20251007T160000
DTEND;TZID=America/Los_Angeles:20251007T220000
DTSTAMP:20260425T112734
CREATED:20250724T224340Z
LAST-MODIFIED:20250725T190232Z
UID:10000769-1759852800-1759874400@www.murrayhillrec.com
SUMMARY:HTC Reserved
DESCRIPTION:BWC \n*Self Clean
URL:https://www.murrayhillrec.com/event/htc-reserved-270/
LOCATION:Hometown Center\, 11010 SW Teal Blvd\, Beaverton\, OR\, 97007\, United States
CATEGORIES:Hometown Center
ORGANIZER;CN="Kristin Kebbe":MAILTO:am@murrayhillrec.com
GEO:45.4401283;-122.8365483
X-APPLE-STRUCTURED-LOCATION;VALUE=URI;X-ADDRESS=Hometown Center 11010 SW Teal Blvd Beaverton OR 97007 United States;X-APPLE-RADIUS=500;X-TITLE=11010 SW Teal Blvd:geo:-122.8365483,45.4401283
END:VEVENT
BEGIN:VEVENT
DTSTART;TZID=America/Los_Angeles:20250928T080000
DTEND;TZID=America/Los_Angeles:20250928T140000
DTSTAMP:20260425T112734
CREATED:20250806T222142Z
LAST-MODIFIED:20250806T222142Z
UID:10000780-1759046400-1759068000@www.murrayhillrec.com
SUMMARY:HTC Reserved
DESCRIPTION:Lot 321
URL:https://www.murrayhillrec.com/event/htc-reserved-281/
LOCATION:Hometown Center\, 11010 SW Teal Blvd\, Beaverton\, OR\, 97007\, United States
CATEGORIES:Hometown Center
ORGANIZER;CN="Kristin Kebbe":MAILTO:am@murrayhillrec.com
GEO:45.4401283;-122.8365483
X-APPLE-STRUCTURED-LOCATION;VALUE=URI;X-ADDRESS=Hometown Center 11010 SW Teal Blvd Beaverton OR 97007 United States;X-APPLE-RADIUS=500;X-TITLE=11010 SW Teal Blvd:geo:-122.8365483,45.4401283
END:VEVENT
BEGIN:VEVENT
DTSTART;TZID=America/Los_Angeles:20250927T080000
DTEND;TZID=America/Los_Angeles:20250927T140000
DTSTAMP:20260425T112734
CREATED:20250910T183328Z
LAST-MODIFIED:20250910T183328Z
UID:10000794-1758960000-1758981600@www.murrayhillrec.com
SUMMARY:HTC Reserved
DESCRIPTION:Lot 453
URL:https://www.murrayhillrec.com/event/htc-reserved-291/
LOCATION:Hometown Center\, 11010 SW Teal Blvd\, Beaverton\, OR\, 97007\, United States
CATEGORIES:Hometown Center
ORGANIZER;CN="Kristin Kebbe":MAILTO:am@murrayhillrec.com
GEO:45.4401283;-122.8365483
X-APPLE-STRUCTURED-LOCATION;VALUE=URI;X-ADDRESS=Hometown Center 11010 SW Teal Blvd Beaverton OR 97007 United States;X-APPLE-RADIUS=500;X-TITLE=11010 SW Teal Blvd:geo:-122.8365483,45.4401283
END:VEVENT
BEGIN:VEVENT
DTSTART;TZID=America/Los_Angeles:20250923T160000
DTEND;TZID=America/Los_Angeles:20250923T230000
DTSTAMP:20260425T112734
CREATED:20250106T215526Z
LAST-MODIFIED:20250106T215526Z
UID:10000702-1758643200-1758668400@www.murrayhillrec.com
SUMMARY:HTC Reserved*
DESCRIPTION:Bunco – Self Clean
URL:https://www.murrayhillrec.com/event/htc-reserved-236/
LOCATION:Hometown Center\, 11010 SW Teal Blvd\, Beaverton\, OR\, 97007\, United States
CATEGORIES:Hometown Center
ORGANIZER;CN="Kristin Kebbe":MAILTO:am@murrayhillrec.com
GEO:45.4401283;-122.8365483
X-APPLE-STRUCTURED-LOCATION;VALUE=URI;X-ADDRESS=Hometown Center 11010 SW Teal Blvd Beaverton OR 97007 United States;X-APPLE-RADIUS=500;X-TITLE=11010 SW Teal Blvd:geo:-122.8365483,45.4401283
END:VEVENT
BEGIN:VEVENT
DTSTART;TZID=America/Los_Angeles:20250918T170000
DTEND;TZID=America/Los_Angeles:20250918T203000
DTSTAMP:20260425T112734
CREATED:20250826T205437Z
LAST-MODIFIED:20250826T205437Z
UID:10000789-1758214800-1758227400@www.murrayhillrec.com
SUMMARY:HTC Reserved
DESCRIPTION:Barre3 Training
URL:https://www.murrayhillrec.com/event/htc-reserved-286/
LOCATION:Hometown Center\, 11010 SW Teal Blvd\, Beaverton\, OR\, 97007\, United States
CATEGORIES:Hometown Center
ORGANIZER;CN="Kristin Kebbe":MAILTO:am@murrayhillrec.com
GEO:45.4401283;-122.8365483
X-APPLE-STRUCTURED-LOCATION;VALUE=URI;X-ADDRESS=Hometown Center 11010 SW Teal Blvd Beaverton OR 97007 United States;X-APPLE-RADIUS=500;X-TITLE=11010 SW Teal Blvd:geo:-122.8365483,45.4401283
END:VEVENT
BEGIN:VEVENT
DTSTART;TZID=America/Los_Angeles:20250913T160000
DTEND;TZID=America/Los_Angeles:20250913T230000
DTSTAMP:20260425T112734
CREATED:20250826T204750Z
LAST-MODIFIED:20250826T204808Z
UID:10000785-1757779200-1757804400@www.murrayhillrec.com
SUMMARY:HTC Reserved
DESCRIPTION:lot 424
URL:https://www.murrayhillrec.com/event/3478/
LOCATION:Hometown Center\, 11010 SW Teal Blvd\, Beaverton\, OR\, 97007\, United States
ORGANIZER;CN="Kristin Kebbe":MAILTO:am@murrayhillrec.com
GEO:45.4401283;-122.8365483
X-APPLE-STRUCTURED-LOCATION;VALUE=URI;X-ADDRESS=Hometown Center 11010 SW Teal Blvd Beaverton OR 97007 United States;X-APPLE-RADIUS=500;X-TITLE=11010 SW Teal Blvd:geo:-122.8365483,45.4401283
END:VEVENT
BEGIN:VEVENT
DTSTART;VALUE=DATE:20250907
DTEND;VALUE=DATE:20250908
DTSTAMP:20260425T112734
CREATED:20250826T224325Z
LAST-MODIFIED:20250826T225113Z
UID:10000790-1757203200-1757289599@www.murrayhillrec.com
SUMMARY:HTC Reserved
DESCRIPTION:Last Day Pool Clean Up
URL:https://www.murrayhillrec.com/event/htc-reserved-287/
LOCATION:Hometown Center\, 11010 SW Teal Blvd\, Beaverton\, OR\, 97007\, United States
CATEGORIES:General,Hometown Center
ORGANIZER;CN="Kristin Kebbe":MAILTO:am@murrayhillrec.com
GEO:45.4401283;-122.8365483
X-APPLE-STRUCTURED-LOCATION;VALUE=URI;X-ADDRESS=Hometown Center 11010 SW Teal Blvd Beaverton OR 97007 United States;X-APPLE-RADIUS=500;X-TITLE=11010 SW Teal Blvd:geo:-122.8365483,45.4401283
END:VEVENT
BEGIN:VEVENT
DTSTART;TZID=America/Los_Angeles:20250904T170000
DTEND;TZID=America/Los_Angeles:20250904T203000
DTSTAMP:20260425T112734
CREATED:20250826T205345Z
LAST-MODIFIED:20250826T205345Z
UID:10000788-1757005200-1757017800@www.murrayhillrec.com
SUMMARY:HTC Reserved
DESCRIPTION:Barre3 Training
URL:https://www.murrayhillrec.com/event/htc-reserved-285/
LOCATION:Hometown Center\, 11010 SW Teal Blvd\, Beaverton\, OR\, 97007\, United States
CATEGORIES:Hometown Center
ORGANIZER;CN="Kristin Kebbe":MAILTO:am@murrayhillrec.com
GEO:45.4401283;-122.8365483
X-APPLE-STRUCTURED-LOCATION;VALUE=URI;X-ADDRESS=Hometown Center 11010 SW Teal Blvd Beaverton OR 97007 United States;X-APPLE-RADIUS=500;X-TITLE=11010 SW Teal Blvd:geo:-122.8365483,45.4401283
END:VEVENT
BEGIN:VEVENT
DTSTART;TZID=America/Los_Angeles:20250902T160000
DTEND;TZID=America/Los_Angeles:20250902T220000
DTSTAMP:20260425T112734
CREATED:20250724T224212Z
LAST-MODIFIED:20250725T190210Z
UID:10000768-1756828800-1756850400@www.murrayhillrec.com
SUMMARY:HTC Reserved
DESCRIPTION:BWC \n*Self Clean
URL:https://www.murrayhillrec.com/event/htc-reserved-269/
LOCATION:Hometown Center\, 11010 SW Teal Blvd\, Beaverton\, OR\, 97007\, United States
CATEGORIES:Hometown Center
ORGANIZER;CN="Kristin Kebbe":MAILTO:am@murrayhillrec.com
GEO:45.4401283;-122.8365483
X-APPLE-STRUCTURED-LOCATION;VALUE=URI;X-ADDRESS=Hometown Center 11010 SW Teal Blvd Beaverton OR 97007 United States;X-APPLE-RADIUS=500;X-TITLE=11010 SW Teal Blvd:geo:-122.8365483,45.4401283
END:VEVENT
BEGIN:VEVENT
DTSTART;TZID=America/Los_Angeles:20250828T170000
DTEND;TZID=America/Los_Angeles:20250828T203000
DTSTAMP:20260425T112734
CREATED:20250826T205258Z
LAST-MODIFIED:20250826T205258Z
UID:10000787-1756400400-1756413000@www.murrayhillrec.com
SUMMARY:HTC Reserved
DESCRIPTION:Barre3 Training
URL:https://www.murrayhillrec.com/event/htc-reserved-284/
LOCATION:Hometown Center\, 11010 SW Teal Blvd\, Beaverton\, OR\, 97007\, United States
CATEGORIES:Hometown Center
ORGANIZER;CN="Kristin Kebbe":MAILTO:am@murrayhillrec.com
GEO:45.4401283;-122.8365483
X-APPLE-STRUCTURED-LOCATION;VALUE=URI;X-ADDRESS=Hometown Center 11010 SW Teal Blvd Beaverton OR 97007 United States;X-APPLE-RADIUS=500;X-TITLE=11010 SW Teal Blvd:geo:-122.8365483,45.4401283
END:VEVENT
BEGIN:VEVENT
DTSTART;TZID=America/Los_Angeles:20250827T180000
DTEND;TZID=America/Los_Angeles:20250827T190000
DTSTAMP:20260425T112734
CREATED:20250826T204945Z
LAST-MODIFIED:20250826T204945Z
UID:10000786-1756317600-1756321200@www.murrayhillrec.com
SUMMARY:HTC Reserved
DESCRIPTION:Barre3 training
URL:https://www.murrayhillrec.com/event/htc-reserved-283/
LOCATION:Hometown Center\, 11010 SW Teal Blvd\, Beaverton\, OR\, 97007\, United States
CATEGORIES:Hometown Center
ORGANIZER;CN="Kristin Kebbe":MAILTO:am@murrayhillrec.com
GEO:45.4401283;-122.8365483
X-APPLE-STRUCTURED-LOCATION;VALUE=URI;X-ADDRESS=Hometown Center 11010 SW Teal Blvd Beaverton OR 97007 United States;X-APPLE-RADIUS=500;X-TITLE=11010 SW Teal Blvd:geo:-122.8365483,45.4401283
END:VEVENT
BEGIN:VEVENT
DTSTART;TZID=America/Los_Angeles:20250826T160000
DTEND;TZID=America/Los_Angeles:20250826T230000
DTSTAMP:20260425T112734
CREATED:20250106T215338Z
LAST-MODIFIED:20250106T215338Z
UID:10000701-1756224000-1756249200@www.murrayhillrec.com
SUMMARY:HTC Reserved*
DESCRIPTION:Bunco – Self Clean
URL:https://www.murrayhillrec.com/event/htc-reserved-235/
LOCATION:Hometown Center\, 11010 SW Teal Blvd\, Beaverton\, OR\, 97007\, United States
CATEGORIES:Hometown Center
ORGANIZER;CN="Kristin Kebbe":MAILTO:am@murrayhillrec.com
GEO:45.4401283;-122.8365483
X-APPLE-STRUCTURED-LOCATION;VALUE=URI;X-ADDRESS=Hometown Center 11010 SW Teal Blvd Beaverton OR 97007 United States;X-APPLE-RADIUS=500;X-TITLE=11010 SW Teal Blvd:geo:-122.8365483,45.4401283
END:VEVENT
BEGIN:VEVENT
DTSTART;TZID=America/Los_Angeles:20250822T200000
DTEND;TZID=America/Los_Angeles:20250822T220000
DTSTAMP:20260425T112734
CREATED:20250814T222402Z
LAST-MODIFIED:20250814T222402Z
UID:10000784-1755892800-1755900000@www.murrayhillrec.com
SUMMARY:Flix While you Float
DESCRIPTION:
URL:https://www.murrayhillrec.com/event/flix-while-you-float-5/
LOCATION:Hometown Center\, 11010 SW Teal Blvd\, Beaverton\, OR\, 97007\, United States
CATEGORIES:General
ORGANIZER;CN="Kristin Kebbe":MAILTO:am@murrayhillrec.com
GEO:45.4401283;-122.8365483
X-APPLE-STRUCTURED-LOCATION;VALUE=URI;X-ADDRESS=Hometown Center 11010 SW Teal Blvd Beaverton OR 97007 United States;X-APPLE-RADIUS=500;X-TITLE=11010 SW Teal Blvd:geo:-122.8365483,45.4401283
END:VEVENT
BEGIN:VEVENT
DTSTART;TZID=America/Los_Angeles:20250819T183000
DTEND;TZID=America/Los_Angeles:20250819T190000
DTSTAMP:20260425T112734
CREATED:20250814T221541Z
LAST-MODIFIED:20250814T221541Z
UID:10000783-1755628200-1755630000@www.murrayhillrec.com
SUMMARY:August Board Meeting
DESCRIPTION:6:30 in the Office
URL:https://www.murrayhillrec.com/event/august-board-meeting-2/
LOCATION:Hometown Center\, 11010 SW Teal Blvd\, Beaverton\, OR\, 97007\, United States
CATEGORIES:Board
ORGANIZER;CN="Kristin Kebbe":MAILTO:am@murrayhillrec.com
GEO:45.4401283;-122.8365483
X-APPLE-STRUCTURED-LOCATION;VALUE=URI;X-ADDRESS=Hometown Center 11010 SW Teal Blvd Beaverton OR 97007 United States;X-APPLE-RADIUS=500;X-TITLE=11010 SW Teal Blvd:geo:-122.8365483,45.4401283
END:VEVENT
BEGIN:VEVENT
DTSTART;TZID=America/Los_Angeles:20250816T170000
DTEND;TZID=America/Los_Angeles:20250816T230000
DTSTAMP:20260425T112734
CREATED:20250724T191123Z
LAST-MODIFIED:20250724T191218Z
UID:10000767-1755363600-1755385200@www.murrayhillrec.com
SUMMARY:HTC Reserved
DESCRIPTION:Lot 604
URL:https://www.murrayhillrec.com/event/htc-reserved-268/
LOCATION:Hometown Center\, 11010 SW Teal Blvd\, Beaverton\, OR\, 97007\, United States
CATEGORIES:Hometown Center
ORGANIZER;CN="Kristin Kebbe":MAILTO:am@murrayhillrec.com
GEO:45.4401283;-122.8365483
X-APPLE-STRUCTURED-LOCATION;VALUE=URI;X-ADDRESS=Hometown Center 11010 SW Teal Blvd Beaverton OR 97007 United States;X-APPLE-RADIUS=500;X-TITLE=11010 SW Teal Blvd:geo:-122.8365483,45.4401283
END:VEVENT
BEGIN:VEVENT
DTSTART;TZID=America/Los_Angeles:20250816T090000
DTEND;TZID=America/Los_Angeles:20250816T160000
DTSTAMP:20260425T112734
CREATED:20250328T234852Z
LAST-MODIFIED:20250724T190733Z
UID:10000727-1755334800-1755360000@www.murrayhillrec.com
SUMMARY:HTC Reserved
DESCRIPTION:Pam
URL:https://www.murrayhillrec.com/event/htc-reserved-246/
LOCATION:Hometown Center\, 11010 SW Teal Blvd\, Beaverton\, OR\, 97007\, United States
CATEGORIES:Hometown Center
ORGANIZER;CN="Kristin Kebbe":MAILTO:am@murrayhillrec.com
GEO:45.4401283;-122.8365483
X-APPLE-STRUCTURED-LOCATION;VALUE=URI;X-ADDRESS=Hometown Center 11010 SW Teal Blvd Beaverton OR 97007 United States;X-APPLE-RADIUS=500;X-TITLE=11010 SW Teal Blvd:geo:-122.8365483,45.4401283
END:VEVENT
BEGIN:VEVENT
DTSTART;TZID=America/Los_Angeles:20250810T160000
DTEND;TZID=America/Los_Angeles:20250810T230000
DTSTAMP:20260425T112734
CREATED:20250623T174839Z
LAST-MODIFIED:20250623T174839Z
UID:10000758-1754841600-1754866800@www.murrayhillrec.com
SUMMARY:HTC Reserved
DESCRIPTION:Lot 630
URL:https://www.murrayhillrec.com/event/htc-reserved-267/
LOCATION:Hometown Center\, 11010 SW Teal Blvd\, Beaverton\, OR\, 97007\, United States
CATEGORIES:Hometown Center
ORGANIZER;CN="Kristin Kebbe":MAILTO:am@murrayhillrec.com
GEO:45.4401283;-122.8365483
X-APPLE-STRUCTURED-LOCATION;VALUE=URI;X-ADDRESS=Hometown Center 11010 SW Teal Blvd Beaverton OR 97007 United States;X-APPLE-RADIUS=500;X-TITLE=11010 SW Teal Blvd:geo:-122.8365483,45.4401283
END:VEVENT
BEGIN:VEVENT
DTSTART;TZID=America/Los_Angeles:20250802T080000
DTEND;TZID=America/Los_Angeles:20250802T160000
DTSTAMP:20260425T112734
CREATED:20250606T223719Z
LAST-MODIFIED:20250606T223719Z
UID:10000754-1754121600-1754150400@www.murrayhillrec.com
SUMMARY:Swim Meet
DESCRIPTION:Championship Swim Meet
URL:https://www.murrayhillrec.com/event/swim-meet-2/
LOCATION:Hometown Center\, 11010 SW Teal Blvd\, Beaverton\, OR\, 97007\, United States
CATEGORIES:General,Hometown Center,Swim Team
ORGANIZER;CN="Kristin Kebbe":MAILTO:am@murrayhillrec.com
GEO:45.4401283;-122.8365483
X-APPLE-STRUCTURED-LOCATION;VALUE=URI;X-ADDRESS=Hometown Center 11010 SW Teal Blvd Beaverton OR 97007 United States;X-APPLE-RADIUS=500;X-TITLE=11010 SW Teal Blvd:geo:-122.8365483,45.4401283
END:VEVENT
BEGIN:VEVENT
DTSTART;TZID=America/Los_Angeles:20250801T160000
DTEND;TZID=America/Los_Angeles:20250801T210000
DTSTAMP:20260425T112734
CREATED:20250606T223750Z
LAST-MODIFIED:20250606T223750Z
UID:10000755-1754064000-1754082000@www.murrayhillrec.com
SUMMARY:Swim Meet Prep
DESCRIPTION:
URL:https://www.murrayhillrec.com/event/swim-meet-prep/
LOCATION:Hometown Center\, 11010 SW Teal Blvd\, Beaverton\, OR\, 97007\, United States
CATEGORIES:General,Hometown Center,Swim Team
ORGANIZER;CN="Kristin Kebbe":MAILTO:am@murrayhillrec.com
GEO:45.4401283;-122.8365483
X-APPLE-STRUCTURED-LOCATION;VALUE=URI;X-ADDRESS=Hometown Center 11010 SW Teal Blvd Beaverton OR 97007 United States;X-APPLE-RADIUS=500;X-TITLE=11010 SW Teal Blvd:geo:-122.8365483,45.4401283
END:VEVENT
BEGIN:VEVENT
DTSTART;VALUE=DATE:20250731
DTEND;VALUE=DATE:20250801
DTSTAMP:20260425T112734
CREATED:20250725T183439Z
LAST-MODIFIED:20250725T183439Z
UID:10000778-1753920000-1754006399@www.murrayhillrec.com
SUMMARY:HTC Reserved
DESCRIPTION:Swim Team Pasta Party and Sign Making
URL:https://www.murrayhillrec.com/event/htc-reserved-279/
LOCATION:Hometown Center\, 11010 SW Teal Blvd\, Beaverton\, OR\, 97007\, United States
CATEGORIES:Hometown Center,Swim Team
ATTACH;FMTTYPE=image/jpeg:https://www.murrayhillrec.com/wp-content/uploads/2015/12/MurrayHill-swimteam.jpg
ORGANIZER;CN="Kristin Kebbe":MAILTO:am@murrayhillrec.com
GEO:45.4401283;-122.8365483
X-APPLE-STRUCTURED-LOCATION;VALUE=URI;X-ADDRESS=Hometown Center 11010 SW Teal Blvd Beaverton OR 97007 United States;X-APPLE-RADIUS=500;X-TITLE=11010 SW Teal Blvd:geo:-122.8365483,45.4401283
END:VEVENT
BEGIN:VEVENT
DTSTART;TZID=America/Los_Angeles:20250729T160000
DTEND;TZID=America/Los_Angeles:20250729T230000
DTSTAMP:20260425T112734
CREATED:20250106T215222Z
LAST-MODIFIED:20250627T211948Z
UID:10000700-1753804800-1753830000@www.murrayhillrec.com
SUMMARY:HTC Reserved*
DESCRIPTION:Bunco – Self Clean
URL:https://www.murrayhillrec.com/event/htc-reserved-234/
LOCATION:Hometown Center\, 11010 SW Teal Blvd\, Beaverton\, OR\, 97007\, United States
CATEGORIES:Hometown Center
ORGANIZER;CN="Kristin Kebbe":MAILTO:am@murrayhillrec.com
GEO:45.4401283;-122.8365483
X-APPLE-STRUCTURED-LOCATION;VALUE=URI;X-ADDRESS=Hometown Center 11010 SW Teal Blvd Beaverton OR 97007 United States;X-APPLE-RADIUS=500;X-TITLE=11010 SW Teal Blvd:geo:-122.8365483,45.4401283
END:VEVENT
BEGIN:VEVENT
DTSTART;TZID=America/Los_Angeles:20250726T160000
DTEND;TZID=America/Los_Angeles:20250726T230000
DTSTAMP:20260425T112734
CREATED:20250725T183748Z
LAST-MODIFIED:20250725T183748Z
UID:10000779-1753545600-1753570800@www.murrayhillrec.com
SUMMARY:HTC Reserved
DESCRIPTION:Lot 202
URL:https://www.murrayhillrec.com/event/htc-reserved-280/
LOCATION:Hometown Center\, 11010 SW Teal Blvd\, Beaverton\, OR\, 97007\, United States
CATEGORIES:Hometown Center
ORGANIZER;CN="Kristin Kebbe":MAILTO:am@murrayhillrec.com
GEO:45.4401283;-122.8365483
X-APPLE-STRUCTURED-LOCATION;VALUE=URI;X-ADDRESS=Hometown Center 11010 SW Teal Blvd Beaverton OR 97007 United States;X-APPLE-RADIUS=500;X-TITLE=11010 SW Teal Blvd:geo:-122.8365483,45.4401283
END:VEVENT
BEGIN:VEVENT
DTSTART;TZID=America/Los_Angeles:20250725T190000
DTEND;TZID=America/Los_Angeles:20250725T213000
DTSTAMP:20260425T112734
CREATED:20250714T192250Z
LAST-MODIFIED:20250723T213111Z
UID:10000765-1753470000-1753479000@www.murrayhillrec.com
SUMMARY:Flix While You Float
DESCRIPTION:
URL:https://www.murrayhillrec.com/event/flix-while-you-float-4/
LOCATION:Hometown Center\, 11010 SW Teal Blvd\, Beaverton\, OR\, 97007\, United States
CATEGORIES:General
ATTACH;FMTTYPE=image/jpeg:https://www.murrayhillrec.com/wp-content/uploads/2025/07/WallE.jpg
ORGANIZER;CN="Kristin Kebbe":MAILTO:am@murrayhillrec.com
GEO:45.4401283;-122.8365483
X-APPLE-STRUCTURED-LOCATION;VALUE=URI;X-ADDRESS=Hometown Center 11010 SW Teal Blvd Beaverton OR 97007 United States;X-APPLE-RADIUS=500;X-TITLE=11010 SW Teal Blvd:geo:-122.8365483,45.4401283
END:VEVENT
BEGIN:VEVENT
DTSTART;VALUE=DATE:20250712
DTEND;VALUE=DATE:20250713
DTSTAMP:20260425T112734
CREATED:20250524T195925Z
LAST-MODIFIED:20250524T200548Z
UID:10000746-1752278400-1752364799@www.murrayhillrec.com
SUMMARY:HTC Reserved
DESCRIPTION:Swim Team Home Meet
URL:https://www.murrayhillrec.com/event/htc-reserved-262/
LOCATION:Hometown Center\, 11010 SW Teal Blvd\, Beaverton\, OR\, 97007\, United States
CATEGORIES:Hometown Center,Swim Team
ATTACH;FMTTYPE=image/jpeg:https://www.murrayhillrec.com/wp-content/uploads/2015/12/MurrayHill.jpg
ORGANIZER;CN="Kristin Kebbe":MAILTO:am@murrayhillrec.com
GEO:45.4401283;-122.8365483
X-APPLE-STRUCTURED-LOCATION;VALUE=URI;X-ADDRESS=Hometown Center 11010 SW Teal Blvd Beaverton OR 97007 United States;X-APPLE-RADIUS=500;X-TITLE=11010 SW Teal Blvd:geo:-122.8365483,45.4401283
END:VEVENT
BEGIN:VEVENT
DTSTART;TZID=America/Los_Angeles:20250711T160000
DTEND;TZID=America/Los_Angeles:20250711T230000
DTSTAMP:20260425T112734
CREATED:20250524T200014Z
LAST-MODIFIED:20250524T200014Z
UID:10000747-1752249600-1752274800@www.murrayhillrec.com
SUMMARY:HTC Reserved
DESCRIPTION:Swim Team Meet prep
URL:https://www.murrayhillrec.com/event/htc-reserved-263/
LOCATION:Hometown Center\, 11010 SW Teal Blvd\, Beaverton\, OR\, 97007\, United States
CATEGORIES:Hometown Center,Swim Team
ORGANIZER;CN="Kristin Kebbe":MAILTO:am@murrayhillrec.com
GEO:45.4401283;-122.8365483
X-APPLE-STRUCTURED-LOCATION;VALUE=URI;X-ADDRESS=Hometown Center 11010 SW Teal Blvd Beaverton OR 97007 United States;X-APPLE-RADIUS=500;X-TITLE=11010 SW Teal Blvd:geo:-122.8365483,45.4401283
END:VEVENT
END:VCALENDAR