BEGIN:VCALENDAR
VERSION:2.0
PRODID:-//Murrayhill Recreation Association - ECPv6.15.17.1//NONSGML v1.0//EN
CALSCALE:GREGORIAN
METHOD:PUBLISH
X-ORIGINAL-URL:https://www.murrayhillrec.com
X-WR-CALDESC:Events for Murrayhill Recreation Association
REFRESH-INTERVAL;VALUE=DURATION:PT1H
X-Robots-Tag:noindex
X-PUBLISHED-TTL:PT1H
BEGIN:VTIMEZONE
TZID:America/Los_Angeles
BEGIN:DAYLIGHT
TZOFFSETFROM:-0800
TZOFFSETTO:-0700
TZNAME:PDT
DTSTART:20150308T100000
END:DAYLIGHT
BEGIN:STANDARD
TZOFFSETFROM:-0700
TZOFFSETTO:-0800
TZNAME:PST
DTSTART:20151101T090000
END:STANDARD
BEGIN:DAYLIGHT
TZOFFSETFROM:-0800
TZOFFSETTO:-0700
TZNAME:PDT
DTSTART:20160313T100000
END:DAYLIGHT
BEGIN:STANDARD
TZOFFSETFROM:-0700
TZOFFSETTO:-0800
TZNAME:PST
DTSTART:20161106T090000
END:STANDARD
BEGIN:DAYLIGHT
TZOFFSETFROM:-0800
TZOFFSETTO:-0700
TZNAME:PDT
DTSTART:20170312T100000
END:DAYLIGHT
BEGIN:STANDARD
TZOFFSETFROM:-0700
TZOFFSETTO:-0800
TZNAME:PST
DTSTART:20171105T090000
END:STANDARD
END:VTIMEZONE
BEGIN:VEVENT
DTSTART;TZID=America/Los_Angeles:20160620T090000
DTEND;TZID=America/Los_Angeles:20160620T220000
DTSTAMP:20260425T140306
CREATED:20160527T211523Z
LAST-MODIFIED:20160527T211523Z
UID:10000071-1466413200-1466460000@www.murrayhillrec.com
SUMMARY:First Day of Swim Team Practice
DESCRIPTION:  \n  \nMonday\, June 20th: first day of practice 9:00 am \n  \nThursday\, June 23rd: Team meeting 6:00 pm – 8:00 pm in the Hometown Center \nAt the team meeting all swimmers will be assigned to their coaches and practice times and swim suits orders will be placed. All registration forms and payments are due at this time.  \nSaturday\, June 25th: Mock meet at Murrayhill Saturday\, July 9th: Home\, SAC and West Hills Saturday\, July 16th: Away at West Hills Saturday\, July 23rd: Home\, Irvington and Villa Sport Saturday\, July 30th: Home\, SAC and MAC Thursday\, August 4th: End of Season Party Saturday\, Aug 6th: Championship Meet at MHCC \n 
URL:https://www.murrayhillrec.com/event/first-day-of-swim-team-practice/
LOCATION:Unnamed Venue\, OR\, United States
CATEGORIES:Swim Team
ATTACH;FMTTYPE=image/jpeg:https://www.murrayhillrec.com/wp-content/uploads/2015/12/MurrayHill.jpg
ORGANIZER;CN="Kristin Kebbe":MAILTO:am@murrayhillrec.com
GEO:40.2968979;-111.6946475
END:VEVENT
END:VCALENDAR